Workbook
Name ARHINST: #REF!
Name ARHINST: #REF!
Name ARHINST: #REF!
Name ARHINST: #REF!
Name ARHINST: #REF!
Name ARHINST: #REF!
Name Cenovni_razred: #REF!
Name DANE: #REF!
Name DANE: #REF!
Name FAZE: #REF!
Name FAZE: #REF!
Name FAZE: #REF!
Name FAZE: #REF!
Name FAZE: #REF!
Name FAZE: #REF!
Name KONS: #REF!
Name KONS: #REF!
Name KONS: #REF!
Name KONS: #REF!
Name KONS: #REF!
Name KONS: #REF!
Name NOPREMA: #REF!
Name NOPREMA: #REF!
Name OBJEKT: #REF!
Name OBJEKT: #REF!
Name OBJEKT: #REF!
Name OBJEKT: #REF!
Name OBJEKT: #REF!
Name OBJEKT: #REF!
Name OPREMA: #REF!
Name OPREMA: #REF!
Name OPREMA: #REF!
Name OPREMA: #REF!
Name OPREMA: #REF!
Name OPREMA: #REF!
Name PID: #REF!
Name PID: #REF!
Name PID: #REF!
Name PID: #REF!
Name PID: #REF!
Name PID: #REF!
Name POVRŠINE: #REF!
Name POVRŠINE: #REF!
Name RAZREDARH: #REF!
Name RAZREDARH: #REF!
Name RAZREDIARH: #REF!
Name RAZREDIARH: #REF!
Name RAZREDIKONS: #REF!
Name RAZREDIKONS: #REF!
Name RAZREDKONS: #REF!
Name RAZREDKONS: #REF!
Name STAVBA: #REF!
Name STAVBA: #REF!
Name TEH: #REF!
Name TEH: #REF!
Name TEH: #REF!
Name TEH: #REF!
Name TEH: #REF!
Name TEH: #REF!
Name TEH: #REF!

Sheet NAVODILA
B3: ='OSNOVNI PODATKI'!B3 -> ARHIGRAM 6
B4: ='OSNOVNI PODATKI'!B4 -> Vrednotenje storitev na področju arhitekturnega in krajinskoarhitekturnega projektiranja
A5: ='OSNOVNI PODATKI'!$A$5 -> V 6.17 | B5: ='OSNOVNI PODATKI'!$B$5 -> september 2026
A7: NAVODILA
B9: Arhigram 7 je pripravljen na osnovi Standarda storitev Zbornice za arhitekturo in prostor Slovenije (ST ZAPS). Storitve določa ST ZAPS 01, vrednotenje storitev pa ST ZAPS 02. Kadar se ponudba za storitve pripravi v skladu s ST ZAPS, morajo biti storitve opravljene v skladu s tem standardom. Izpolnjujejo se samo okenca, označena z modro barvo. Vrednosti v poševni pisavi so informativne.
B11: Na listu OSNOVNI PODATKI najprej vpišite ime objekta ali dela objekta za vsak posamezen objekt ali del objekta. Nato izberite tipologijo za ta objekt ali del objekta, določite cenovne razrede za vsak posamezen del ter vpišite bruto oziroma neto tlorisno površino (BTP ali NTP).
B13: Če želite pridobiti informativne vrednosti tudi za storitve s področja tehničnega projektiranja oziroma izdelave dopolnilnih gradiv, je potrebno določiti cenovne razrede tudi za ta področja.
B15: Priporočeni cenovni razdredi za posamezna področja za vsak posamezen objekt ali del objekta se razberejo iz ustreznih tabel na listu CENOVNI RAZREDI. Če določanje po seznamu ni mogoče oziroma kadar gre za posebne primere, se razred določi s točkovanjem glede na posamezna merila za ocenjevanje, navedena na listu CENOVNI RAZREDI, ki kot rezultat določijo cenovni razred.
B17: Na podlagi vnešenih podatkov se bo za vsak objekt ali del objekta izračunalo priporočeno minimalno in maksimalno število NU za vse faze. Če želite uporabiti srednjo vrednost, v vrsticah od 358 dalje odkljukajte okence "uporabi srednjo vrednost števila NU", v naspretnem primeru pa vpišite željeno vrednost v okviru minimalne in maksimalne vrednosti NU.
B19: Za vsako področje, ki ga želite vključiti v izračun, je potrebno odkljukati ustrezno okence v poljih od A358 dalje. Število NU za izbrano področje se bo preneslo na list ARHIGRAM 6. Na listu ARHIGRAM 6 na enak način odkljukajte faze, ki jih želite vključiti v izračun.
B21: Na podlagi izbora tipologije in velikosti se bo za vsak del prikazala tudi informativna minimalna in maksimalna vrednost stroškov gradnje v EUR/m2, ki pa ne vpliva na izračun potrebnih NU, temveč služi zgolj kot informacija za primerjavo izračunanih vrednosti storitev s stroški gradnje objekta. Na podlagi podanih informativnih vrednosti določite vrednost, ki bo upoštevana v informativnem izračunu, in jo vpišite v ustrezno polje. Program bo izračunal oceno stroškov ter jo porazdelil med vrednosti del za GO, EI, SI in TH dela. Razmerja med temi deli so odvisna od izbrane tipologije objekta. Vrednosti ne vsebujejo DDV.
A23: NAROČANJE VEČJEGA ŠTEVILA OBJEKTOV
B25: Če naročilo vključuje več različnih objektov, se število NU izračuna za vsak objekt posebej ob upoštevanju določil tega standarda.
B27: Če naročilo vključuje več primerljivih objektov s pretežno podobnimi pogoji projektiranja, ki se jim lahko določi isti cenovni razred in ki bodo projektirani in zgrajeni v enakih ali zelo podobnih časovnih in lokacijskih okoliščinah, se število NU izračuna na podlagi seštevka površin vseh objektov.
B29: Če naročilo vključuje več v bistvenem delu enakih objektov, ki se načrtujejo in gradijo v enakih ali zelo podobnih časovnih in lokacijskih okoliščinah, ali če gre za več objektov v skladu s tipsko ali serijsko gradnjo, je treba za prvo do četrto ponovitev za fazi 1. Zagon in 2. Projektiranje znižati število NU za 50 odstotkov, za peto do sedmo ponovitev za 60 odstotkov in za vsako naslednjo ponovitev za 90 odstotkov.
B31: Če naročilo vključuje osnovne storitve, ki so bile že predmet drugega naročila med pogodbenima strankama za v bistvenem delu enak objekt, se za novo naročilo uporabijo določila prejšnjega odstavka, tudi če osnovne storitve niso bile izvedene v enakih ali zelo podobnih časovnih in lokacijskih okoliščinah.
A33: ENOTNO NAROČILO PROJEKTIRANJA RAZLIČNIH VRST OBJEKTOV
B35: Kadar gre za enotno naročilo osnovnih storitev za projektiranje stavbe in ureditve pripadajočega odprtega prostora in kadar površina ureditve odprtega prostora ne presega 50 m2, je število NU za osnovne storitve pri projektiranju ureditev odprtega prostora za podfazi 2.1. Snovanje in 2.2. Idejno projektiranje že določeno v okviru maksimalnega števila NU za projektiranje stavb.
B37: Kadar gre za enotno naročilo osnovnih storitev za projektiranje stavbe in notranje opreme za isto stavbo in kadar obračunski stroški notranje opreme ne presegajo 10.00 evrov, je število NU za osnovne storitve pri projektiranju notranje opreme za podfazi 2.1. Snovanje in 2.2. Idejno projektiranje že določeno v okviru maksimalnega števila NU za projektiranje stavb.
A39: LOČENO NAROČANJE NEKATERIH PODFAZ
B40: Kadar se podfaze 2.1. Snovanje, 2.2. Idejno projektiranje, 2.3. Priprava dokumentacije za dovoljevanje, 2.4. Projektiranje za izvedbo ali 4.2. Izvajanje gradnje naročajo posamično oziroma se nekatere podfaze izpuščajo, se ustrezen delež NU določi na naslednji način:
B41: Za podfazo 2.1. Snovanje se lahko določi največ seštevek odstotnih deležev podfaz 2.1. Snovanje in 1.1. Zagon projekta.
B42: Za podfazo 2.2. Idejno projektiranje se lahko določi največ seštevek odstotnih deležev podfaz 2.2. Idejno projektiranje in 2.1. Snovanje.
B43: Za podfazo 2.3. Priprava dokumentacije za dovoljevanje se lahko določi največ seštevek odstotnih deležev podfaz 2.3. Priprava dokumentacije za dovoljevanje in 2.2. Idejno projektiranje.
B44: Za podfazo 2.4. Projektiranje za izvedbo se lahko določi največ seštevek odstotnih deležev podfaz 2.3. Projektiranje za izvedbo in 2.2. Idejno projektiranje.
B45: Za podfazo 4.2. Izvajanje gradnje, kadar gre za načrtovanje stavb, se določi največ seštevek odstotnih deležev podfaz 4.2. Izvajanje gradnje, 1.1. Zagon projekta in 2.1. Snovanje.
B46: Vrednosti se ne izračunavajo avtomatično, temveč jih po lastni presoji upošteva ponudnik pri pripravi ponudbe oziroma pogodbe.
B48: Za več informacij glej tudi:
B49: STANDARD ZAPS
B50: PRIPOMOČEK ZA PRIPRAVO PONUDBE
A52: LISTI
A54: OSNOVNI PODATKI
B55: List za vnos vseh podatkov.
A57: CENOVNI RAZREDI
B58: List s podatki o priporočenih cenovnih razredih in drugimi podatki, potrebnimi za izračun.
A60: ARHIGRAM 7
B61: List z izračunom vrednosti po Arhigramu, razporejenimi po fazah in podfazah življenjskega cikla objektov ter dodatno še izvleček po posameznih področjih.
A63: OSNOVNE STORITVE
B64: PRILOGA C: ROKI IN POGOJI ZA IZVEDBO, CENA TER POGOJI ZA PLAČILO - TABELA 1: OSNOVNE STORITVE k Pripomočku za pripravo ponudbe po ST ZAPS. Tabela ni avtomatizirana temveč se izpolni ročno. Priporočljivo je, da kadar posamezna faza ni vključena v ponudbo, vrstic ne brišete, temveč vpišete besedilo "NI VKLJUČENO V PONUDBO". Namig: okvirno potrebno število delovnih dni lahko izračunate tako, da število NU najprej delite s številom predvidenih efektivnih ur na dan (na primer 6), nato pa še s številom delavcev, ki bodo delali na projektu.
A66: POSEBNE STORITVE
B67: PRILOGA C: ROKI IN POGOJI ZA IZVEDBO, CENA TER POGOJI ZA PLAČILO - TABELA 2: POSEBNE STORITVE k Pripomočku za pripravo ponudbe po ST ZAPS. Seznam ni avtomatiziran temveč se izpolni ročno. Seznam se priloži le kadar so v ponudbo vključene tudi posebne storitve.
A69: VREDNOST NU
B70: List s pripomočkom za izračun povprečne vrednosti NU za posamezen arhitekturni biro. Vrednosti so informativne in se razlikujejo glede na organizacijo posameznega biroja.
A72: OSTALI LISTI
B73: Listi, na katerih se izvajajo računske operacije za izračunavanje vrednosti za projektiranje objektov in podporno oziroma tehnično projektiranje.
A75: POPRAVKI
A77: 6.12
B78: Odklenjeno polje za vnos vrednosti NU na zavihku Arhigram 6.
A80: 6.13 | B80: Popravljen sklic v polju I378 in I380 na zavihku OSNOVNI PODATKI (popravek nima vpliva na izračun).
B81: Popravljeno navodilo glede gradnje več enakih objektov (usklajeno s ST ZAPS 02:2023, popravek nima vpliva na izračun)
B82: Izbrisane neaktivne opcije za izbiro posebnih storitev na listu OSNOVNI PODATKI (popravek nima vpliva na izračun)
B83: Posodobljena navodila.
B84: Naslovi listov OSNOVNE STORITVE IN POSEBNE STORITVE usklajeni s Pripomočkom za pripravo ponudbe.
A86: 6.14 | B86: Dopolnjena navodila glede naročanja večjega števila objektov.
B87: Dodano navodilo glede naročanja posameznih faz in glede enotnega naročanja različnih vrst objektov.
B88: Izračun števila NU za področje prostorske akustike omejen do 30.000 m2.
B89: Dodane vrednosti za prostorsko akustiko za podfazo 4.5. na zavihku Arhigram 6.
B90: Popravljen izračun števila NU za požarno varnost.
B91: Popravljeno javljanje napake pri enačbah za izračunvanje odstotnih vrednosti glede na vrednost stroškov gradnje na zavihku Arhigram v primeru da stroški gradnje niso določeni (popravek nima vpliva na izračun).
B92: Posodobljene informativne vrednosti stroškov gradnje za stavbe in odprti prostor (popravek nima vpliva na izračun).
B93: Popravljena napaka v fazi 5. Obratovanje - pribitek za prenovo v tej fazi ni upoštevan.
B94: Popravljena napaka v izračunih vrednosti vodenja projektiranja - pribitek za vključevanje drugih izvajalcev v pogodbo ni upoštevan.
B95: Dopolnjeni manjkajoči indeksi za objekte odptega prostora.
A97: 6.15 | B97: Popravljen sklic na cenovne razrede pri prostorski akustiki.
B98: Popravljen seštevek NU in EUR na zavihku Arhigram 6 pod točko 4.5 Dovoljenje za uporabo.
A100: 6.16 | B100: Optimiziran način izračunavanja NU za požarno varnost.
B101: Zaokroževanje števila NU na eno decimalko se izvede šele v izračunu NU za posamezno podfazo namesto v izračunu srednje vrednosti št NU za posamezen objekt, ki je povzročila manjšo natančnost.
B102: Dodane opombe za naročanje posameznih faz in naročanje večjega števila objektov v skladu s ST ZAPS.
B103: Popravljena napaka pri izračunu števila NU za tehnologijo faza 2.4.
A105: 6.17 | B105: Spremenjen način izračunavanja NU za storitve na področju notranje opreme.
B106: Spremenjeno razmerje odstotnih vrednosti v fazi 2. Projektiranje na račun zmanjšanja podfaze 2.5 Priprava gradiv za naročilo gradnje.
B109: ='OSNOVNI PODATKI'!$B$386 -> © 2026 ZAPS, vse pravice pridržane

Sheet OSNOVNI PODATKI
D1: NAROČNIK
B3: ARHIGRAM 6 | D3: PROJEKTANT
B4: Vrednotenje storitev na področju arhitekturnega in krajinskoarhitekturnega projektiranja | D4: GRADNJA
A5: V 6.17 | B5: september 2026 | D5: DATUM | E5: =TODAY() -> 46278
A7: OSNOVNI PODATKI
A9: STAVBA
B11: ENA STAVBA Z RAZLIČNIMI DELI (PRI IZRAČUNU POTREBNIH NU SE UPOŠTEVA SEŠTEVEK POVRŠIN VSEH DELOV) | H11: 2
B12: ENA STAVBA ALI VEČ RAZLIČNIH STAVB (PRI IZRAČUNU POTREBNIH NU SE VSAKA STAVBA IZRAČUNAVA LOČENO)
B13: VEČ ENAKIH STAVB - IZRAČUNA SE ŠTEVILO NU ZA ENO STAVBO, NATO PA SE V PONUDBO NAVEDE USTREZNO VREDNOST V SKLADU Z NAVODILI
A15: STAVBA 1 / DEL 1
B16: TIPOLOGIJA | E16: 5. Nepodkletene eno in dvostanovanjske stavbe, nižji standard
B17: BRUTO POVRŠINA | E17: 0 | F17: m2
B18: CENOVNI RAZRED - ARHITEKTURA | E18: Cenovni razred III
B19: CENOVNI RAZRED - GRADBENE KONSTRUKCIJE | E19: Cenovni razred III
B20: CENOVNI RAZRED - ELEKTRIČNE INSTALACIJE | E20: Cenovni razred II
B21: CENOVNI RAZRED - STROJNE INSTALACIJE | E21: Cenovni razred II
B22: CENOVNI RAZRED - TEHNOLOGIJA | E22: Cenovni razred II
B23: CENOVNI RAZRED - POŽARNA VARNOST | E23: Cenovni razred II
B24: CENOVNI RAZRED - UČINKOVITA RABA ENERGIJE | E24: =E18 -> Cenovni razred III
B25: CENOVNI RAZRED - ZAŠČITA PRED HRUPOM | E25: Cenovni razred II
B26: CENOVNI RAZRED - PROSTORSKA AKUSTIKA | E26: Cenovni razred III
B27: INDEKS TIPOLOGIJA | E27: =_xlfn.IFNA(VLOOKUP(E16,'CENOVNI RAZREDI'!$B$7:$Q$92,16,FALSE),"/") -> -105.4
B29: INFORMATIVNA OCENA STROŠKOV GRADNJE
B30: INFORMATIVNA VREDNOST STROŠKOV GRADNJE EUR/m2 BTP | E30: =_xlfn.IFNA(CONCATENATE(VLOOKUP(E16,'CENOVNI RAZREDI'!$B$7:$J$92,8,FALSE)," - ",VLOOKUP(E16,'CENOVNI RAZREDI'!$B$7:$J$92,9,FALSE)),"") -> 993,72 - 1332,24 | F30: EUR/m2
B31: IZBRANA VREDNOST STROŠKOV GRADNJE EUR/m2 BEP | F31: EUR/m2
B32: OCENA STROŠKOV GRADNJE | E32: =E17*E31 -> 0 | F32: EUR
B33: GRADBENO OBRTNIŠKA DELA (GO) | D33: =_xlfn.IFNA(VLOOKUP(E16,'CENOVNI RAZREDI'!$B$7:$N$92,10,FALSE),0) -> 0.817 | E33: =D33*E32 -> 0 | F33: EUR
B34: ELEKTRIČNE INŠTALACIJE (EI) | D34: =_xlfn.IFNA(VLOOKUP(E16,'CENOVNI RAZREDI'!$B$7:$N$92,12,FALSE),0) -> 0.0345544 | E34: =D34*E32 -> 0 | F34: EUR
B35: STROJNE INŠTALACIJE (SI) | D35: =_xlfn.IFNA(VLOOKUP(E16,'CENOVNI RAZREDI'!$B$7:$N$92,11,FALSE),0) -> 0.14823 | E35: =D35*E32 -> 0 | F35: EUR
B36: TEHNOLOGIJA (TH) | D36: =_xlfn.IFNA(VLOOKUP(E16,'CENOVNI RAZREDI'!$B$7:$N$92,13,FALSE),0) -> 0 | E36: =D36*E32 -> 0 | F36: EUR
B38: MINIMALNO ŠTEVILO NU | E38: =IFERROR(STAVBE!C27,0) -> 0 | F38: NU
B39: MAKSIMALNO ŠTEVILO NU | E39: =IFERROR(STAVBE!C28,0) -> 0 | F39: NU
A41: STAVBA 2 / DEL 2
B42: TIPOLOGIJA | E42: 6. Nepodkletene eno in dvostanovanjske stavbe, srednji standard
B43: BRUTO POVRŠINA | E43: 0 | F43: m2
B44: CENOVNI RAZRED - ARHITEKTURA | E44: Cenovni razred III
B45: CENOVNI RAZRED - GRADBENE KONSTRUKCIJE | E45: Cenovni razred III
B46: CENOVNI RAZRED - ELEKTRIČNE INSTALACIJE | E46: Cenovni razred II
B47: CENOVNI RAZRED - STROJNE INSTALACIJE | E47: Cenovni razred II
B48: CENOVNI RAZRED - TEHNOLOGIJA | E48: Cenovni razred II
B49: CENOVNI RAZRED - POŽARNA VARNOST | E49: Cenovni razred II
B50: CENOVNI RAZRED - UČINKOVITA RABA ENERGIJE | E50: =E44 -> Cenovni razred III
B51: CENOVNI RAZRED - ZAŠČITA PRED HRUPOM | E51: Cenovni razred II
B52: CENOVNI RAZRED - PROSTORSKA AKUSTIKA | E52: Cenovni razred III
B53: INDEKS TIPOLOGIJA | E53: =_xlfn.IFNA(VLOOKUP(E42,'CENOVNI RAZREDI'!$B$7:$Q$92,16,FALSE),"/") -> 230.6
B55: INFORMATIVNA OCENA STROŠKOV GRADNJE
B56: INFORMATIVNA VREDNOST STROŠKOV GRADNJE EUR/m2 BTP | E56: =_xlfn.IFNA(CONCATENATE(VLOOKUP(E42,'CENOVNI RAZREDI'!$B$7:$J$92,8,FALSE)," - ",VLOOKUP(E42,'CENOVNI RAZREDI'!$B$7:$J$92,9,FALSE)),"") -> 1310,4 - 1889,16 | F56: EUR/m2
B57: IZBRANA VREDNOST STROŠKOV GRADNJE EUR/m2 BEP | E57: 0 | F57: EUR/m2
B58: OCENA STROŠKOV GRADNJE | E58: =E43*E57 -> 0 | F58: EUR
B59: GRADBENO OBRTNIŠKA DELA (GO) | D59: =_xlfn.IFNA(VLOOKUP(E42,'CENOVNI RAZREDI'!$B$7:$N$92,10,FALSE),0) -> 0.808 | E59: =D59*E58 -> 0 | F59: EUR
B60: ELEKTRIČNE INŠTALACIJE (EI) | D60: =_xlfn.IFNA(VLOOKUP(E42,'CENOVNI RAZREDI'!$B$7:$N$92,12,FALSE),0) -> 0.044544 | E60: =D60*E58 -> 0 | F60: EUR
B61: STROJNE INŠTALACIJE (SI) | D61: =_xlfn.IFNA(VLOOKUP(E42,'CENOVNI RAZREDI'!$B$7:$N$92,11,FALSE),0) -> 0.147648 | E61: =D61*E58 -> 0 | F61: EUR
B62: TEHNOLOGIJA (TH) | D62: =_xlfn.IFNA(VLOOKUP(E42,'CENOVNI RAZREDI'!$B$7:$N$92,13,FALSE),0) -> 0 | E62: =D62*E58 -> 0 | F62: EUR
B64: MINIMALNO ŠTEVILO NU | E64: =IFERROR(STAVBE!C49,0) -> 0 | F64: NU
B65: MAKSIMALNO ŠTEVILO NU | E65: =IFERROR(STAVBE!C50,0) -> 0 | F65: NU
A67: STAVBA 3 / DEL 3
B68: TIPOLOGIJA | E68: 47. Hoteli, moteli
B69: BRUTO POVRŠINA | E69: 0 | F69: m2
B70: CENOVNI RAZRED - ARHITEKTURA | E70: Cenovni razred III
B71: CENOVNI RAZRED - GRADBENE KONSTRUKCIJE | E71: Cenovni razred III
B72: CENOVNI RAZRED - ELEKTRIČNE INSTALACIJE | E72: Cenovni razred II
B73: CENOVNI RAZRED - STROJNE INSTALACIJE | E73: Cenovni razred II
B74: CENOVNI RAZRED - TEHNOLOGIJA | E74: Cenovni razred II
B75: CENOVNI RAZRED - POŽARNA VARNOST | E75: Cenovni razred II
B76: CENOVNI RAZRED - UČINKOVITA RABA ENERGIJE | E76: =E70 -> Cenovni razred III
B77: CENOVNI RAZRED - ZAŠČITA PRED HRUPOM | E77: Cenovni razred II
B78: CENOVNI RAZRED - PROSTORSKA AKUSTIKA | E78: Cenovni razred III
B79: INDEKS TIPOLOGIJA | E79: =_xlfn.IFNA(VLOOKUP(E68,'CENOVNI RAZREDI'!$B$7:$Q$92,16,FALSE),"/") -> 646.4
B81: INFORMATIVNA OCENA STROŠKOV GRADNJE
B82: INFORMATIVNA VREDNOST STROŠKOV GRADNJE EUR/m2 BTP | E82: =_xlfn.IFNA(CONCATENATE(VLOOKUP(E68,'CENOVNI RAZREDI'!$B$7:$J$92,8,FALSE)," - ",VLOOKUP(E68,'CENOVNI RAZREDI'!$B$7:$J$92,9,FALSE)),"") -> 1769,04 - 2511,6 | F82: EUR/m2
B83: IZBRANA VREDNOST STROŠKOV GRADNJE EUR/m2 BEP | E83: 0 | F83: EUR/m2
B84: OCENA STROŠKOV GRADNJE | E84: =E69*E83 -> 0 | F84: EUR
B85: GRADBENO OBRTNIŠKA DELA (GO) | D85: =_xlfn.IFNA(VLOOKUP(E68,'CENOVNI RAZREDI'!$B$7:$N$92,10,FALSE),0) -> 0.704 | E85: =D85*E84 -> 0 | F85: EUR
B86: ELEKTRIČNE INŠTALACIJE (EI) | D86: =_xlfn.IFNA(VLOOKUP(E68,'CENOVNI RAZREDI'!$B$7:$N$92,12,FALSE),0) -> 0.1350672 | E86: =D86*E84 -> 0 | F86: EUR
B87: STROJNE INŠTALACIJE (SI) | D87: =_xlfn.IFNA(VLOOKUP(E68,'CENOVNI RAZREDI'!$B$7:$N$92,11,FALSE),0) -> 0.118992 | E87: =D87*E84 -> 0 | F87: EUR
B88: TEHNOLOGIJA (TH) | D88: =_xlfn.IFNA(VLOOKUP(E68,'CENOVNI RAZREDI'!$B$7:$N$92,13,FALSE),0) -> 0.041736 | E88: =D88*E84 -> 0 | F88: EUR
B90: MINIMALNO ŠTEVILO NU | E90: =IFERROR(STAVBE!C71,0) -> 0 | F90: NU
B91: MAKSIMALNO ŠTEVILO NU | E91: =IFERROR(STAVBE!C72,0) -> 0 | F91: NU
A93: STAVBA 4 / DEL 4
B94: TIPOLOGIJA | E94: 17. Šole z nadpovprečnimi načrtovalskimi potrebami - izobraževalni centri, visoke šole, univerze, akademije
B95: BRUTO POVRŠINA | E95: 0 | F95: m2
B96: CENOVNI RAZRED - ARHITEKTURA | E96: Cenovni razred III
B97: CENOVNI RAZRED - GRADBENE KONSTRUKCIJE | E97: Cenovni razred III
B98: CENOVNI RAZRED - ELEKTRIČNE INSTALACIJE | E98: Cenovni razred II
B99: CENOVNI RAZRED - STROJNE INSTALACIJE | E99: Cenovni razred II
B100: CENOVNI RAZRED - TEHNOLOGIJA | E100: Cenovni razred II
B101: CENOVNI RAZRED - POŽARNA VARNOST | E101: Cenovni razred II
B102: CENOVNI RAZRED - UČINKOVITA RABA ENERGIJE | E102: =E96 -> Cenovni razred III
B103: CENOVNI RAZRED - ZAŠČITA PRED HRUPOM | E103: Cenovni razred II
B104: CENOVNI RAZRED - PROSTORSKA AKUSTIKA | E104: Cenovni razred III
B105: INDEKS TIPOLOGIJA | E105: =_xlfn.IFNA(VLOOKUP(E94,'CENOVNI RAZREDI'!$B$7:$Q$92,16,FALSE),"/") -> 785
B107: INFORMATIVNA OCENA STROŠKOV GRADNJE
B108: INFORMATIVNA VREDNOST STROŠKOV GRADNJE EUR/m2 BTP | E108: =_xlfn.IFNA(CONCATENATE(VLOOKUP(E94,'CENOVNI RAZREDI'!$B$7:$J$92,8,FALSE)," - ",VLOOKUP(E94,'CENOVNI RAZREDI'!$B$7:$J$92,9,FALSE)),"") -> 2020,2 - 2620,8 | F108: EUR/m2
B109: IZBRANA VREDNOST STROŠKOV GRADNJE EUR/m2 BEP | E109: 0 | F109: EUR/m2
B110: OCENA STROŠKOV GRADNJE | E110: =E95*E109 -> 0 | F110: EUR
B111: GRADBENO OBRTNIŠKA DELA (GO) | D111: =_xlfn.IFNA(VLOOKUP(E94,'CENOVNI RAZREDI'!$B$7:$N$92,10,FALSE),0) -> 0.762 | E111: =D111*E110 -> 0 | F111: EUR
B112: ELEKTRIČNE INŠTALACIJE (EI) | D112: =_xlfn.IFNA(VLOOKUP(E94,'CENOVNI RAZREDI'!$B$7:$N$92,12,FALSE),0) -> 0.07973 | E112: =D112*E110 -> 0 | F112: EUR
B113: STROJNE INŠTALACIJE (SI) | D113: =_xlfn.IFNA(VLOOKUP(E94,'CENOVNI RAZREDI'!$B$7:$N$92,11,FALSE),0) -> 0.118762 | E113: =D113*E110 -> 0 | F113: EUR
B114: TEHNOLOGIJA (TH) | D114: =_xlfn.IFNA(VLOOKUP(E94,'CENOVNI RAZREDI'!$B$7:$N$92,13,FALSE),0) -> 0.039508 | E114: =D114*E110 -> 0 | F114: EUR
B116: MINIMALNO ŠTEVILO NU | E116: =IFERROR(STAVBE!C93,0) -> 0 | F116: NU
...

Sheet CENOVNI RAZREDI
B1: SEZNAMI STANDARDNIH PRIMEROV | S1: =0.84*R2 -> 1.092
C2: I | D2: II | E2: III | F2: IV | G2: V | I2: INFORMATIVNA MINIMALNA VREDNOST | J2: INFORMATIVNA MAKSIMALNA VREDNOST | K2: GO (C.100 - C.900) | L2: SI (D.100-D.300) | M2: EI (D.400-D.500) | N2: TH (D.600-D.900) | Q2: faktor | R2: 1.3
B4: Cenovni razdredi za posamezna področja za vsak posamezen objekt ali del objekta se razberejo iz ustreznih tabel. Če določanje po seznamu ni mogoče oziroma kadar gre za posebne primere, se razred določi s točkovanjem glede na posamezna merila za ocenjevanje, ki kot rezultat določijo cenovni razred.
B6: STAVBE | C6: I | D6: II | E6: III | F6: IV | G6: V | I6: INFORMATIVNA MINIMALNA VREDNOST EUR/m2 BTP | J6: INFORMATIVNA MASKIMALNA VREDNOST EUR/m2 BTP | K6: GO (C.100 - C.900) | L6: SI (D.100-D.300) | M6: EI (D.400-D.500) | N6: TH (D.600-D.900) | Q6: INDEKS
B7: 1. Stanovanjske stavbe | I7: =AVERAGE(I8:I20) -> 1166.088 | J7: =AVERAGE(J8:J20) -> 1647.744 | K7: =AVERAGE(K8:K20) -> 0.80046154 | L7: =AVERAGE(L8:L20) -> 0.137907 | M7: =AVERAGE(M8:M20) -> 0.049840415 | N7: =AVERAGE(N8:N20) -> 0.011825308 | Q7: =AVERAGE(Q8:Q20) -> 82.243077
B8: 1. Enostavne in improvizirane stavbe za začasno uporabo | C8: x | I8: =820*$S$1*0.6 -> 537.264 | J8: =1110*$S$1*0.6 -> 727.272 | K8: 0.81 | L8: =(37.6+32+4.8)/100*19.1/100 -> 0.142104 | M8: =(21.7+3.3)/100*19.1/100 -> 0.04775 | N8: 0 | O8: =SUM(K8:N8) -> 0.999854 | Q8: -513.64
B9: 2. Podkletene eno in dvostanovanjske stavbe, nižji standard | D9: x | I9: =900*$S$1 -> 982.8 | J9: =1060*$S$1 -> 1157.52 | K9: 0.86 | L9: =(36+40.7+0.1)/100*14.1/100 -> 0.108288 | M9: =(19.2+3.6)/100*14.1/100 -> 0.032148 | N9: 0 | O9: =SUM(K9:N9) -> 1.000436 | Q9: -176.8
B10: 3. Podkletene eno in dvostanovanjske stavbe, srednji standard | E10: x | I10: =1120*$S$1 -> 1223.04 | J10: =1540*$S$1 -> 1681.68 | K10: 0.82 | L10: =(29.1+41.5+4.6)/100*18/100 -> 0.13536 | M10: =(20.6+3.5)/100*18/100 -> 0.04338 | N10: =(0.5)/100*18/100 -> 0.0009 | O10: =SUM(K10:N10) -> 0.99964 | Q10: 117.2
B11: 4. Podkletene eno in dvostanovanjske stavbe, višji standard | F11: x | I11: =1360*$S$1 -> 1485.12 | J11: =1940*$S$1 -> 2118.48 | K11: 0.809 | L11: =(24.4+43+5.7)/100*19.1/100 -> 0.139621 | M11: =(19.1+5.1)/100*19.1/100 -> 0.046222 | N11: =(2.7)/100*19.1/100 -> 0.005157 | O11: =SUM(K11:N11) -> 1 | Q11: 386
B12: 5. Nepodkletene eno in dvostanovanjske stavbe, nižji standard | D12: x | I12: =910*$S$1 -> 993.72 | J12: =1220*$S$1 -> 1332.24 | K12: 0.817 | L12: =(32.4+42.6+6)/100*18.3/100 -> 0.14823 | M12: =(15.6+3.2)/100*18.38/100 -> 0.0345544 | N12: 0 | O12: =SUM(K12:N12) -> 0.9997844 | Q12: -105.4
B13: 6. Nepodkletene eno in dvostanovanjske stavbe, srednji standard | E13: x | I13: =1200*$S$1 -> 1310.4 | J13: =1730*$S$1 -> 1889.16 | K13: 0.808 | L13: =(32+40.1+4.8)/100*19.2/100 -> 0.147648 | M13: =(18.6+4.6)/100*19.2/100 -> 0.044544 | N13: 0 | O13: =SUM(K13:N13) -> 1.000192 | Q13: 230.6
B14: 7. Nepodkletene eno in dvostanovanjske stavbe, višji standard | F14: x | I14: =1470*$S$1 -> 1605.24 | J14: =2100*$S$1 -> 2293.2 | K14: 0.809 | L14: =(24.4+43+5.7)/100*19.1/100 -> 0.139621 | M14: =(19.1+5.1)/100*19.1/100 -> 0.046222 | N14: =(2.7)/100*19.1/100 -> 0.005157 | O14: =SUM(K14:N14) -> 1 | Q14: 499.4
B15: 8. Večstanovanjske stavbe ali skupine stanovanjskih stavb v strnjeni pozidavi, nižji standard | D15: x | I15: =820*$S$1 -> 895.44 | J15: =1110*$S$1 -> 1212.12 | K15: 0.81 | L15: =(37.6+32+4.8)/100*19.1/100 -> 0.142104 | M15: =(21.7+3.3)/100*19.1/100 -> 0.04775 | N15: =(0.2)/100*19.1/100 -> 0.000382 | O15: =SUM(K15:N15) -> 1.000236 | Q15: -189.4
B16: 9. Večstanovanjske stavbe ali skupine stanovanjskih stavb v strnjeni pozidavi, srednji standard | E16: x | I16: =960*$S$1 -> 1048.32 | J16: =1390*$S$1 -> 1517.88 | K16: 0.795 | L16: =(32.9+29.2+4.1)/100*20.5/100 -> 0.13571 | M16: =(23.8+3)/100*20.5/100 -> 0.05494 | N16: =(6.9)/100*20.5/100 -> 0.014145 | O16: =SUM(K16:N16) -> 0.999795 | Q16: -13
B17: 10. Večstanovanjske stavbe ali skupine stanovanjskih stavb v strnjeni pozidavi, višji standard | F17: x | I17: =1130*$S$1 -> 1233.96 | J17: =1580*$S$1 -> 1725.36 | K17: 0.797 | L17: =(33+24.5+5)/100*20.3/100 -> 0.126875 | M17: =(15.8+4.5)/100*20.3/100 -> 0.041209 | N17: =(17.2)/100*20.3/100 -> 0.034916 | O17: =SUM(K17:N17) -> 1 | Q17: 138.2
B18: 11. Oskrbovana stanovanja, srednji standard | E18: x | I18: =1030*$S$1 -> 1124.76 | J18: =1510*$S$1 -> 1648.92 | K18: 0.753 | L18: =(30.9+20.6+3.9)/100*24.8/100 -> 0.137392 | M18: =(22.8+6)/100*24.8/100 -> 0.071424 | N18: =(14.9+0.6)/100*24.8/100 -> 0.03844 | O18: =SUM(K18:N18) -> 1.000256 | Q18: 66.8
B19: 12. Oskrbovana stanovanja, višji standard | F19: x | I19: =1100*$S$1 -> 1201.2 | J19: =1770*$S$1 -> 1932.84 | K19: 0.748 | L19: =(27.1+35.3+0.5)/100*25.2/100 -> 0.158508 | M19: =(19.6+4.5)/100*25.2/100 -> 0.060732 | N19: =(12.9+0.2)/100*25.2/100 -> 0.033012 | O19: =SUM(K19:N19) -> 1.000252 | Q19: 205.4
B20: 13. Študentski domovi, skupna nastanitev | E20: x | F20: x | I20: =1390*$S$1 -> 1517.88 | J20: =2000*$S$1 -> 2184 | K20: 0.77 | L20: =(24.4+25.8+6.9)/100*23/100 -> 0.13133 | M20: =(27.3+6.2)/100*23/100 -> 0.07705 | N20: =(4.1+3.3+1.5+0.5)/100*23/100 -> 0.02162 | O20: =SUM(K20:N20) -> 1 | Q20: 423.8
B21: 2. Izobraževalne, znanstvene in raziskovalne stavbe | I21: =AVERAGE(I22:I27) -> 1832.74 | J21: =AVERAGE(J22:J27) -> 2693.6 | K21: =AVERAGE(K22:K27) -> 0.731 | L21: =AVERAGE(L22:L27) -> 0.13594933 | M21: =AVERAGE(M22:M27) -> 0.091583167 | N21: =AVERAGE(N22:N27) -> 0.0415905 | Q21: =AVERAGE(Q22:Q27) -> 740.9
B22: 14. Izobraževanje - večnamenske dvorane | C22: x | I22: =1500*$S$1 -> 1638 | J22: =2050*$S$1 -> 2238.6 | K22: 0.766 | L22: =(26.6+18.5+13.4)/100*23.4/100 -> 0.13689 | M22: =(36.7+3.2)/100*23.4/100 -> 0.093366 | N22: =(0.1+1.6)/100*23.4/100 -> 0.003978 | O22: =SUM(K22:N22) -> 1.000234 | Q22: 491
B23: 15. Šole s povprečnimi načrtovalskimi potrebami - osnovne in srednje šole | E23: x | I23: =1480*$S$1 -> 1616.16 | J23: =2180*$S$1 -> 2380.56 | K23: 0.772 | L23: =(14.8+18.8+11.4)/100*22.8/100 -> 0.1026 | M23: =(34.5+6.8)/100*22.8/100 -> 0.094164 | N23: =(3+5.6+3.5+1.6)/100*22.8/100 -> 0.031236 | O23: =SUM(K23:N23) -> 1 | Q23: 537.2
B24: 16. Šole s povprečnimi načrtovalskimi potrebami - poklicne šole | E24: x | I24: =1400*$S$1 -> 1528.8 | J24: =2290*$S$1 -> 2500.68 | K24: 0.714 | L24: =(13.1+13.6+12.7)/100*28.6/100 -> 0.112684 | M24: =(31.4+8.1)/100*28.6/100 -> 0.11297 | N24: =(3.3+12.2+5.6+0.1)/100*28.6/100 -> 0.060632 | O24: =SUM(K24:N24) -> 1.000286 | Q24: 549.8
B25: 17. Šole z nadpovprečnimi načrtovalskimi potrebami - izobraževalni centri, visoke šole, univerze, akademije | F25: x | I25: =1850*$S$1 -> 2020.2 | J25: =2400*$S$1 -> 2620.8 | K25: 0.762 | L25: =(21.7+16.7+11.5)/100*23.8/100 -> 0.118762 | M25: =(28.7+4.8)/100*23.8/100 -> 0.07973 | N25: =(3.9+7.1+5.6+0)/100*23.8/100 -> 0.039508 | O25: =SUM(K25:N25) -> 1 | Q25: 785
B26: 18. Predavalnice, kongresni centri | F26: x | I26: =1850*$S$1 -> 2020.2 | J26: =2400*$S$1 -> 2620.8 | K26: 0.762 | L26: =(21.7+16.7+11.5)/100*23.8/100 -> 0.118762 | M26: =(28.7+4.8)/100*23.8/100 -> 0.07973 | N26: =(3.9+7.1+5.6+0)/100*23.8/100 -> 0.039508 | O26: =SUM(K26:N26) -> 1 | Q26: 785
B27: 19. Laboratoriji ali inštituti | F27: x | G27: x | I27: =1990*$S$1 -> 2173.08 | J27: =3480*$S$1 -> 3800.16 | K27: 0.61 | L27: =(7.1+11.3+39.4)/100*39.1/100 -> 0.225998 | M27: =(17.4+5.5)/100*39.1/100 -> 0.089539 | N27: =(0.5+13.5+4.6+0.5)/100*39.1/100 -> 0.074681 | O27: =SUM(K27:N27) -> 1.000218 | Q27: 1297.4
B28: 3. Poslovne in upravne stavbe | I28: =AVERAGE(I29:I36) -> 1691.235 | J28: =AVERAGE(J29:J36) -> 2624.895 | K28: =AVERAGE(K29:K36) -> 0.748 | L28: =AVERAGE(L29:L36) -> 0.114477 | M28: =AVERAGE(M29:M36) -> 0.10927265 | N28: =AVERAGE(N29:N36) -> 0.02822475 | Q28: =AVERAGE(Q29:Q36) -> 660.05
B29: 20. Pisarniške in upravne stavbe, nižji standard | D29: x | I29: =1020*$S$1 -> 1113.84 | J29: =1390*$S$1 -> 1517.88 | K29: 0.81 | L29: =(16.1+24.9+7.2)/100*19/100 -> 0.09158 | M29: =(36.8+7.4)/100*19/100 -> 0.08398 | N29: =(5.6+0.4+1.6)/100*19/100 -> 0.01444 | O29: =SUM(K29:N29) -> 1 | Q29: 12.2
B30: 21. Pisarniške in upravne stavbe, srednji standard | E30: x | I30: =1480*$S$1 -> 1616.16 | J30: =2010*$S$1 -> 2194.92 | K30: 0.761 | L30: =(13.7+24+8.5)/100*23.9/100 -> 0.110418 | M30: =(32.9+14)/100*23.9/100 -> 0.112091 | N30: =(2.4+1.9+2.6+0)/100*23.9/100 -> 0.016491 | O30: =SUM(K30:N30) -> 1 | Q30: 465.8
B31: 22. Pisarniške in upravne stavbe, višji standard | F31: x | I31: =1840*$S$1 -> 2009.28 | J31: =2900*$S$1 -> 3166.8 | K31: 0.737 | L31: =(10.2+22.1+15)/100*26.3/100 -> 0.124399 | M31: =(31.5+11.2)/100*26.3/100 -> 0.112301 | N31: =(3.2+0.9+5.8+0.1)/100*26.3/100 -> 0.0263 | O31: =SUM(K31:N31) -> 1 | Q31: 990.8
B32: 23. Parlament, sodna stavba | F32: x | I32: =1840*$S$1 -> 2009.28 | J32: =2900*$S$1 -> 3166.8 | K32: 0.737 | L32: =(10.2+22.1+15)/100*26.3/100 -> 0.124399 | M32: =(31.5+11.2)/100*26.3/100 -> 0.112301 | N32: =(3.2+0.9+5.8+0.1)/100*26.3/100 -> 0.0263 | O32: =SUM(K32:N32) -> 1 | Q32: 990.8
B33: 24. Stavbe kazenskega sistema | F33: x | G33: x | I33: =1130*$S$1 -> 1233.96 | J33: =1580*$S$1 -> 1725.36 | K33: 0.704 | L33: =(14.8+8.4+17)/100*29.6/100 -> 0.118992 | M33: =(33.1+12.5)/100*29.62/100 -> 0.1350672 | N33: =(7.1+2.5+4.2+0.3)/100*29.6/100 -> 0.041736 | O33: =SUM(K33:N33) -> 0.9997952 | Q33: 138.2
B34: 25. Gasilske in policijske postaje | E34: x | F34: x | I34: =1420*$S$1 -> 1550.64 | J34: =1980*$S$1 -> 2162.16 | K34: 0.753 | L34: =(18.4+14.6+11.2)/100*24.7/100 -> 0.109174 | M34: =(26.8+10.2)/100*24.7/100 -> 0.09139 | N34: =(1.3+14+2.9+0.6)/100*24.7/100 -> 0.046436 | O34: =SUM(K34:N34) -> 1 | Q34: 428
B35: 26. Hranilniške in bančne poslovalnice | E35: x | F35: x | I35: =1840*$S$1 -> 2009.28 | J35: =2900*$S$1 -> 3166.8 | K35: 0.737 | L35: =(10.2+22.1+15)/100*26.3/100 -> 0.124399 | M35: =(31.5+11.2)/100*26.3/100 -> 0.112301 | N35: =(3.2+0.9+5.8+0.1)/100*26.3/100 -> 0.0263 | O35: =SUM(K35:N35) -> 1 | Q35: 990.8
B36: 27. Knjigarne, arhivi | E36: x | F36: x | I36: =1820*$S$1 -> 1987.44 | J36: =3570*$S$1 -> 3898.44 | K36: 0.745 | L36: =(13.5+19.7+10.9)/100*25.5/100 -> 0.112455 | M36: =(37.2+7.8)/100*25.5/100 -> 0.11475 | N36: =(1.6+5.2+2.8+1.3)/100*25.5/100 -> 0.027795 | O36: =SUM(K36:N36) -> 1 | Q36: 1263.8
B37: 4. Zdravstvo in varstvo | I37: =AVERAGE(I38:I48) -> 1637.0073 | J37: =AVERAGE(J38:J48) -> 2404.3855 | K37: =AVERAGE(K38:K48) -> 0.7267 | L37: =AVERAGE(L38:L48) -> 0.13261973 | M37: =AVERAGE(M38:M48) -> 0.10934389 | N37: =AVERAGE(N38:N48) -> 0.031343182 | Q37: =AVERAGE(Q38:Q48) -> 554.38182
B38: 28. Zdravstvo - večnamenske dvorane | C38: x | I38: =1500*$S$1 -> 1638 | J38: =2050*$S$1 -> 2238.6 | K38: 0.766 | L38: =(26.6+18.5+13.4)/100*23.4/100 -> 0.13689 | M38: =(36.7+3.2)/100*23.4/100 -> 0.093366 | N38: =(0.1+1.6)/100*23.4/100 -> 0.003978 | O38: =SUM(K38:N38) -> 1.000234 | Q38: 491
B39: 29. Vrtci - nepodkleteni | E39: x | I39: =1520*$S$1 -> 1659.84 | J39: =2300*$S$1 -> 2511.6 | K39: 0.785 | L39: =(24.4+24.4+8)/100*21.6/100 -> 0.122688 | M39: =(31.8+5.7)/100*21.6/100 -> 0.081 | N39: =(1.2+2.6+0.8+0.7)/100*21.6/100 -> 0.011448 | O39: =SUM(K39:N39) -> 1.000136 | Q39: 604.4
B40: 30. Vrtci - podkleteni | E40: x | I40: =1600*$S$1 -> 1747.2 | J40: =2190*$S$1 -> 2391.48 | K40: 0.798 | L40: =(24.6+24.3+10.4)/100*20.2/100 -> 0.119786 | M40: =(32.6+3.8)/100*20.2/100 -> 0.073528 | N40: =(0.3+3.3+0.7)/100*20.2/100 -> 0.008686 | O40: =SUM(K40:N40) -> 1 | Q40: 591.8
B41: 31. Mladinski centri, centri za prosti čas | E41: x | I41: =1480*$S$1 -> 1616.16 | J41: =2010*$S$1 -> 2194.92 | K41: 0.761 | L41: =(13.7+24+8.5)/100*23.9/100 -> 0.110418 | M41: =(32.9+14)/100*23.9/100 -> 0.112091 | N41: =(2.4+1.9+2.6+0)/100*23.9/100 -> 0.016491 | O41: =SUM(K41:N41) -> 1 | Q41: 465.8
B42: 32. Ustanove za varstvo odraslih, dnevni centri | E42: x | I42: =1480*$S$1 -> 1616.16 | J42: =2010*$S$1 -> 2194.92 | K42: 0.761 | L42: =(13.7+24+8.5)/100*23.9/100 -> 0.110418 | M42: =(32.9+14)/100*23.9/100 -> 0.112091 | N42: =(2.4+1.9+2.6+0)/100*23.9/100 -> 0.016491 | O42: =SUM(K42:N42) -> 1 | Q42: 465.8
B43: 33. Domovi za ostarele ali posteljni domovi z medicinsko-tehničnimi pripomočki ali brez njih | E43: x | F43: x | I43: =1420*$S$1 -> 1550.64 | J43: =2420*$S$1 -> 2642.64 | K43: 0.6967 | L43: =(28.2+9.1+14.4)/100*30.3/100 -> 0.156651 | M43: =(21.6+11.7)/100*30.3/100 -> 0.100899 | N43: =(3.9+10.9+0.3+0.1)/100*30.3/100 -> 0.046056 | O43: =SUM(K43:N43) -> 1.000306 | Q43: 612.8
B44: 34. Reševalne postaje, ambulante | D44: x | E44: x | I44: =1130*$S$1 -> 1233.96 | J44: =1580*$S$1 -> 1725.36 | K44: 0.704 | L44: =(14.8+8.4+17)/100*29.6/100 -> 0.118992 | M44: =(33.1+12.5)/100*29.62/100 -> 0.1350672 | N44: =(7.1+2.5+4.2+0.3)/100*29.6/100 -> 0.041736 | O44: =SUM(K44:N44) -> 0.9997952 | Q44: 138.2
B45: 35. Prostori za terapijo ali rehabilitacijo, zgradbe za rekreacijo, zdravljenje ali okrevanje | E45: x | F45: x | I45: =1620*$S$1 -> 1769.04 | J45: =2300*$S$1 -> 2511.6 | K45: 0.704 | L45: =(14.8+8.4+17)/100*29.6/100 -> 0.118992 | M45: =(33.1+12.5)/100*29.62/100 -> 0.1350672 | N45: =(7.1+2.5+4.2+0.3)/100*29.6/100 -> 0.041736 | O45: =SUM(K45:N45) -> 0.9997952 | Q45: 646.4
B46: 36. Pomožne bolnišnice | E46: x | I46: =1130*$S$1 -> 1233.96 | J46: =1580*$S$1 -> 1725.36 | K46: 0.704 | L46: =(14.8+8.4+17)/100*29.6/100 -> 0.118992 | M46: =(33.1+12.5)/100*29.62/100 -> 0.1350672 | N46: =(7.1+2.5+4.2+0.3)/100*29.6/100 -> 0.041736 | O46: =SUM(K46:N46) -> 0.9997952 | Q46: 138.2
B47: 37. Bolnišnice I ali II stopnje oskrbe, bolnišnice posebnega namena | F47: x | I47: =1620*$S$1 -> 1769.04 | J47: =2300*$S$1 -> 2511.6 | K47: 0.704 | L47: =(14.8+8.4+17)/100*29.6/100 -> 0.118992 | M47: =(33.1+12.5)/100*29.62/100 -> 0.1350672 | N47: =(7.1+2.5+4.2+0.3)/100*29.6/100 -> 0.041736 | O47: =SUM(K47:N47) -> 0.9997952 | Q47: 646.4
B48: 38. Bolnišnice III. Stopnje oskrbe, univerzitetne bolnišnice | G48: x | I48: =1990*$S$1 -> 2173.08 | J48: =3480*$S$1 -> 3800.16 | K48: 0.61 | L48: =(7.1+11.3+39.4)/100*39.1/100 -> 0.225998 | M48: =(17.4+5.5)/100*39.1/100 -> 0.089539 | N48: =(0.5+13.5+4.6+0.5)/100*39.1/100 -> 0.074681 | O48: =SUM(K48:N48) -> 1.000218 | Q48: 1297.4
B49: 5. Trgovske in gostinske stavbe | I49: =AVERAGE(I50:I58) -> 1285.1627 | J49: =AVERAGE(J50:J58) -> 1991.808 | K49: =AVERAGE(K50:K58) -> 0.76866667 | L49: =AVERAGE(L50:L58) -> 0.12836889 | M49: =AVERAGE(M50:M58) -> 0.069441889 | N49: =AVERAGE(N50:N58) -> 0.033335 | Q49: =AVERAGE(Q50:Q58) -> 260.37333
B50: 39. Enostavna prodajna skladišča, stojnice, kioski | D50: x | I50: =460*$S$1 -> 502.32 | J50: =1180*$S$1 -> 1288.56 | K50: 0.858 | L50: =(21.8+17.8+2.5)/100*14.2/100 -> 0.059782 | M50: =(49.4+4.8)/100*14.2/100 -> 0.076964 | N50: =(0.1+2.5+0.8)/100*14.2/100 -> 0.004828 | O50: =SUM(K50:N50) -> 0.999574 | Q50: -311.2
B51: 40. Diskonti | E51: x | I51: =950*$S$1 -> 1037.4 | J51: =1420*$S$1 -> 1550.64 | K51: 0.783 | L51: =(14.6+22.6+17.9)/100*21.7/100 -> 0.119567 | M51: =(30.8+2)/100*21.7/100 -> 0.071176 | N51: =(12.1)/100*21.7/100 -> 0.026257 | O51: =SUM(K51:N51) -> 1 | Q51: -4.6
B52: 41. Trgovski centri, nakupovalni centri, pokrite tržnice, sejemske dvorane | F52: x | I52: =1220*$S$1 -> 1332.24 | J52: =2200*$S$1 -> 2402.4 | K52: 0.788 | L52: =(26.4+32.5+1.4)/100*21.2/100 -> 0.127836 | M52: =(22.2+4.2)/100*21.2/100 -> 0.055968 | N52: =(13.3)/100*21.2/100 -> 0.028196 | O52: =SUM(K52:N52) -> 1 | Q52: 436.4
B53: 42. Stavbe za gostinstvo, menze ali kantine | E53: x | F53: x | I53: =1950*$S$1 -> 2129.4 | J53: =2980*$S$1 -> 3254.16 | K53: 0.722 | L53: =(14.9+17.4+24.7)/100*27.9/100 -> 0.15903 | M53: =(24.2+2.5)/100*27.92/100 -> 0.0745464 | N53: =(2.2+12.8+0.8)/100*27.9/100 -> 0.044082 | O53: =SUM(K53:N53) -> 0.9996584 | Q53: 1070.6
B54: 43. Javne kuhinje, z jedilnicami ali brez njih | F54: x | I54: =1950*$S$1 -> 2129.4 | J54: =2980*$S$1 -> 3254.16 | K54: 0.646 | L54: =(14.9+17.4+24.7)/100*27.9/100 -> 0.15903 | M54: =(24.2+2.5)/100*27.92/100 -> 0.0745464 | N54: 0.12 | O54: =SUM(K54:N54) -> 0.9995764 | Q54: 1070.6
B55: 44. Enostavne stavbe za začasno uporabo (bungalovi, stavbe v kampih, hišice na drevesih ali na vodi, glamping hišice ipd.) | C55: x | I55: =820*$S$1*0.6 -> 537.264 | J55: =1110*$S$1*0.6 -> 727.272 | K55: 0.81 | L55: =(37.6+32+4.8)/100*19.1/100 -> 0.142104 | M55: =(21.7+3.3)/100*19.1/100 -> 0.04775 | N55: 0 | O55: =SUM(K55:N55) -> 0.999854 | Q55: -513.64
B56: 45. Mladinska prenočišča, planinske koče in zavetišča, počitniški domovi | D56: x | I56: =820*$S$1 -> 895.44 | J56: =1110*$S$1 -> 1212.12 | K56: 0.81 | L56: =(37.6+32+4.8)/100*19.1/100 -> 0.142104 | M56: =(21.7+3.3)/100*19.1/100 -> 0.04775 | N56: 0 | O56: =SUM(K56:N56) -> 0.999854 | Q56: -189.4
B57: 46. Penzioni, gostišča | E57: x | I57: =1130*$S$1 -> 1233.96 | J57: =1580*$S$1 -> 1725.36 | K57: 0.797 | L57: =(33+24.5+5)/100*20.3/100 -> 0.126875 | M57: =(15.8+4.5)/100*20.3/100 -> 0.041209 | N57: =(17.2)/100*20.3/100 -> 0.034916 | O57: =SUM(K57:N57) -> 1 | Q57: 138.2
B58: 47. Hoteli, moteli | F58: x | I58: =1620*$S$1 -> 1769.04 | J58: =2300*$S$1 -> 2511.6 | K58: 0.704 | L58: =(14.8+8.4+17)/100*29.6/100 -> 0.118992 | M58: =(33.1+12.5)/100*29.62/100 -> 0.1350672 | N58: =(7.1+2.5+4.2+0.3)/100*29.6/100 -> 0.041736 | O58: =SUM(K58:N58) -> 0.9997952 | Q58: 646.4
B59: 6. Stavbe za šport in rekreacijo | I59: =AVERAGE(I60:I65) -> 1385.02 | J59: =AVERAGE(J60:J65) -> 2076.62 | K59: =AVERAGE(K60:K65) -> 0.81166667 | L59: =AVERAGE(L60:L65) -> 0.10618283 | M59: =AVERAGE(M60:M65) -> 0.061093167 | N59: =AVERAGE(N60:N65) -> 0.021093833 | Q59: =AVERAGE(Q60:Q65) -> 331.4
B60: 48. Preproste tribune | D60: x | I60: =410*$S$1 -> 447.72 | J60: =710*$S$1 -> 775.32 | K60: 0.955 | L60: =(38.7+4.1+0.2)/100*5.1/100 -> 0.02193 | M60: =(44.8+0.3)/100*5.1/100 -> 0.023001 | N60: 0 | O60: =SUM(K60:N60) -> 0.999931 | Q60: -529.6
B61: 49. Čolnarne | D61: x | I61: =410*$S$1 -> 447.72 | J61: =710*$S$1 -> 775.32 | K61: 0.955 | L61: =(38.7+4.1+0.2)/100*5.1/100 -> 0.02193 | M61: =(44.8+0.3)/100*5.1/100 -> 0.023001 | N61: 0 | O61: =SUM(K61:N61) -> 0.999931 | Q61: -529.6
B62: 50. Telovadnice ali športne dvorane | E62: x | F62: x | I62: =1650*$S$1 -> 1801.8 | J62: =2370*$S$1 -> 2588.04 | K62: 0.78 | L62: =(22.3+25.8+6.1)/100*22/100 -> 0.11924 | M62: =(40.2+5.5)/100*22/100 -> 0.10054 | N62: =(0.1)/100*22/100 -> 0.00022 | O62: =SUM(K62:N62) -> 1 | Q62: 688.4
B63: 51. Večnamenske dvorane | F63: x | G63: x | I63: =1500*$S$1 -> 1638 | J63: =2050*$S$1 -> 2238.6 | K63: 0.766 | L63: =(26.6+18.5+13.4)/100*23.4/100 -> 0.13689 | M63: =(36.7+3.2)/100*23.4/100 -> 0.093366 | N63: =(0.1+1.6)/100*23.4/100 -> 0.003978 | O63: =SUM(K63:N63) -> 1.000234 | Q63: 491
B64: 52. Veliki športni objekti | F64: x | G64: x | I64: =1320*$S$1 -> 1441.44 | J64: =2180*$S$1 -> 2380.56 | K64: 0.782 | L64: =(23.4+29.5+17.4)/100*21.9/100 -> 0.153957 | M64: =(22.2+3.7)/100*21.9/100 -> 0.056721 | N64: =(1.8+0.4+0.8+0.5)/100*21.9/100 -> 0.007665 | O64: =SUM(K64:N64) -> 1.000343 | Q64: 470
B65: 53. Notranji bazeni | F65: x | G65: x | I65: =2320*$S$1 -> 2533.44 | J65: =3390*$S$1 -> 3701.88 | K65: 0.632 | L65: =(14.8+17.1+17.6)/100*37/100 -> 0.18315 | M65: =(17.2+1.7)/100*37/100 -> 0.06993 | N65: =(0.4+27.7+2.9)/100*37/100 -> 0.1147 | O65: =SUM(K65:N65) -> 0.99978 | Q65: 1398.2
B66: 7. Gospodarske, industrijske in kmetijske stavbe | I66: =AVERAGE(I67:I75) -> 925.77333 | J66: =AVERAGE(J67:J75) -> 1594.32 | K66: =AVERAGE(K67:K75) -> 0.79492222 | L66: =AVERAGE(L67:L75) -> 0.093176444 | M66: =AVERAGE(M67:M75) -> 0.068431889 | N66: =AVERAGE(N67:N75) -> 0.043552444 | Q66: =AVERAGE(Q67:Q75) -> -30.733333
B67: 54. Enostavne kmetijske zgradbe, na primer poljski skednji | C67: x | I67: =410*$S$1 -> 447.72 | J67: =710*$S$1 -> 775.32 | K67: 0.955 | L67: =(38.7+4.1+0.2)/100*5.1/100 -> 0.02193 | M67: =(44.8+0.3)/100*5.1/100 -> 0.023001 | N67: 0 | O67: =SUM(K67:N67) -> 0.999931 | Q67: -529.6
B68: 55. Gospodarske zgradbe, hlevi | D68: x | E68: x | F68: x | I68: =800*$S$1 -> 873.6 | J68: =1230*$S$1 -> 1343.16 | K68: 0.785 | L68: =(16.8+14.7+18.2)/100*21.6/100 -> 0.107352 | M68: =(21.9+3.3)/100*21.6/100 -> 0.054432 | N68: =(17.9+4.1+2.7+0.1)/100*21.6/100 -> 0.053568 | O68: =SUM(K68:N68) -> 1.000352 | Q68: -147.4
B69: 56. Rastlinjaki za proizvodnjo | D69: x | I69: =800*$S$1 -> 873.6 | J69: =1230*$S$1 -> 1343.16 | K69: 0.785 | L69: =(16.8+14.7+18.2)/100*21.6/100 -> 0.107352 | M69: =(21.9+3.3)/100*21.6/100 -> 0.054432 | N69: =(17.9+4.1+2.7+0.1)/100*21.6/100 -> 0.053568 | O69: =SUM(K69:N69) -> 1.000352 | Q69: -147.4
B70: 57. Kmetijska in obrtna gospodarska poslopja | E70: x | F70: x | I70: =1060*$S$1 -> 1157.52 | J70: =2050*$S$1 -> 2238.6 | K70: 0.783 | L70: =(11.9+18.7+16.4)/100*21.7/100 -> 0.10199 | M70: =(28.1+4.1)/100*21.7/100 -> 0.069874 | N70: =(16.3+3.3+1.2)/100*21.7/100 -> 0.045136 | O70: =SUM(K70:N70) -> 1 | Q70: 306.2
B71: 58. Enostavne zaprte enonadstropne dvorane, delavnice | D71: x | I71: =800*$S$1 -> 873.6 | J71: =1230*$S$1 -> 1343.16 | K71: 0.785 | L71: =(16.8+14.7+18.2)/100*21.6/100 -> 0.107352 | M71: =(21.9+3.3)/100*21.6/100 -> 0.054432 | N71: =(17.9+4.1+2.7+0.1)/100*21.6/100 -> 0.053568 | O71: =SUM(K71:N71) -> 1.000352 | Q71: -147.4
B72: 59. posebne zgradbe za skladiščenje, na primer hladilnice | E72: x | I72: =460*$S$1 -> 502.32 | J72: =1180*$S$1 -> 1288.56 | K72: 0.858 | L72: =(21.8+17.8+2.5)/100*14.2/100 -> 0.059782 | M72: =(49.4+4.8)/100*14.2/100 -> 0.076964 | N72: =(0.1+2.5+0.8)/100*14.2/100 -> 0.004828 | O72: =SUM(K72:N72) -> 0.999574 | Q72: -311.2
B73: 60. delavnice, obrtne stavbe | D73: x | E73: x | F73: x | I73: =1060*$S$1 -> 1157.52 | J73: =2050*$S$1 -> 2238.6 | K73: 0.783 | L73: =(11.9+18.7+16.4)/100*21.7/100 -> 0.10199 | M73: =(28.1+4.1)/100*21.7/100 -> 0.069874 | N73: =(16.3+3.3+1.2)/100*21.7/100 -> 0.045136 | O73: =SUM(K73:N73) -> 1 | Q73: 306.2
B74: 61. Industrijske stavbe - masivna gradnja | E74: x | F74: x | G74: x | I74: =1220*$S$1 -> 1332.24 | J74: =1660*$S$1 -> 1812.72 | K74: 0.6923 | L74: =(17.8+22.2+5.6)/100*30.7/100 -> 0.139992 | M74: =(35.2+2.6)/100*30.7/100 -> 0.116046 | N74: =(1.9+14.9)/100*30.7/100 -> 0.051576 | O74: =SUM(K74:N74) -> 0.999914 | Q74: 209.6
B75: 62. Industrijske stavbe - skeletna gradnja | E75: x | F75: x | G75: x | I75: =1020*$S$1 -> 1113.84 | J75: =1800*$S$1 -> 1965.6 | K75: 0.728 | L75: =(7.4+9.4+16.6)/100*27.2/100 -> 0.090848 | M75: =(31.9+3.7)/100*27.2/100 -> 0.096832 | N75: =(7.3+19.8+3.5+0.5)/100*27.2/100 -> 0.084592 | O75: =SUM(K75:N75) -> 1.000272 | Q75: 184.4
B76: 8. Stavbe za infrastrukturo | I76: =AVERAGE(I77:I82) -> 882.336 | J76: =AVERAGE(J77:J82) -> 1450.176 | K76: =AVERAGE(K77:K82) -> 0.868 | L76: =AVERAGE(L77:L82) -> 0.0799548 | M76: =AVERAGE(M77:M82) -> 0.0367188 | N76: =AVERAGE(N77:N82) -> 0.0152964 | Q76: =AVERAGE(Q77:Q81) -> -102.88
B77: 63. Odprti prehodi, nadkritja, na primer vremenska zavetišča, nadstrešnice | C77: x | I77: =410*$S$1 -> 447.72 | J77: =710*$S$1 -> 775.32 | K77: 0.955 | L77: =(38.7+4.1+0.2)/100*5.1/100 -> 0.02193 | M77: =(44.8+0.3)/100*5.1/100 -> 0.023001 | N77: 0 | O77: =SUM(K77:N77) -> 0.999931 | Q77: -529.6
B78: 64. Enostavne garažne zgradbe | D78: x | I78: =410*$S$1 -> 447.72 | J78: =710*$S$1 -> 775.32 | K78: 0.949 | L78: =(38.7+4.1+0.2)/100*5.1/100 -> 0.02193 | M78: =(44.8+0.3)/100*5.1/100 -> 0.023001 | N78: =(11.7)/100*5.1/100 -> 0.005967 | O78: =SUM(K78:N78) -> 0.999898 | Q78: -529.6
B79: 65. Parkirne stavbe, garaže, podzemne garaže, vsaka z integriranimi drugimi vrstami uporabe | D79: x | E79: x | I79: =580*$S$1 -> 633.36 | J79: =860*$S$1 -> 939.12 | K79: 0.925 | L79: =(44.1+0+19.9)/100*7.5/100 -> 0.048 | M79: =(31.6+0.6)/100*7.5/100 -> 0.02415 | N79: =(3.8)/100*7.5/100 -> 0.00285 | O79: =SUM(K79:N79) -> 1 | Q79: -395.2
B80: 66. Potniški centri ali postaje različnih javnih prevozov | F80: x | I80: =1320*$S$1 -> 1441.44 | J80: =2180*$S$1 -> 2380.56 | K80: 0.782 | L80: =(23.4+29.5+17.4)/100*21.9/100 -> 0.153957 | M80: =(22.2+3.7)/100*21.9/100 -> 0.056721 | N80: =(1.8+0.4+0.8+0.5)/100*21.9/100 -> 0.007665 | O80: =SUM(K80:N80) -> 1.000343 | Q80: 470
B81: 67. letališča | F81: x | G81: x | I81: =1320*$S$1 -> 1441.44 | J81: =2180*$S$1 -> 2380.56 | K81: 0.729 | L81: =(23.4+29.5+17.4)/100*21.9/100 -> 0.153957 | M81: =(22.2+3.7)/100*21.9/100 -> 0.056721 | N81: 0.06 | O81: =SUM(K81:N81) -> 0.999678 | Q81: 470
B82: 68. energetske centrale, zgradbe elektrarn, velike elektrarne | F82: x | G82: x
B83: 9. Stavbe za kulturo in obredne stavbe | I83: =AVERAGE(I84:I92) -> 2102.7067 | J83: =AVERAGE(J84:J92) -> 3703.0933 | K83: =AVERAGE(K84:K92) -> 0.776 | L83: =AVERAGE(L84:L92) -> 0.11199067 | M83: =AVERAGE(M84:M92) -> 0.087076889 | N83: =AVERAGE(N84:N92) -> 0.025061556 | Q83: =AVERAGE(Q84:Q92) -> 1233
B84: 69. Paviljoni za kulturne namene | D84: x | E84: x | I84: =1820*$S$1 -> 1987.44 | J84: =3570*$S$1 -> 3898.44 | K84: 0.745 | L84: =(13.5+19.7+10.9)/100*25.5/100 -> 0.112455 | M84: =(37.2+7.8)/100*25.5/100 -> 0.11475 | N84: =(1.6+5.2+2.8+1.3)/100*25.5/100 -> 0.027795 | O84: =SUM(K84:N84) -> 1 | Q84: 1263.8
B85: 70. Občinska središča, skupnosti, stavbe za kulturo | F85: x | I85: =1620*$S$1 -> 1769.04 | J85: =2630*$S$1 -> 2871.96 | K85: 0.79 | L85: =(20.1+25.9+2.2)/100*21/100 -> 0.10122 | M85: =(39.1+3.4)/100*21/100 -> 0.08925 | N85: =(7+1.9+0.5+0.1)/100*21/100 -> 0.01995 | O85: =SUM(K85:N85) -> 1.00042 | Q85: 785
B86: 71. Obredne stavbe, cerkve | F86: x | I86: =2240*$S$1 -> 2446.08 | J86: =3010*$S$1 -> 3286.92 | K86: 0.859 | L86: =(16.8+33.6+8.3)/100*14.2/100 -> 0.083354 | M86: =(33.1+2.7)/100*14.2/100 -> 0.050836 | N86: =(3.9+0.1+0.7)/100*14.2/100 -> 0.006674 | O86: =SUM(K86:N86) -> 0.999864 | Q86: 1205
B87: 72. Pokopališke stavbe | F87: x | I87: =1710*$S$1 -> 1867.32 | J87: =2540*$S$1 -> 2773.68 | K87: 0.883 | L87: =(24.2+19.9+30.8)/100*11.8/100 -> 0.088382 | M87: =(19.3+2.4)/100*11.8/100 -> 0.025606 | N87: =(2.5)/100*11.8/100 -> 0.00295 | O87: =SUM(K87:N87) -> 0.999938 | Q87: 785
B88: 73. Večnamenske dvorane za verske ali kulturne namene | F88: x | I88: =1820*$S$1 -> 1987.44 | J88: =3570*$S$1 -> 3898.44 | K88: 0.745 | L88: =(13.5+19.7+10.9)/100*25.5/100 -> 0.112455 | M88: =(37.2+7.8)/100*25.5/100 -> 0.11475 | N88: =(1.6+5.2+2.8+1.3)/100*25.5/100 -> 0.027795 | O88: =SUM(K88:N88) -> 1 | Q88: 1263.8
B89: 74. Galerije, kinodvorane | E89: x | F89: x | I89: =1820*$S$1 -> 1987.44 | J89: =3570*$S$1 -> 3898.44 | K89: 0.745 | L89: =(13.5+19.7+10.9)/100*25.5/100 -> 0.112455 | M89: =(37.2+7.8)/100*25.5/100 -> 0.11475 | N89: =(1.6+5.2+2.8+1.3)/100*25.5/100 -> 0.027795 | O89: =SUM(K89:N89) -> 1 | Q89: 1263.8
B90: 75. Muzeji | F90: x | G90: x | I90: =1820*$S$1 -> 1987.44 | J90: =3570*$S$1 -> 3898.44 | K90: 0.745 | L90: =(13.5+19.7+10.9)/100*25.5/100 -> 0.112455 | M90: =(37.2+7.8)/100*25.5/100 -> 0.11475 | N90: =(1.6+5.2+2.8+1.3)/100*25.5/100 -> 0.027795 | O90: =SUM(K90:N90) -> 1 | Q90: 1263.8
B91: 76. Gledališča, operne in koncertne hiše | F91: x | G91: x | I91: =2240*$S$1 -> 2446.08 | J91: =4030*$S$1 -> 4400.76 | K91: 0.736 | L91: =(19.4+10.5+23.9)/100*26.5/100 -> 0.14257 | M91: =(24.1+5.9)/100*26.5/100 -> 0.0795 | N91: =(3.3+12.7)/100*26.5/100 -> 0.0424 | O91: =SUM(K91:N91) -> 1.00047 | Q91: 1633.4
B92: 77. Stavbe za radio ali televizijo | F92: x | G92: x | I92: =2240*$S$1 -> 2446.08 | J92: =4030*$S$1 -> 4400.76 | K92: 0.736 | L92: =(19.4+10.5+23.9)/100*26.5/100 -> 0.14257 | M92: =(24.1+5.9)/100*26.5/100 -> 0.0795 | N92: =(3.3+12.7)/100*26.5/100 -> 0.0424 | O92: =SUM(K92:N92) -> 1.00047 | Q92: 1633.4
B94: MERILA ZA OCENJEVANJE - STAVBE
A95: 1. | B95: zahteve za vključitev v okolje | F95: 1 do 6 točk | I95: CENOVNI RAZREDI - STAVBE
A96: 2. | B96: število funkcionalnih področij | F96: 1 do 9 točk | I96: Cenovni razred I | K96: do 10 točk
A97: 3. | B97: oblikovna zahtevnost | F97: 1 do 9 točk | I97: Cenovni razred II | K97: 11 do 18 točk
A98: 4. | B98: konstrukcijska zahtevnost | F98: 1 do 6 točk | I98: Cenovni razred III | K98: 19 do 26 točk
A99: 5. | B99: zahtevnost inštalacij | F99: 1 do 6 točk | I99: Cenovni razred IV | K99: 27 do 34 točk
A100: 6. | B100: zahtevnost zaključnih del | F100: 1 do 6 točk | I100: Cenovni razred V | K100: 35 do 42 točk
F101: SKUPAJ MAKSIMALNO 42 | G101: =SUM(G95:G100) -> 0
B102: IZRAČUNANI CENOVNI RAZRED | F102: =IF(G101<11,$I$96,IF(G101<19,$I$97,IF(G101<27,$I$98,IF(G101<35,$I$99,IF(G101<43,$I$100,"NAPAKA"))))) -> Cenovni razred I
B108: NOTRANJA OPREMA | C108: I | D108: II | E108: III | F108: IV | G108: V | I108: INFORMATIVNA MINIMALNA VREDNOST EUR/m2 NTP | J108: INFORMATIVNA MAKSIMALNAVREDNOST EUR/m2 NTP | K108: INDEKS
...

Sheet ARHIGRAM 6
B3: ='OSNOVNI PODATKI'!B3 -> ARHIGRAM 6
B4: ='OSNOVNI PODATKI'!B4 -> Vrednotenje storitev na področju arhitekturnega in krajinskoarhitekturnega projektiranja
A5: ='OSNOVNI PODATKI'!A5 -> V 6.17 | B5: ='OSNOVNI PODATKI'!B5 -> september 2026
A7: NAROČNIK | B7: ='OSNOVNI PODATKI'!E1 -> 0
B8: ='OSNOVNI PODATKI'!E2 -> 0
A9: PONUDNIK | B9: ='OSNOVNI PODATKI'!E3 -> 0
A10: GRADNJA | B10: ='OSNOVNI PODATKI'!E4 -> 0
A11: DATUM | B11: ='OSNOVNI PODATKI'!E5 -> 46278
A13: OSNOVNE STORITVE
A16: BTO VREDNOST NU V EUR | I16: 62
I17: Vpiši vrednost
G19: VKLJUČI V IZRAČUN | H19: ŠTEVILO NU | I19: VREDNOST V EUR
A20: 1 | B20: ZAGON | H20: =+H21+H35+H49 -> 0 | I20: =+I21+I35+I49 -> 0
A21: 1.1 | B21: ZAGON PROJEKTA | G21: FALSE | H21: =SUM(H22:H34) -> 0 | I21: =SUM(I22:I34) -> 0
B22: VODENJE IN KOORDINACIJA | G22: TRUE | H22: =IFERROR(IF(G21=TRUE,STAVBE!Q136+'NOTRANJA OPREMA'!Q118+'ODPRTI PROSTOR'!Q136,0),0) -> 0 | I22: =+H22*$I$16 -> 0
B23: ARHITEKTURA | G23: TRUE | H23: =IFERROR(IF(G21=TRUE,STAVBE!G136,0),0) -> 0 | I23: =+H23*$I$16 -> 0
B24: NOTRANJA OPREMA | G24: TRUE | H24: =IFERROR(IF(G21=TRUE,'NOTRANJA OPREMA'!G118,0),0) -> 0 | I24: =+H24*$I$16 -> 0
B25: ARHITEKTURA - ODPRTI PROSTOR | G25: TRUE | H25: =IFERROR(IF(G21=TRUE,'ODPRTI PROSTOR'!G136*'OSNOVNI PODATKI'!$F$378,0),0) -> 0 | I25: =+H25*$I$16 -> 0
B26: KRAJINSKA ARHITEKTURA | G26: TRUE | H26: =IFERROR(IF(G21=TRUE,'ODPRTI PROSTOR'!G136*(100%-'OSNOVNI PODATKI'!$F$378),0),0) -> 0 | I26: =+H26*$I$16 -> 0
B27: GRADBENE KONSTRUKCIJE | G27: TRUE | H27: =IFERROR(IF(G21=TRUE,'GRADBENE KONSTRUKCIJE'!G136,0),0) -> 0 | I27: =+H27*$I$16 -> 0
B28: ELEKTRIČNE INŠTALACIJE | G28: TRUE | H28: =IFERROR(IF(G21=TRUE,'TEHNIČNA OPREMA'!G137,0),0) -> 0 | I28: =+H28*$I$16 -> 0
B29: STROJNE INŠTALACIJE | G29: TRUE | H29: =IFERROR(IF(G21=TRUE,'TEHNIČNA OPREMA'!G189,0),0) -> 0 | I29: =+H29*$I$16 -> 0
B30: TEHNOLOGIJA | G30: TRUE | H30: =IFERROR(IF(G21=TRUE,'TEHNIČNA OPREMA'!G238,0),0) -> 0 | I30: =+H30*$I$16 -> 0
B31: POŽARNA VARNOST | G31: TRUE | H31: =IFERROR(IF(G21=TRUE,'POŽARNA VARNOST'!G156,0),0) -> 0 | I31: =+H31*$I$16 -> 0
B32: UČINKOVITA RABA ENERGIJE | G32: TRUE | H32: =IFERROR(IF(G21=TRUE,'GRADBENA FIZIKA'!G141,0),0) -> 0 | I32: =+H32*$I$16 -> 0
B33: ZAŠČITA PRED HRUPOM | G33: TRUE | H33: =IFERROR(IF(G21=TRUE,'GRADBENA FIZIKA'!G187,0),0) -> 0 | I33: =+H33*$I$16 -> 0
B34: PROSTORSKA AKUSTIKA | G34: TRUE | H34: =IFERROR(IF(G21=TRUE,'GRADBENA FIZIKA'!G233,0),0) -> 0 | I34: =+H34*$I$16 -> 0
A35: 1.2 | B35: ŠTUDIJA IZVEDLJIVOSTI | G35: FALSE | H35: =SUM(H36:H48) -> 0 | I35: =SUM(I36:I48) -> 0
B36: VODENJE IN KOORDINACIJA | G36: TRUE | H36: =IFERROR(IF(G35=TRUE,STAVBE!Q137+'NOTRANJA OPREMA'!Q119+'ODPRTI PROSTOR'!Q137,0),0) -> 0 | I36: =+H36*$I$16 -> 0
B37: ARHITEKTURA | G37: TRUE | H37: =IFERROR(IF(G35=TRUE,STAVBE!G137,0),0) -> 0 | I37: =+H37*$I$16 -> 0
B38: NOTRANJA OPREMA | G38: TRUE | H38: =IFERROR(IF(G35=TRUE,'NOTRANJA OPREMA'!G119,0),0) -> 0 | I38: =+H38*$I$16 -> 0
B39: ARHITEKTURA - ODPRTI PROSTOR | G39: TRUE | H39: =IFERROR(IF(G35=TRUE,'ODPRTI PROSTOR'!G137*'OSNOVNI PODATKI'!$F$378,0),0) -> 0 | I39: =+H39*$I$16 -> 0
B40: KRAJINSKA ARHITEKTURA | G40: TRUE | H40: =IFERROR(IF(G35=TRUE,'ODPRTI PROSTOR'!G137*(100%-'OSNOVNI PODATKI'!$F$378),0),0) -> 0 | I40: =+H40*$I$16 -> 0
B41: GRADBENE KONSTRUKCIJE | G41: TRUE | H41: =IFERROR(IF(G35=TRUE,'GRADBENE KONSTRUKCIJE'!G137,0),0) -> 0 | I41: =+H41*$I$16 -> 0
B42: ELEKTRIČNE INŠTALACIJE | G42: TRUE | H42: =IFERROR(IF(G35=TRUE,'TEHNIČNA OPREMA'!G138,0),0) -> 0 | I42: =+H42*$I$16 -> 0
B43: STROJNE INŠTALACIJE | G43: TRUE | H43: =IFERROR(IF(G35=TRUE,'TEHNIČNA OPREMA'!G190,0),0) -> 0 | I43: =+H43*$I$16 -> 0
B44: TEHNOLOGIJA | G44: TRUE | H44: =IFERROR(IF(G35=TRUE,'TEHNIČNA OPREMA'!G239,0),0) -> 0 | I44: =+H44*$I$16 -> 0
B45: POŽARNA VARNOST | G45: TRUE | H45: =IFERROR(IF(G35=TRUE,'POŽARNA VARNOST'!G157,0),0) -> 0 | I45: =+H45*$I$16 -> 0
B46: UČINKOVITA RABA ENERGIJE | G46: TRUE | H46: =IFERROR(IF(G35=TRUE,'GRADBENA FIZIKA'!G142,0),0) -> 0 | I46: =+H46*$I$16 -> 0
B47: ZAŠČITA PRED HRUPOM | G47: TRUE | H47: =IFERROR(IF(G35=TRUE,'GRADBENA FIZIKA'!G188,0),0) -> 0 | I47: =+H47*$I$16 -> 0
B48: PROSTORSKA AKUSTIKA | G48: TRUE | H48: =IFERROR(IF(G35=TRUE,'GRADBENA FIZIKA'!G234,0),0) -> 0 | I48: =+H48*$I$16 -> 0
A49: 1.3 | B49: OPREDELITEV | G49: FALSE | H49: =IFERROR(IF(G49=TRUE,(STAVBE!Q138+'NOTRANJA OPREMA'!Q120+'ODPRTI PROSTOR'!Q138),0),0) -> 0 | I49: =+H49*$I$16 -> 0
A50: 2 | B50: PROJEKTIRANJE | H50: =+H51+H65+H79+H83+H97 -> 0 | I50: =+I51+I65+I79+I83+I97 -> 0
A51: 2.1 | B51: SNOVANJE | G51: TRUE | H51: =SUM(H52:H64) -> 0 | I51: =SUM(I52:I64) -> 0
A52: IDEJNA ZASNOVA (IDZ) | B52: VODENJE IN KOORDINACIJA | G52: TRUE | H52: =IFERROR(IF(G51=TRUE,STAVBE!Q140+'NOTRANJA OPREMA'!Q122+'ODPRTI PROSTOR'!Q140,0),0) -> 0 | I52: =+H52*$I$16 -> 0
B53: ARHITEKTURA | G53: TRUE | H53: =IFERROR(IF(G51=TRUE,STAVBE!G140,0),0) -> 0 | I53: =+H53*$I$16 -> 0
B54: NOTRANJA OPREMA | G54: TRUE | H54: =IFERROR(IF(G51=TRUE,'NOTRANJA OPREMA'!G122,0),0) -> 0 | I54: =+H54*$I$16 -> 0
B55: ARHITEKTURA - ODPRTI PROSTOR | G55: TRUE | H55: =IFERROR(IF(G51=TRUE,'ODPRTI PROSTOR'!G140*'OSNOVNI PODATKI'!$F$378,0),0) -> 0 | I55: =+H55*$I$16 -> 0
B56: KRAJINSKA ARHITEKTURA | G56: TRUE | H56: =IFERROR(IF(G51=TRUE,'ODPRTI PROSTOR'!G140*(100%-'OSNOVNI PODATKI'!$F$378),0),0) -> 0 | I56: =+H56*$I$16 -> 0
B57: GRADBENE KONSTRUKCIJE | G57: TRUE | H57: =IFERROR(IF(G51=TRUE,'GRADBENE KONSTRUKCIJE'!G140,0),0) -> 0 | I57: =+H57*$I$16 -> 0
B58: ELEKTRIČNE INŠTALACIJE | G58: TRUE | H58: =IFERROR(IF(G51=TRUE,'TEHNIČNA OPREMA'!G141,0),0) -> 0 | I58: =+H58*$I$16 -> 0
B59: STROJNE INŠTALACIJE | G59: TRUE | H59: =IFERROR(IF(G51=TRUE,'TEHNIČNA OPREMA'!G193,0),0) -> 0 | I59: =+H59*$I$16 -> 0
B60: TEHNOLOGIJA | G60: TRUE | H60: =IFERROR(IF(G51=TRUE,'TEHNIČNA OPREMA'!G242,0),0) -> 0 | I60: =+H60*$I$16 -> 0
B61: POŽARNA VARNOST | G61: TRUE | H61: =IFERROR(IF(G51=TRUE,'POŽARNA VARNOST'!G160,0),0) -> 0 | I61: =+H61*$I$16 -> 0
B62: UČINKOVITA RABA ENERGIJE | G62: TRUE | H62: =IFERROR(IF(G51=TRUE,'GRADBENA FIZIKA'!G145,0),0) -> 0 | I62: =+H62*$I$16 -> 0
B63: ZAŠČITA PRED HRUPOM | G63: TRUE | H63: =IFERROR(IF(G51=TRUE,'GRADBENA FIZIKA'!G191,0),0) -> 0 | I63: =+H63*$I$16 -> 0
B64: PROSTORSKA AKUSTIKA | G64: TRUE | H64: =IFERROR(IF(G51=TRUE,'GRADBENA FIZIKA'!G237,0),0) -> 0 | I64: =+H64*$I$16 -> 0
A65: 2.2 | B65: IDEJNO PROJEKTIRANJE | G65: TRUE | H65: =SUM(H66:H78) -> 0 | I65: =SUM(I66:I78) -> 0
A66: IDEJNI PROJEKT (IDP) | B66: VODENJE IN KOORDINACIJA | G66: TRUE | H66: =IFERROR(IF(G65=TRUE,STAVBE!Q141+'NOTRANJA OPREMA'!Q123+'ODPRTI PROSTOR'!Q141,0),0) -> 0 | I66: =+H66*$I$16 -> 0
B67: ARHITEKTURA | G67: TRUE | H67: =IFERROR(IF((G65=TRUE),STAVBE!G141,0),0) -> 0 | I67: =+H67*$I$16 -> 0
B68: NOTRANJA OPREMA | G68: TRUE | H68: =IFERROR(IF((G65=TRUE),'NOTRANJA OPREMA'!G123,0),0) -> 0 | I68: =+H68*$I$16 -> 0
B69: ARHITEKTURA - ODPRTI PROSTOR | G69: TRUE | H69: =IFERROR(IF(G65=TRUE,'ODPRTI PROSTOR'!G141*'OSNOVNI PODATKI'!$F$378,0),0) -> 0 | I69: =+H69*$I$16 -> 0
B70: KRAJINSKA ARHITEKTURA | G70: TRUE | H70: =IFERROR(IF(G65=TRUE,'ODPRTI PROSTOR'!G141*(100%-'OSNOVNI PODATKI'!$F$378),0),0) -> 0 | I70: =+H70*$I$16 -> 0
B71: GRADBENE KONSTRUKCIJE | G71: TRUE | H71: =IFERROR(IF(G65=TRUE,'GRADBENE KONSTRUKCIJE'!G141,0),0) -> 0 | I71: =+H71*$I$16 -> 0
B72: ELEKTRIČNE INŠTALACIJE | G72: TRUE | H72: =IFERROR(IF(G65=TRUE,'TEHNIČNA OPREMA'!G142,0),0) -> 0 | I72: =+H72*$I$16 -> 0
B73: STROJNE INŠTALACIJE | G73: TRUE | H73: =IFERROR(IF(G65=TRUE,'TEHNIČNA OPREMA'!G194,0),0) -> 0 | I73: =+H73*$I$16 -> 0
B74: TEHNOLOGIJA | G74: TRUE | H74: =IFERROR(IF(G65=TRUE,'TEHNIČNA OPREMA'!G243,0),0) -> 0 | I74: =+H74*$I$16 -> 0
B75: POŽARNA VARNOST | G75: TRUE | H75: =IFERROR(IF(G65=TRUE,'POŽARNA VARNOST'!G161,0),0) -> 0 | I75: =+H75*$I$16 -> 0
B76: UČINKOVITA RABA ENERGIJE | G76: TRUE | H76: =IFERROR(IF(G65=TRUE,'GRADBENA FIZIKA'!G146,0),0) -> 0 | I76: =+H76*$I$16 -> 0
B77: ZAŠČITA PRED HRUPOM | G77: TRUE | H77: =IFERROR(IF(G65=TRUE,'GRADBENA FIZIKA'!G192,0),0) -> 0 | I77: =+H77*$I$16 -> 0
B78: PROSTORSKA AKUSTIKA | G78: TRUE | H78: =IFERROR(IF(G65=TRUE,'GRADBENA FIZIKA'!G238,0),0) -> 0 | I78: =+H78*$I$16 -> 0
A79: 2.3 | B79: PRIPRAVA DOKUMENTACIJE ZA DOVOLJEVANJE | H79: =SUM(H80:H82) -> 0 | I79: =SUM(I80:I82) -> 0
B80: PROJEKTNA DOKUMENTACIJA ZA PROJEKTNE POGOJE | G80: TRUE | H80: =IFERROR(IF(G80=TRUE,(STAVBE!$Q$143+'ODPRTI PROSTOR'!Q143),0),0) -> 0 | I80: =+H80*$I$16 -> 0
B81: PROJEKTNA DOKUMENTACIJA ZA PRIDOBIVANJE GRADBENEGA DOVOLJENJA | G81: TRUE | H81: =IFERROR(IF(G81=TRUE,(STAVBE!$Q$144+'ODPRTI PROSTOR'!Q144),0),0) -> 0 | I81: =+H81*$I$16 -> 0
B82: ZASTOPANJE INVESTITORJA V UPRAVNIH POSTOPKIH | G82: TRUE | H82: =IFERROR(IF(G82=TRUE,(STAVBE!$Q$145+'ODPRTI PROSTOR'!Q145),0),0) -> 0 | I82: =+H82*$I$16 -> 0
A83: 2.4 | B83: PROJEKTIRANJE ZA IZVEDBO | G83: TRUE | H83: =SUM(H84:H96) -> 0 | I83: =SUM(I84:I96) -> 0
A84: PROJEKT ZA IZVEDBO (PZI) | B84: VODENJE IN KOORDINACIJA | G84: TRUE | H84: =IFERROR(IF(G83=TRUE,STAVBE!Q146+'NOTRANJA OPREMA'!Q125+'ODPRTI PROSTOR'!Q146,0),0) -> 0 | I84: =+H84*$I$16 -> 0
B85: ARHITEKTURA | G85: TRUE | H85: =IFERROR(IF(G83=TRUE,STAVBE!G146,0),0) -> 0 | I85: =+H85*$I$16 -> 0
B86: NOTRANJA OPREMA | G86: TRUE | H86: =IFERROR(IF(G83=TRUE,'NOTRANJA OPREMA'!G125,0),0) -> 0 | I86: =+H86*$I$16 -> 0
B87: ARHITEKTURA - ODPRTI PROSTOR | G87: TRUE | H87: =IFERROR(IF(G83=TRUE,'ODPRTI PROSTOR'!G146*'OSNOVNI PODATKI'!$F$378,0),0) -> 0 | I87: =+H87*$I$16 -> 0
B88: KRAJINSKA ARHITEKTURA | G88: TRUE | H88: =IFERROR(IF(G83=TRUE,'ODPRTI PROSTOR'!G146*(100%-'OSNOVNI PODATKI'!$F$378),0),0) -> 0 | I88: =+H88*$I$16 -> 0
B89: GRADBENE KONSTRUKCIJE | G89: TRUE | H89: =IFERROR(IF(G83=TRUE,'GRADBENE KONSTRUKCIJE'!G143,0),0) -> 0 | I89: =+H89*$I$16 -> 0
B90: ELEKTRIČNE INŠTALACIJE | G90: TRUE | H90: =IFERROR(IF(G83=TRUE,'TEHNIČNA OPREMA'!G144,0),0) -> 0 | I90: =+H90*$I$16 -> 0
B91: STROJNE INŠTALACIJE | G91: TRUE | H91: =IFERROR(IF(G83=TRUE,'TEHNIČNA OPREMA'!G196,0),0) -> 0 | I91: =+H91*$I$16 -> 0
B92: TEHNOLOGIJA | G92: TRUE | H92: =IFERROR(IF(G83=TRUE,'TEHNIČNA OPREMA'!G245,0),0) -> 0 | I92: =+H92*$I$16 -> 0
B93: POŽARNA VARNOST | G93: TRUE | H93: =IFERROR(IF(G83=TRUE,'POŽARNA VARNOST'!G163,0),0) -> 0 | I93: =+H93*$I$16 -> 0
B94: UČINKOVITA RABA ENERGIJE | G94: TRUE | H94: =IFERROR(IF(G83=TRUE,'GRADBENA FIZIKA'!G148,0),0) -> 0 | I94: =+H94*$I$16 -> 0
B95: ZAŠČITA PRED HRUPOM | G95: TRUE | H95: =IFERROR(IF(G83=TRUE,'GRADBENA FIZIKA'!G194,0),0) -> 0 | I95: =+H95*$I$16 -> 0
B96: PROSTORSKA AKUSTIKA | G96: TRUE | H96: =IFERROR(IF(G83=TRUE,'GRADBENA FIZIKA'!G240,0),0) -> 0 | I96: =+H96*$I$16 -> 0
A97: 2.5 | B97: PRIPRAVA GRADIV ZA NAROČILO GRADNJE | G97: TRUE | H97: =SUM(H98:H115) -> 0 | I97: =SUM(I98:I115) -> 0
A98: PROJEKT ZA RAZPIS (PZR) | B98: POPIS DEL | G98: TRUE
B99: VODENJE IN KOORDINACIJA | G99: TRUE | H99: =IFERROR(IF(G97=TRUE,STAVBE!Q147+'NOTRANJA OPREMA'!Q126+'ODPRTI PROSTOR'!Q147,0),0) -> 0 | I99: =+H99*$I$16 -> 0
B100: ARHITEKTURA | G100: TRUE | H100: =IFERROR(IF(G97=TRUE,STAVBE!G147,0),0) -> 0 | I100: =+H100*$I$16 -> 0
B101: NOTRANJA OPREMA | G101: TRUE | H101: =IFERROR(IF(G97=TRUE,'NOTRANJA OPREMA'!G126,0),0) -> 0 | I101: =+H101*$I$16 -> 0
B102: ARHITEKTURA - ODPRTI PROSTOR | G102: TRUE | H102: =IFERROR(IF(G97=TRUE,'ODPRTI PROSTOR'!G147*'OSNOVNI PODATKI'!$F$378,0),0) -> 0 | I102: =+H102*$I$16 -> 0
B103: KRAJINSKA ARHITEKTURA | G103: TRUE | H103: =IFERROR(IF(G97=TRUE,'ODPRTI PROSTOR'!G147*(100%-'OSNOVNI PODATKI'!$F$378),0),0) -> 0 | I103: =+H103*$I$16 -> 0
B104: ELEKTRIČNE INŠTALACIJE | G104: TRUE | H104: =IFERROR(IF(G97=TRUE,'TEHNIČNA OPREMA'!G145,0),0) -> 0 | I104: =+H104*$I$16 -> 0
B105: STROJNE INŠTALACIJE | G105: TRUE | H105: =IFERROR(IF(G97=TRUE,'TEHNIČNA OPREMA'!G197,0),0) -> 0 | I105: =+H105*$I$16 -> 0
B106: TEHNOLOGIJA | G106: TRUE | H106: =IFERROR(IF(G97=TRUE,'TEHNIČNA OPREMA'!G246,0),0) -> 0 | I106: =+H106*$I$16 -> 0
B107: PROJEKTANTSKI PREDRAČUN | G107: FALSE
...

Sheet OSNOVNE STORITVE
C1: ='OSNOVNI PODATKI'!D1 -> NAROČNIK | D1: =IFERROR('OSNOVNI PODATKI'!E1,"") -> 0
D2: =IFERROR('OSNOVNI PODATKI'!E2,"") -> 0
C3: ='OSNOVNI PODATKI'!D3 -> PROJEKTANT | D3: =IFERROR('OSNOVNI PODATKI'!E3,"") -> 0
C4: ='OSNOVNI PODATKI'!D4 -> GRADNJA | D4: =IFERROR('OSNOVNI PODATKI'!E4,"") -> 0
C5: ='OSNOVNI PODATKI'!D5 -> DATUM | D5: ='OSNOVNI PODATKI'!E5 -> 46278
A8: PRILOGA C - ROKI IN POGOJI ZA IZVEDBO, CENA TER POGOJI ZA PLAČILO
A9: TABELA 1: OSNOVNE STORITVE
C11: ROKI IN POGOJI ZA IZVEDBO DEL | E11: STRUKTURA CENE | F11: CENA BREZ DDV | G11: DDV 22% | H11: CENA Z DDV | I11: POGOJ ZA PLAČILO
A12: 0 | B12: POBUDA
A13: 0.1 | B13: TRŽNA ANALIZA | C13: xx | D13: delovnih dni od podpisa pogodbe | E13: =IFERROR(+F13/($F$55+'POSEBNE STORITVE'!$F$91),"%") -> % | F13: 0 | G13: =+F13*0.22 -> 0 | H13: =+F13+G13 -> 0 | I13: Pisno / ustno poročilo naročniku o storitvah te podfaze po ST ZAPS 01 / Plačilo za to fazo se opravi po zaključku faze 0.2.
A14: 0.2 | B14: OCENA GOSPODARNOSTI | C14: xx | D14: delovnih dni od podpisa pogodbe / od plačila / zaključka predhodne faze | E14: =IFERROR(+F14/($F$55+'POSEBNE STORITVE'!$F$91),"%") -> % | F14: 0 | G14: =+F14*0.22 -> 0 | H14: =+F14+G14 -> 0 | I14: Pisno / ustno poročilo naročniku o storitvah te podfaze po ST ZAPS 01
A15: 1 | B15: ZAGON
A16: 1.1 | B16: ZAGON PROJEKTA | C16: xx | D16: delovnih dni od podpisa pogodbe / od plačila / zaključka predhodne faze | E16: =IFERROR(+F16/($F$55+'POSEBNE STORITVE'!$F$91),"%") -> % | F16: 0 | G16: =+F16*0.22 -> 0 | H16: =+F16+G16 -> 0 | I16: Pisno / ustno poročilo naročniku o storitvah te podfaze po ST ZAPS 01 / Plačilo za to fazo se opravi po zaključku faze 1.3.
A17: 1.2 | B17: ŠTUDIJA IZVEDLJIVOSTI | C17: xx | D17: delovnih dni od podpisa pogodbe / od plačila / zaključka predhodne faze | E17: =IFERROR(+F17/($F$55+'POSEBNE STORITVE'!$F$91),"%") -> % | F17: 0 | G17: =+F17*0.22 -> 0 | H17: =+F17+G17 -> 0 | I17: Pisno / ustno poročilo naročniku – zazidalna /prostorska preveritev / in potrditev gradiv s strani naročnika / Plačilo za to fazo se opravi po zaključku faze 1.3.
A18: 1.3 | B18: OPREDELITEV | C18: xx | D18: delovnih dni od podpisa pogodbe / od plačila / zaključka predhodne faze | E18: =IFERROR(+F18/($F$55+'POSEBNE STORITVE'!$F$91),"%") -> % | F18: 0 | G18: =+F18*0.22 -> 0 | H18: =+F18+G18 -> 0 | I18: S strani naročnika potrjena projektna naloga.
A19: 2 | B19: PROJEKTIRANJE
A20: 2.1 | B20: SNOVANJE
B21: PROJEKTNA DOKUMENTACIJA IDZ | C21: xx | D21: delovnih dni od podpisa pogodbe / od plačila / zaključka predhodne faze / od prejema potrjene projektne naloge | E21: =IFERROR(+F21/($F$55+'POSEBNE STORITVE'!$F$91),"%") -> % | F21: 0 | G21: =+F21*0.22 -> 0 | H21: =+F21+G21 -> 0 | I21: Predaja IDZ in potrditev s strani naročnika.
A22: 2.2 | B22: IDEJNO PROJEKTIRANJE
B23: PROJEKTNA DOKUMENTACIJA IDP | C23: xx | D23: delovnih dni po prejemu vseh projektnih in drugih pogojev | E23: =IFERROR(+F23/($F$55+'POSEBNE STORITVE'!$F$91),"%") -> % | F23: 0 | G23: =+F23*0.22 -> 0 | H23: =+F23+G23 -> 0 | I23: Predaja IDP in potrditev s strani naročnika.
A24: 2.3 | B24: PRIPRAVA DOKUMENTACIJE ZA PRIDOBIVANJE DOVOLJENJ
B25: PROJEKTNA DOKUMENTACIJA ZA PROJEKTNE POGOJE (DPP) | C25: xx | D25: delovnih dni po pisni potrditvi predane IDZ s strani naročnika | E25: =IFERROR(+F25/($F$55+'POSEBNE STORITVE'!$F$91),"%") -> % | F25: 0 | G25: =+F25*0.22 -> 0 | H25: =+F25+G25 -> 0 | I25: Predaja DPP in potrditev s strani naročnika.
B26: PROJEKTNA DOKUMENTACIJA ZA PRIDOBIVANJE MNENJ IN GRADBENEGA DOVOLJENJA (DGD) | C26: xx | D26: delovnih dni po pisni potrditvi predane IDZ (opcija: IDP) s strani naročnika, pridobitvi vseh potrebnih projektnih pogojev, dokumentov in dokazil s strani naročnika (npr. vezano na postopke evidentiranosti, lastništva, davke in prispevke ipd.) | E26: =IFERROR(+F26/($F$55+'POSEBNE STORITVE'!$F$91),"%") -> % | F26: 0 | G26: =+F26*0.22 -> 0 | H26: =+F26+G26 -> 0 | I26: Predaja DGD in potrditev s strani naročnika.
A27: 2.4 | B27: PROJEKTIRANJE ZA IZVEDBO
B28: PROJEKTNA DOKUMENTACIJA ZA IZVEDBO (PZI) | C28: xx | D28: delovnih dni po pridobitvi (pravnomočnega) gradbenega dovoljenja | E28: =IFERROR(+F28/($F$55+'POSEBNE STORITVE'!$F$91),"%") -> % | F28: 0 | G28: =+F28*0.22 -> 0 | H28: =+F28+G28 -> 0 | I28: Predaja PZI in potrditev s strani naročnika.
B29: - ločena PZI projektna dokumentacija za odstranitev objekta | C29: xx | D29: delovnih dni … | E29: =IFERROR(+F29/($F$55+'POSEBNE STORITVE'!$F$91),"%") -> % | F29: 0 | G29: =+F29*0.22 -> 0 | H29: =+F29+G29 -> 0 | I29: Predaja gradiv in potrditev s strani naročnika.
B30: - ločena PZI dokumentacija za pripravljalna dela | C30: xx | D30: delovnih dni … | E30: =IFERROR(+F30/($F$55+'POSEBNE STORITVE'!$F$91),"%") -> % | F30: 0 | G30: =+F30*0.22 -> 0 | H30: =+F30+G30 -> 0 | I30: Predaja gradiv in potrditev s strani naročnika.
B31: - ločena PZI dokumentacija za načrt notranje opreme | C31: xx | D31: delovnih dni … | E31: =IFERROR(+F31/($F$55+'POSEBNE STORITVE'!$F$91),"%") -> % | F31: 0 | G31: =+F31*0.22 -> 0 | H31: =+F31+G31 -> 0 | I31: Predaja gradiv in potrditev s strani naročnika.
A32: 2.5 | B32: PRIPRAVA GRADIV ZA NAROČILO GRADNJE
B33: PROJEKTNA DOKUMENTACIJA ZA RAZPIS (PZR) | C33: xx | D33: delovnih dni po pisni potrditvi projekta PZI s strani naročnika | E33: =IFERROR(+F33/($F$55+'POSEBNE STORITVE'!$F$91),"%") -> % | F33: 0 | G33: =+F33*0.22 -> 0 | H33: =+F33+G33 -> 0 | I33: Predaja PZR in potrditev s strani naročnika.
B34: - ločen popis GO del za odstranitev objekta | C34: xx | D34: delovnih dni … | E34: =IFERROR(+F34/($F$55+'POSEBNE STORITVE'!$F$91),"%") -> % | F34: 0 | G34: =+F34*0.22 -> 0 | H34: =+F34+G34 -> 0 | I34: Predaja gradiv in potrditev s strani naročnika.
B35: - ločen popis GO del za pripravljalna dela | C35: xx | D35: delovnih dni … | E35: =IFERROR(+F35/($F$55+'POSEBNE STORITVE'!$F$91),"%") -> % | F35: 0 | G35: =+F35*0.22 -> 0 | H35: =+F35+G35 -> 0 | I35: Predaja gradiv in potrditev s strani naročnika.
B36: - ločen popis del za načrt notranje opreme | C36: xx | D36: delovnih dni … | E36: =IFERROR(+F36/($F$55+'POSEBNE STORITVE'!$F$91),"%") -> % | F36: 0 | G36: =+F36*0.22 -> 0 | H36: =+F36+G36 -> 0 | I36: Predaja gradiv in potrditev s strani naročnika.
A37: 3 | B37: NAROČANJE GRADNJE
A38: 3.1 | B38: NAROČILO TEHNOLOŠKE OPREME | C38: xx | D38: delovnih dni po prejemu vprašanj | E38: =IFERROR(+F38/($F$55+'POSEBNE STORITVE'!$F$91),"%") -> % | F38: 0 | G38: =+F38*0.22 -> 0 | H38: =+F38+G38 -> 0 | I38: Predaja gradiv in potrditev s strani naročnika.
A39: 3.2 | B39: GRADBENA POGODBA | C39: xx | D39: delovnih dni po prejemu vprašanj | E39: =IFERROR(+F39/($F$55+'POSEBNE STORITVE'!$F$91),"%") -> % | F39: 0 | G39: =+F39*0.22 -> 0 | H39: =+F39+G39 -> 0 | I39: Predaja gradiv in potrditev s strani naročnika.
A40: 4 | B40: GRADNJA
A41: 4.1 | B41: PRIPRAVA GRADNJE | D41: Sodelovanje pri uvedbi v delo in zakoličenju se izvaja skladno s terminskim načrtom graditve. | I41: Poročilo o opravljenih aktivnostih.
A42: 4.2 | B42: IZVAJANJE GRADNJE | D42: Projektantski nadzor se v dogovorjenem obsegu izvaja ves čas gradnje, skladno s potekom gradbenih del, do podpisa izvajalca in nadzornika da so dela končana. | E42: =IFERROR(+F42/$F$55,"%") -> % | F42: 0 | G42: =+F42*0.22 -> 0 | H42: =+F42+G42 -> 0 | I42: Mesečno, skupaj s poročilom o opravljenih aktivnostih.
A43: 4.3 | B43: POSKUSNO OBRATOVANJE | D43: Projektantski nadzor v času poskusnega obratovanja se v dogovorjenem obsegu izvaja ves čas poskusnega obratovanja. | E43: =IFERROR(+F43/$F$55,"%") -> % | F43: 0 | G43: =+F43*0.22 -> 0 | H43: =+F43+G43 -> 0 | I43: Mesečno, skupaj s poročilom o opravljenih aktivnostih.
A44: 4.4 | B44: PREDAJA OBJEKTA | D44: Projektantski nadzor v času predaje objekta se v dogovorjenem obsegu izvaja ves čas predaje objekta, do pridobitve uporabnega dovoljenja oz. primopredaje naročniku. | E44: =IFERROR(+F44/$F$55,"%") -> % | F44: 0 | G44: =+F44*0.22 -> 0 | H44: =+F44+G44 -> 0 | I44: Mesečno, skupaj s poročilom o opravljenih aktivnostih.
A45: 4.5 | B45: DOVOLJENJE ZA UPORABO
B46: PRIKAZ IZVEDENIH DEL (PID) | C46: xx | D46: delovnih dni po prejemu vseh potrjenih dopolnitev in sprememb iz gradbenega dnevnika v DWG formatu. | E46: =IFERROR(+F46/$F$55,"%") -> % | F46: 0 | G46: =+F46*0.22 -> 0 | H46: =+F46+G46 -> 0 | I46: Predaja PID in potrditev s strani naročnika.
A47: 5 | B47: UPORABA
A48: 5.1 | B48: OBRATOVANJE | C48: xx | D48: delovnih dni po izdanem pisnem naročilu za posamezno storitev s strani naročnika. | E48: =IFERROR(+F48/$F$55,"%") -> % | F48: 0 | G48: =+F48*0.22 -> 0 | H48: =+F48+G48 -> 0 | I48: Predaja gradiv in potrditev s strani naročnika. / Poročilo o opravljenih aktivnostih.
A49: 5.2 | B49: VZDRŽEVANJE | C49: xx | D49: delovnih dni po izdanem pisnem naročilu za posamezno storitev s strani naročnika. | E49: =IFERROR(+F49/$F$55,"%") -> % | F49: 0 | G49: =+F49*0.22 -> 0 | H49: =+F49+G49 -> 0 | I49: Predaja gradiv in potrditev s strani naročnika. / Poročilo o opravljenih aktivnostih.
A50: 6 | B50: KONEC ŽIVLJENJSKEGA CIKLA
A51: 6.1 | B51: PRESOJA | C51: xx | D51: delovnih dni od podpisa pogodbe. (Opomba: podfaza izvaja skupaj s podfazo 1.1. Zagon projekta.) | E51: =IFERROR(+F51/$F$55,"%") -> % | F51: 0 | G51: =+F51*0.22 -> 0 | H51: =+F51+G51 -> 0 | I51: Predaja gradiv in potrditev s strani naročnika.
A52: 6.2 | B52: PRENOVA | C52: xx | D52: delovnih dni od podpisa pogodbe. (Opomba: podfaza se izvaja skupaj s podfazo 1.2. Študija izvedljivosti.) | E52: =IFERROR(+F52/$F$55,"%") -> % | F52: 0 | G52: =+F52*0.22 -> 0 | H52: =+F52+G52 -> 0 | I52: Predaja gradiv in potrditev s strani naročnika.
A53: 6.3 | B53: RAZGRADNJA | C53: xx | D53: delovnih dni | E53: =IFERROR(+F53/$F$55,"%") -> % | F53: 0 | G53: =+F53*0.22 -> 0 | H53: =+F53+G53 -> 0 | I53: Predaja gradiv in potrditev s strani naročnika.
B55: SKUPAJ OSNOVNE STORITVE | E55: =SUM(E13:E54) -> 0 | F55: =SUM(F13:F54) -> 0 | G55: =SUM(G13:G54) -> 0 | H55: =SUM(H13:H54) -> 0
B56: % stroškov gradnje | F56: =IFERROR(F55/'OSNOVNI PODATKI'!$E$350,"") | G56: =IFERROR(G55/'OSNOVNI PODATKI'!$E$350,"") | H56: =IFERROR(H55/'OSNOVNI PODATKI'!$E$350,"")

Sheet POSEBNE STORITVE
C1: ='OSNOVNI PODATKI'!D1 -> NAROČNIK | D1: =IFERROR('OSNOVNI PODATKI'!E1,"") -> 0
D2: =IFERROR('OSNOVNI PODATKI'!E2,"") -> 0
C3: ='OSNOVNI PODATKI'!D3 -> PROJEKTANT | D3: =IFERROR('OSNOVNI PODATKI'!E3,"") -> 0
C4: ='OSNOVNI PODATKI'!D4 -> GRADNJA | D4: =IFERROR('OSNOVNI PODATKI'!E4,"") -> 0
C5: ='OSNOVNI PODATKI'!D5 -> DATUM | D5: ='OSNOVNI PODATKI'!E5 -> 46278
A8: PRILOGA C - ROKI IN POGOJI ZA IZVEDBO, CENA TER POGOJI ZA PLAČILO
A9: TABELA 2: POSEBNE STORITVE
C11: ROKI IN POGOJI ZA IZVEDBO DEL | E11: STRUKTURA CENE | F11: CENA BREZ DDV | G11: DDV 22% | H11: CENA Z DDV | I11: POGOJ ZA PLAČILO
A12: 0 | B12: POBUDA
A13: 0.1 | B13: TRŽNA ANALIZA
C14: xx | D14: delovnih dni … | E14: =IFERROR(+F14/('OSNOVNE STORITVE'!$F$55+$F$91),"%") -> % | F14: 0 | G14: =+F14*0.22 -> 0 | H14: =+F14+G14 -> 0 | I14: Predaja gradiv in potrditev s strani naročnika. / Kot za osnovne storitve v tej podfazi. / Mesečno na podlagi poročila o opravljenih aktivnostih / izstavljenega računa (na primer za skupni podatkovni strežnik).
C15: xx | D15: delovnih dni … | E15: =IFERROR(+F15/('OSNOVNE STORITVE'!$F$55+$F$91),"%") -> % | F15: 0 | G15: =+F15*0.22 -> 0 | H15: =+F15+G15 -> 0
A16: 0.2 | B16: OCENA GOSPODARNOSTI
C17: xx | D17: delovnih dni … | E17: =IFERROR(+F17/('OSNOVNE STORITVE'!$F$55+$F$91),"%") -> % | F17: 0 | G17: =+F17*0.22 -> 0 | H17: =+F17+G17 -> 0
C18: xx | D18: delovnih dni … | E18: =IFERROR(+F18/('OSNOVNE STORITVE'!$F$55+$F$91),"%") -> % | F18: 0 | G18: =+F18*0.22 -> 0 | H18: =+F18+G18 -> 0
A19: 1 | B19: ZAGON
A20: 1.1 | B20: ZAGON PROJEKTA
C21: xx | D21: delovnih dni … | E21: =IFERROR(+F21/('OSNOVNE STORITVE'!$F$55+$F$91),"%") -> % | F21: 0 | G21: =+F21*0.22 -> 0 | H21: =+F21+G21 -> 0
C22: xx | D22: delovnih dni … | E22: =IFERROR(+F22/('OSNOVNE STORITVE'!$F$55+$F$91),"%") -> % | F22: 0 | G22: =+F22*0.22 -> 0 | H22: =+F22+G22 -> 0
A23: 1.2 | B23: ŠTUDIJA IZVEDLJIVOSTI
C24: xx | D24: delovnih dni … | E24: =IFERROR(+F24/('OSNOVNE STORITVE'!$F$55+$F$91),"%") -> % | F24: 0 | G24: =+F24*0.22 -> 0 | H24: =+F24+G24 -> 0
C25: xx | D25: delovnih dni … | E25: =IFERROR(+F25/('OSNOVNE STORITVE'!$F$55+$F$91),"%") -> % | F25: 0 | G25: =+F25*0.22 -> 0 | H25: =+F25+G25 -> 0
A26: 1.3 | B26: OPREDELITEV
C27: xx | D27: delovnih dni … | E27: =IFERROR(+F27/('OSNOVNE STORITVE'!$F$55+$F$91),"%") -> % | F27: 0 | G27: =+F27*0.22 -> 0 | H27: =+F27+G27 -> 0
C28: xx | D28: delovnih dni … | E28: =IFERROR(+F28/('OSNOVNE STORITVE'!$F$55+$F$91),"%") -> % | F28: 0 | G28: =+F28*0.22 -> 0 | H28: =+F28+G28 -> 0
A29: 2 | B29: PROJEKTIRANJE
A30: 2.1 | B30: SNOVANJE
C31: xx | D31: delovnih dni … | E31: =IFERROR(+F31/('OSNOVNE STORITVE'!$F$55+$F$91),"%") -> % | F31: 0 | G31: =+F31*0.22 -> 0 | H31: =+F31+G31 -> 0
C32: xx | D32: delovnih dni … | E32: =IFERROR(+F32/('OSNOVNE STORITVE'!$F$55+$F$91),"%") -> % | F32: 0 | G32: =+F32*0.22 -> 0 | H32: =+F32+G32 -> 0
A33: 2.2 | B33: IDEJNO PROJEKTIRANJE
C34: xx | D34: delovnih dni … | E34: =IFERROR(+F34/('OSNOVNE STORITVE'!$F$55+$F$91),"%") -> % | F34: 0 | G34: =+F34*0.22 -> 0 | H34: =+F34+G34 -> 0
C35: xx | D35: delovnih dni … | E35: =IFERROR(+F35/('OSNOVNE STORITVE'!$F$55+$F$91),"%") -> % | F35: 0 | G35: =+F35*0.22 -> 0 | H35: =+F35+G35 -> 0
A36: 2.3 | B36: PRIPRAVA DOKUMENTACIJE ZA PRIDOBIVANJE DOVOLJENJ
B37: ZASTOPANJE INVESTITORJA V UPRAVNIH POSTOPKIH: PRIDOBIVANJE PROJEKTNIH POGOJEV | C37: xx | D37: delovnih dni po pisni potrditvi predane IDZ s strani naročnika | E37: =IFERROR(+F37/('OSNOVNE STORITVE'!$F$55+$F$91),"%") -> % | F37: 0 | G37: =+F37*0.22 -> 0 | H37: =+F37+G37 -> 0 | I37: Predaja DPP in potrditev s strani naročnika. / Potrdilo o pošiljanju DPP relevantnim mnenjedajalcem.
B38: ZASTOPANJE INVESTITORJA V UPRAVNIH POSTOPKIH: PRIDOBIVANJE MNENJ | C38: xx | D38: delovnih dni po pridobitvi vseh mnenj in soglasij | E38: =IFERROR(+F38/('OSNOVNE STORITVE'!$F$55+$F$91),"%") -> % | F38: 0 | G38: =+F38*0.22 -> 0 | H38: =+F38+G38 -> 0 | I38: Pridobljena vsa potrebna mnenja.
B39: ZASTOPANJE INVESTITORJA V UPRAVNIH POSTOPKIH: PRIDOBIVANJE GRADBENEGA DOVOLJENJA | C39: xx | D39: delovnih dni po pridobitvi vseh mnenj in soglasij | E39: =IFERROR(+F39/('OSNOVNE STORITVE'!$F$55+$F$91),"%") -> % | F39: 0 | G39: =+F39*0.22 -> 0 | H39: =+F39+G39 -> 0 | I39: 95 % vrednosti - potrdilo o oddani vlogi, 5 % vrednosti - pravnomočno gradbeno dovoljenje.
A40: 2.4 | B40: PROJEKTIRANJE ZA IZVEDBO
C41: xx | D41: delovnih dni … | E41: =IFERROR(+F41/('OSNOVNE STORITVE'!$F$55+$F$91),"%") -> % | F41: 0 | G41: =+F41*0.22 -> 0 | H41: =+F41+G41 -> 0
C42: xx | D42: delovnih dni … | E42: =IFERROR(+F42/('OSNOVNE STORITVE'!$F$55+$F$91),"%") -> % | F42: 0 | G42: =+F42*0.22 -> 0 | H42: =+F42+G42 -> 0
A43: 2.5 | B43: PRIPRAVA GRADIV ZA NAROČILO GRADNJE
B44: PROJEKTANTSKI PREDRAČUN | C44: xx | D44: delovnih dni … | E44: =IFERROR(+F44/('OSNOVNE STORITVE'!$F$55+$F$91),"%") -> % | F44: 0 | G44: =+F44*0.22 -> 0 | H44: =+F44+G44 -> 0
B45: RAZPISNA DOKUMENTACIJA | C45: xx | D45: delovnih dni … | E45: =IFERROR(+F45/('OSNOVNE STORITVE'!$F$55+$F$91),"%") -> % | F45: 0 | G45: =+F45*0.22 -> 0 | H45: =+F45+G45 -> 0
C46: xx | D46: delovnih dni … | E46: =IFERROR(+F46/('OSNOVNE STORITVE'!$F$55+$F$91),"%") -> % | F46: 0 | G46: =+F46*0.22 -> 0 | H46: =+F46+G46 -> 0
A47: 3 | B47: NAROČANJE GRADNJE
A48: 3.1 | B48: NAROČILO TEHNOLOŠKE OPREME
B49: IZVEDBA RAZPISA | C49: xx | D49: delovnih dni … | E49: =IFERROR(+F49/('OSNOVNE STORITVE'!$F$55+$F$91),"%") -> % | F49: 0 | G49: =+F49*0.22 -> 0 | H49: =+F49+G49 -> 0
C50: xx | D50: delovnih dni … | E50: =IFERROR(+F50/('OSNOVNE STORITVE'!$F$55+$F$91),"%") -> % | F50: 0 | G50: =+F50*0.22 -> 0 | H50: =+F50+G50 -> 0
A51: 3.2 | B51: GRADBENA POGODBA
B52: IZVEDBA RAZPISA | C52: xx | D52: delovnih dni … | E52: =IFERROR(+F52/('OSNOVNE STORITVE'!$F$55+$F$91),"%") -> % | F52: 0 | G52: =+F52*0.22 -> 0 | H52: =+F52+G52 -> 0
C53: xx | D53: delovnih dni … | E53: =IFERROR(+F53/('OSNOVNE STORITVE'!$F$55+$F$91),"%") -> % | F53: 0 | G53: =+F53*0.22 -> 0 | H53: =+F53+G53 -> 0
A54: 4 | B54: GRADNJA
A55: 4.1 | B55: PRIPRAVA GRADNJE
B56: ZASTOPANJE INVESTITORJA V UPRAVNIH POSTOPKIH: POPOLNA VLOGA ZA PRIJAVO GRADNJE | C56: xx | D56: delovnih dni po sklenitvi gradbene pogodbe, prejemu zakoličbenega zapisnika in pridobitvi vseh potrebnih dokumentov in podatkov s strani naročnika (potrdilo o plačanem komunalnem prispevku, soglasja za priključitev, načrt organizacije gradbišča, …) | E56: =IFERROR(+F56/('OSNOVNE STORITVE'!$F$55+$F$91),"%") -> % | F56: 0 | G56: =+F56*0.22 -> 0 | H56: =+F56+G56 -> 0 | I56: Potrdilo o oddani vlogi.
C57: xx | D57: delovnih dni … | E57: =IFERROR(+F57/('OSNOVNE STORITVE'!$F$55+$F$91),"%") -> % | F57: 0 | G57: =+F57*0.22 -> 0 | H57: =+F57+G57 -> 0
C58: xx | D58: delovnih dni … | E58: =IFERROR(+F58/('OSNOVNE STORITVE'!$F$55+$F$91),"%") -> % | F58: 0 | G58: =+F58*0.22 -> 0 | H58: =+F58+G58 -> 0
A59: 4.2 | B59: IZVAJANJE GRADNJE
B60: GRADBENI NADZOR | D60: Gradbeni nadzor se v dogovorjenem obsegu izvaja ves čas gradnje, skladno s potekom gradbenih del, do podpisa izvajalca in nadzornika da so dela končana. Gradbeni nadzor se bo izvajal v skupnem maksimalnem obsegu x ur na teden, skupnem maksimalnem trajanju x tednov oziroma v skupnem maksimalnem številu x ur. | E60: =IFERROR(+F60/('OSNOVNE STORITVE'!$F$55+$F$91),"%") -> % | F60: 0 | G60: =+F60*0.22 -> 0 | H60: =+F60+G60 -> 0 | I60: Mesečno, skupaj s poročilom o opravljenih aktivnostih.
C61: xx | D61: delovnih dni … | E61: =IFERROR(+F61/('OSNOVNE STORITVE'!$F$55+$F$91),"%") -> % | F61: 0 | G61: =+F61*0.22 -> 0 | H61: =+F61+G61 -> 0
A62: 4.3 | B62: POSKUSNO OBRATOVANJE
B63: GRADBENI NADZOR | D63: Gradbeni nadzor v času poskusnega obratovanja se v dogovorjenem obsegu izvaja ves čas poskusnega obratovanja. Projektantski nadzor se bo izvajal v skupnem maksimalnem obsegu x ur na teden, skupnem maksimalnem trajanju x tednov oziroma v skupnem maksimalnem številu x ur. | E63: =IFERROR(+F63/('OSNOVNE STORITVE'!$F$55+$F$91),"%") -> % | F63: 0 | G63: =+F63*0.22 -> 0 | H63: =+F63+G63 -> 0 | I63: Mesečno, skupaj s poročilom o opravljenih aktivnostih.
C64: xx | D64: delovnih dni … | E64: =IFERROR(+F64/('OSNOVNE STORITVE'!$F$55+$F$91),"%") -> % | F64: 0 | G64: =+F64*0.22 -> 0 | H64: =+F64+G64 -> 0
A65: 4.4 | B65: PREDAJA OBJEKTA
B66: GRADBENI NADZOR | D66: Gradbeni nadzor v času predaje objekta se v dogovorjenem obsegu izvaja ves čas predaje objekta, do pridobitve uporabnega dovoljenja oz. primopredaje naročniku. Projektantski nadzor se bo izvajal v skupnem maksimalnem obsegu x ur na teden, skupnem maksimalnem trajanju x tednov oziroma v skupnem maksimalnem številu x ur. | E66: =IFERROR(+F66/('OSNOVNE STORITVE'!$F$55+$F$91),"%") -> % | F66: 0 | G66: =+F66*0.22 -> 0 | H66: =+F66+G66 -> 0 | I66: Mesečno, skupaj s poročilom o opravljenih aktivnostih.
C67: xx | D67: delovnih dni … | E67: =IFERROR(+F67/('OSNOVNE STORITVE'!$F$55+$F$91),"%") -> % | F67: 0 | G67: =+F67*0.22 -> 0 | H67: =+F67+G67 -> 0
A68: 4.5 | B68: DOVOLJENJE ZA UPORABO
B69: ZASTOPANJE INVESTITORJA V UPRAVNIH POSTOPKIH: POPOLNA ZAHTEVA ZA PRIDOBITEV UPORABNEGA DOVOLJENJA | D69: Se izvaja v časovni odvisnosti od dejanj pristojnih organov. | E69: =IFERROR(+F69/('OSNOVNE STORITVE'!$F$55+$F$91),"%") -> % | F69: 0 | G69: =+F69*0.22 -> 0 | H69: =+F69+G69 -> 0 | I69: Pravnomočno uporabno dovoljenje.
C70: xx | D70: delovnih dni … | E70: =IFERROR(+F70/('OSNOVNE STORITVE'!$F$55+$F$91),"%") -> % | F70: 0 | G70: =+F70*0.22 -> 0 | H70: =+F70+G70 -> 0
C71: xx | D71: delovnih dni … | E71: =IFERROR(+F71/('OSNOVNE STORITVE'!$F$55+$F$91),"%") -> % | F71: 0 | G71: =+F71*0.22 -> 0 | H71: =+F71+G71 -> 0
A72: 5 | B72: UPORABA
A73: 5.1 | B73: OBRATOVANJE
C74: xx | D74: delovnih dni … | E74: =IFERROR(+F74/('OSNOVNE STORITVE'!$F$55+$F$91),"%") -> % | F74: 0 | G74: =+F74*0.22 -> 0 | H74: =+F74+G74 -> 0
C75: xx | D75: delovnih dni … | E75: =IFERROR(+F75/('OSNOVNE STORITVE'!$F$55+$F$91),"%") -> % | F75: 0 | G75: =+F75*0.22 -> 0 | H75: =+F75+G75 -> 0
A76: 5.2 | B76: VZDRŽEVANJE
C77: xx | D77: delovnih dni … | E77: =IFERROR(+F77/('OSNOVNE STORITVE'!$F$55+$F$91),"%") -> % | F77: 0 | G77: =+F77*0.22 -> 0 | H77: =+F77+G77 -> 0
C78: xx | D78: delovnih dni … | E78: =IFERROR(+F78/('OSNOVNE STORITVE'!$F$55+$F$91),"%") -> % | F78: 0 | G78: =+F78*0.22 -> 0 | H78: =+F78+G78 -> 0
A79: 6 | B79: KONEC ŽIVLJENJSKEGA CIKLA
A80: 6.1 | B80: PRESOJA
C81: xx | D81: delovnih dni … | E81: =IFERROR(+F81/('OSNOVNE STORITVE'!$F$55+$F$91),"%") -> % | F81: 0 | G81: =+F81*0.22 -> 0 | H81: =+F81+G81 -> 0
C82: xx | D82: delovnih dni … | E82: =IFERROR(+F82/('OSNOVNE STORITVE'!$F$55+$F$91),"%") -> % | F82: 0 | G82: =+F82*0.22 -> 0 | H82: =+F82+G82 -> 0
A83: 6.2 | B83: PRENOVA
C84: xx | D84: delovnih dni … | E84: =IFERROR(+F84/('OSNOVNE STORITVE'!$F$55+$F$91),"%") -> % | F84: 0 | G84: =+F84*0.22 -> 0 | H84: =+F84+G84 -> 0
C85: xx | D85: delovnih dni … | E85: =IFERROR(+F85/('OSNOVNE STORITVE'!$F$55+$F$91),"%") -> % | F85: 0 | G85: =+F85*0.22 -> 0 | H85: =+F85+G85 -> 0
A86: 6.3 | B86: RAZGRADNJA
C87: xx | D87: delovnih dni … | E87: =IFERROR(+F87/('OSNOVNE STORITVE'!$F$55+$F$91),"%") -> % | F87: 0 | G87: =+F87*0.22 -> 0 | H87: =+F87+G87 -> 0
C88: xx | D88: delovnih dni … | E88: =IFERROR(+F88/('OSNOVNE STORITVE'!$F$55+$F$91),"%") -> % | F88: 0 | G88: =+F88*0.22 -> 0 | H88: =+F88+G88 -> 0
B91: SKUPAJ OSNOVNE STORITVE | E91: =SUM(E12:E90) -> 0 | F91: =SUM(F19:F89) -> 0 | G91: =SUM(G19:G89) -> 0 | H91: =SUM(H19:H89) -> 0
B92: % stroškov gradnje | F92: =IFERROR(F91/'OSNOVNI PODATKI'!$E$350,"") | G92: =IFERROR(G91/'OSNOVNI PODATKI'!$E$350,"") | H92: =IFERROR(H91/'OSNOVNI PODATKI'!$E$350,"")

Sheet VREDNOST NU
A1: Kalkulacija stroškov za določitev vrednosti projektantske obračunske ure (2026)
A2: Vrednosti so informativne in se razlikujejo glede na organizacijo posameznega biroja.
A5: I. | B5: Podatki
B6: število zaposlenih | F6: 1
B7: od tega proizvodnih delavcev | F7: 1
B8: Število delovnih ur / delovni dan | F8: 8
B9: Število obračunskih ur / delovni dan | F9: 6
B10: Tedenski fond obračunskih ur | F10: =+F9*5 -> 30
C11: mesec | D11: leto
B12: povprečni BTO OD v Sloveniji 2026 | C12: 2682.36 | D12: =+C12*12 -> 32188.32
B13: povprečni NTO OD v Sloveniji 2026 | C13: 1680.8 | D13: =+C13*12 -> 20169.6
B14: faktor bruto/neto | C14: =+C12/C13 -> 1.5958829 | D14: =+D12/D13 -> 1.5958829
B16: 2026 | E16: dni | F16: ur
B17: Letni fond delovnih dni | E17: 250
B18: Število dela prostih dni (prazniki) | E18: 11
B19: Letni dopust | E19: 25
B20: Bolniška odsotnost | E20: 5
B21: Izobraževanje | E21: 5
B22: Skupaj efektivnih delovnih dni | E22: =+E17-E19-E20-E21 -> 215
B23: Mesečni fond efektivnih delovnih dni (povprečni) | E23: =+E22/12 -> 17.916667
A26: I. | B26: Stroški
A28: A. | B28: Stroški dela posameznega delavca | C28: mesec | D28: leto | E28: ura
A29: 1. | B29: bto plača | C29: =+C30*C31 -> 2713.001 | D29: =+C29*12 -> 32556.011 | E29: =+C29/$E$23/$F$8 -> 18.927914
B30: neto plača | C30: 1700 | D30: =+C30*12 -> 20400 | E30: =+C30/$E$23/$F$8 -> 11.860465
B31: faktor bruto/neto | C31: =C14 -> 1.5958829 | D31: =D14 -> 1.5958829
A32: 2. | B32: prehrana (ocena) | C32: =20*10 -> 200 | D32: =+C32*12 -> 2400
A33: 3. | B33: prevoz na delo (ocena) | C33: 50 | D33: =+C33*12 -> 600
A34: 4. | B34: regres | D34: 1500
B35: skupaj | C35: =+C34+C33+C32+C29 -> 2963.001 | D35: =+D34+D33+D32+D29 -> 37056.011
F36: delež
B37: skupaj za vse delavce | C37: =+C35*F6 -> 2963.001 | D37: =+D35*F6 -> 37056.011 | F37: =+D37/D67 -> 0.57755618
A39: B. | B39: Drugi stroški | D39: leto
A40: 1. | B40: pisarniški in drobni material | D40: 500
A41: 2. | B41: prostori, 15 m2/delavec (najemnina, tekoči stroški in vzdrževanje, nadomestilo za uporabo stavbnega zemljišča) | D41: =500*12*F6 -> 6000
A42: 3. | B42: pošta, kurirji, DHL, … | D42: 200
A43: 4. | B43: telefon, internet | D43: =40*12 -> 480
A44: 5. | B44: reprezentanca | D44: 200
A45: 6. | B45: amortizacija osnovnih sredsev | D45: 500
A46: 7. | B46: programska oprema | D46: 1500
A47: 8. | B47: potni stroški, dnevnice | D47: 2000
A48: 9. | B48: prevozna sredstva (leasing, vzdrževanje) | D48: 0
A49: 10. | B49: literatura, revije, časopisi | D49: 1200
A50: 11. | B50: sodne takse | D50: 0
A51: 12. | B51: zavarovanja | D51: 500
A52: 13. | B52: finančni stroški (banke, posojila, ) | D52: =30*12 -> 360
A53: 14. | B53: davki | D53: 2000
A54: 15. | B54: računovodstvo | D54: =150*12 -> 1800
A55: 16. | B55: odvetniške in notarske stroitve | D55: 0
A56: 17. | B56: druga svetovanja v zvezi z vodenjem firme | D56: 500
A57: 18. | B57: članarine | D57: 400
A58: 19. | B58: natečaji (materialni stroški, delo ziunanjih sodelavcev, nabave gradiva, ..) | D58: 0
A59: 20. | B59: promocija (objave, sodelovanje na predstavitvah) | D59: 500
A60: 21. | B60: donacije | D60: 0
A61: 22. | B61: štipendije | D61: 0
A62: 23. | B62: kazni, odškodnine (rizični fond) | D62: 6000
B63: skupaj biro | D63: =SUM(D40:D62) -> 24640 | F63: =+D63/D67 -> 0.38403983
A65: C. | B65: Pričakovani dobiček (pred obdavčitvijo, 10 % stroškov | D65: =+D63*0.1 -> 2464 | F65: =+D65/D67 -> 0.038403983
B67: SKUPAJ A.+B.+C. | D67: =+D65+D63+D37 -> 64160.011 | F67: 1
A70: II. | B70: Proizvodne ure
A72: A. | B72: Število efektivnih ur (billable hours) | C72: mesec | D72: leto
B73: obračunske ure proizvodnih delavcev | C73: =+E23*F9*F7 -> 107.5 | D73: =+C73*12 -> 1290 | F73: =+D73/D74 -> 0.75
B74: vse ure vseh delavcev | C74: =+F6*E23*F8 -> 143.33333 | D74: =+C74*12 -> 1720
B76: proizvodne ure | D76: =+D73 -> 1290
A79: B. | B79: Cena povprečne proizvodne ure (NU) | F79: =+D67/D76 -> 49.736443
A82: C. | B82: Razmerja
B83: faktor NU/bto ura | F83: =+F79/E29 -> 2.627677
B84: faktor NU/nto ura | F84: =+F79/E30 -> 4.1934648

Sheet STAVBE
B1: Poraba časa - stavbe
A3: IZRAČUN ŠTEVILA NU ZA NAČRTOVANJE STAVB
B5: VRSTA IZRAČUNA | C5: ='OSNOVNI PODATKI'!H11 -> 2 | D5: =IF(C5=1,'OSNOVNI PODATKI'!B11,'OSNOVNI PODATKI'!B12) -> ENA STAVBA ALI VEČ RAZLIČNIH STAVB (PRI IZRAČUNU POTREBNIH NU SE VSAKA STAVBA IZRAČUNAVA LOČENO)
B6: CELOTNA BTP | C6: ='OSNOVNI PODATKI'!E308 -> 0
B8: ='OSNOVNI PODATKI'!A15 -> STAVBA 1 / DEL 1 | C8: ='OSNOVNI PODATKI'!E15 -> 0
B9: TIPOLOGIJA | C9: ='OSNOVNI PODATKI'!E16 -> 5. Nepodkletene eno in dvostanovanjske stavbe, nižji standard
B10: BRUTO POVRŠINA DELA | C10: ='OSNOVNI PODATKI'!E17 -> 0
B11: BRUTO POVRŠINA ZA IZRAČUN | C11: =IF($C$5=1,$C$6,C10) -> 0
B12: INDEKS TIPOLOGIJE | C12: ='OSNOVNI PODATKI'!E27 -> -105.4
B13: IZBRANI CENOVNI RAZRED | C13: ='OSNOVNI PODATKI'!E18 -> Cenovni razred III
B14: Cenovni razred I | C14: =IFERROR(0.005*POWER(IF((C21+C22+C23)<25%*C20,C11*(1000+C12),(C20-37.5%*C20+50%)*C11*(1000+C12)),0.8868)/C11,0) -> 0 | D14: NU/m2
B15: Cenovni razred II | C15: =IFERROR(0.0058*POWER(IF((C21+C22+C23)<25%*C20,C11*(1000+C12),(C20-37.5%*C20+50%)*C11*(1000+C12)),0.8868)/C11,0) -> 0 | D15: NU/m2
B16: Cenovni razred III | C16: =IFERROR(0.0069*POWER(IF((C21+C22+C23)<25%*C20,C11*(1000+C12),(C20-37.5%*C20+50%)*C11*(1000+C12)),0.8868)/C11,0) -> 0 | D16: NU/m2
B17: Cenovni razred IV | C17: =IFERROR(0.0086*POWER(IF((C21+C22+C23)<25%*C20,C11*(1000+C12),(C20-37.5%*C20+50%)*C11*(1000+C12)),0.8868)/C11,0) -> 0 | D17: NU/m2
B18: Cenovni razred V | C18: =IFERROR(0.0097*POWER(IF((C21+C22+C23)<25%*C20,C11*(1000+C12),(C20-37.5%*C20+50%)*C11*(1000+C12)),0.8868)/C11,0) -> 0 | D18: NU/m2
B19: Cenovni razred V+ | C19: =IFERROR(0.0105*POWER(IF((C21+C22+C23)<25%*C20,C11*(1000+C12),(C20-37.5%*C20+50%)*C11*(1000+C12)),0.8868)/C11,0) -> 0 | D19: NU/m2
B20: ='OSNOVNI PODATKI'!B59 -> GRADBENO OBRTNIŠKA DELA (GO) | C20: ='OSNOVNI PODATKI'!D33 -> 0.817 | E20: =IFERROR(C20*C$11*(1000+C$12),0) -> 0
B21: ='OSNOVNI PODATKI'!B60 -> ELEKTRIČNE INŠTALACIJE (EI) | C21: ='OSNOVNI PODATKI'!D34 -> 0.0345544 | E21: =IFERROR(C21*C$11*(1000+C$12),0) -> 0
B22: ='OSNOVNI PODATKI'!B61 -> STROJNE INŠTALACIJE (SI) | C22: ='OSNOVNI PODATKI'!D35 -> 0.14823 | E22: =IFERROR(C22*C$11*(1000+C$12),0) -> 0
B23: ='OSNOVNI PODATKI'!B62 -> TEHNOLOGIJA (TH) | C23: ='OSNOVNI PODATKI'!D36 -> 0 | E23: =IFERROR(C23*C$11*(1000+C$12),0) -> 0
B25: MINIMALNO ŠTEVILO NU/m2 | C25: =IFERROR(LOOKUP(C13,B14:C18),0) -> 0 | D25: NU/m2
B26: MAKSIMALNO ŠTEVILO NU/m2 | C26: {=IFERROR(INDEX(C14:C19,MATCH(C13,B14:B18)+1),0)} -> 0 | D26: NU/m2
B27: MINIMALNO ŠTEVILO NU | C27: =IFERROR(C25*C10,0) -> 0 | D27: NU
B28: MAKSIMALNO ŠTEVILO NU | C28: =IFERROR(C26*C10,0) -> 0 | D28: NU
B30: ='OSNOVNI PODATKI'!A41 -> STAVBA 2 / DEL 2 | C30: ='OSNOVNI PODATKI'!E41 -> 0
B31: TIPOLOGIJA | C31: ='OSNOVNI PODATKI'!E42 -> 6. Nepodkletene eno in dvostanovanjske stavbe, srednji standard
B32: BRUTO POVRŠINA DELA | C32: ='OSNOVNI PODATKI'!E43 -> 0
B33: BRUTO POVRŠINA ZA IZRAČUN | C33: =IF($C$5=1,$C$6,C32) -> 0
B34: INDEKS TIPOLOGIJE | C34: ='OSNOVNI PODATKI'!E53 -> 230.6
B35: IZBRANI CENOVNI RAZRED | C35: ='OSNOVNI PODATKI'!E44 -> Cenovni razred III
B36: Cenovni razred I | C36: =IFERROR(0.005*POWER(IF((C43+C44+C45)<25%*C42,C33*(1000+C34),(C42-37.5%*C42+50%)*C33*(1000+C34)),0.8868)/C33,0) -> 0 | D36: NU/m2
B37: Cenovni razred II | C37: =IFERROR(0.0058*POWER(IF((C43+C44+C45)<25%*C42,C33*(1000+C34),(C42-37.5%*C42+50%)*C33*(1000+C34)),0.8868)/C33,0) -> 0 | D37: NU/m2
B38: Cenovni razred III | C38: =IFERROR(0.0069*POWER(IF((C43+C44+C45)<25%*C42,C33*(1000+C34),(C42-37.5%*C42+50%)*C33*(1000+C34)),0.8868)/C33,0) -> 0 | D38: NU/m2
B39: Cenovni razred IV | C39: =IFERROR(0.0086*POWER(IF((C43+C44+C45)<25%*C42,C33*(1000+C34),(C42-37.5%*C42+50%)*C33*(1000+C34)),0.8868)/C33,0) -> 0 | D39: NU/m2
B40: Cenovni razred V | C40: =IFERROR(0.0097*POWER(IF((C43+C44+C45)<25%*C42,C33*(1000+C34),(C42-37.5%*C42+50%)*C33*(1000+C34)),0.8868)/C33,0) -> 0 | D40: NU/m2
B41: Cenovni razred V+ | C41: =IFERROR(0.0105*POWER(IF((C43+C44+C45)<25%*C42,C33*(1000+C34),(C42-37.5%*C42+50%)*C33*(1000+C34)),0.8868)/C33,0) -> 0 | D41: NU/m2
B42: ='OSNOVNI PODATKI'!B59 -> GRADBENO OBRTNIŠKA DELA (GO) | C42: ='OSNOVNI PODATKI'!D59 -> 0.808 | E42: =IFERROR(C42*C$33*(1000+C$34),0) -> 0
B43: ='OSNOVNI PODATKI'!B60 -> ELEKTRIČNE INŠTALACIJE (EI) | C43: ='OSNOVNI PODATKI'!D60 -> 0.044544 | E43: =IFERROR(C43*C$33*(1000+C$34),0) -> 0
B44: ='OSNOVNI PODATKI'!B61 -> STROJNE INŠTALACIJE (SI) | C44: ='OSNOVNI PODATKI'!D61 -> 0.147648 | E44: =IFERROR(C44*C$33*(1000+C$34),0) -> 0
B45: ='OSNOVNI PODATKI'!B62 -> TEHNOLOGIJA (TH) | C45: ='OSNOVNI PODATKI'!D62 -> 0 | E45: =IFERROR(C45*C$33*(1000+C$34),0) -> 0
B47: MINIMALNO ŠTEVILO NU/m2 | C47: =IFERROR(LOOKUP(C35,B36:C40),0) -> 0 | D47: NU/m2
B48: MAKSIMALNO ŠTEVILO NU/m2 | C48: {=IFERROR(INDEX(C36:C41,MATCH(C35,B36:B40)+1),0)} -> 0 | D48: NU/m2
B49: MINIMALNO ŠTEVILO NU | C49: =IFERROR(C47*C32,0) -> 0 | D49: NU
B50: MAKSIMALNO ŠTEVILO NU | C50: =IFERROR(C48*C32,0) -> 0 | D50: NU
B52: ='OSNOVNI PODATKI'!A67 -> STAVBA 3 / DEL 3 | C52: ='OSNOVNI PODATKI'!E67 -> 0
B53: TIPOLOGIJA | C53: ='OSNOVNI PODATKI'!E68 -> 47. Hoteli, moteli
B54: BRUTO POVRŠINA DELA | C54: ='OSNOVNI PODATKI'!E69 -> 0
B55: BRUTO POVRŠINA ZA IZRAČUN | C55: =IF($C$5=1,$C$6,C54) -> 0
B56: INDEKS TIPOLOGIJE | C56: ='OSNOVNI PODATKI'!E79 -> 646.4
B57: IZBRANI CENOVNI RAZRED | C57: ='OSNOVNI PODATKI'!E70 -> Cenovni razred III
B58: Cenovni razred I | C58: =IFERROR(0.005*POWER(IF((C65+C66+C67)<25%*C64,C55*(1000+C56),(C64-37.5%*C64+50%)*C55*(1000+C56)),0.8868)/C55,0) -> 0 | D58: NU/m2
B59: Cenovni razred II | C59: =IFERROR(0.0058*POWER(IF((C65+C66+C67)<25%*C64,C55*(1000+C56),(C64-37.5%*C64+50%)*C55*(1000+C56)),0.8868)/C55,0) -> 0 | D59: NU/m2
B60: Cenovni razred III | C60: =IFERROR(0.0069*POWER(IF((C65+C66+C67)<25%*C64,C55*(1000+C56),(C64-37.5%*C64+50%)*C55*(1000+C56)),0.8868)/C55,0) -> 0 | D60: NU/m2
B61: Cenovni razred IV | C61: =IFERROR(0.0086*POWER(IF((C65+C66+C67)<25%*C64,C55*(1000+C56),(C64-37.5%*C64+50%)*C55*(1000+C56)),0.8868)/C55,0) -> 0 | D61: NU/m2
B62: Cenovni razred V | C62: =IFERROR(0.0097*POWER(IF((C65+C66+C67)<25%*C64,C55*(1000+C56),(C64-37.5%*C64+50%)*C55*(1000+C56)),0.8868)/C55,0) -> 0 | D62: NU/m2
B63: Cenovni razred V+ | C63: =IFERROR(0.0105*POWER(IF((C65+C66+C67)<25%*C64,C55*(1000+C56),(C64-37.5%*C64+50%)*C55*(1000+C56)),0.8868)/C55,0) -> 0 | D63: NU/m2
B64: ='OSNOVNI PODATKI'!B85 -> GRADBENO OBRTNIŠKA DELA (GO) | C64: ='OSNOVNI PODATKI'!D85 -> 0.704 | E64: =IFERROR(C64*C$55*(1000+C$56),0) -> 0
B65: ='OSNOVNI PODATKI'!B86 -> ELEKTRIČNE INŠTALACIJE (EI) | C65: ='OSNOVNI PODATKI'!D86 -> 0.1350672 | E65: =IFERROR(C65*C$55*(1000+C$56),0) -> 0
B66: ='OSNOVNI PODATKI'!B87 -> STROJNE INŠTALACIJE (SI) | C66: ='OSNOVNI PODATKI'!D87 -> 0.118992 | E66: =IFERROR(C66*C$55*(1000+C$56),0) -> 0
B67: ='OSNOVNI PODATKI'!B88 -> TEHNOLOGIJA (TH) | C67: ='OSNOVNI PODATKI'!D88 -> 0.041736 | E67: =IFERROR(C67*C$55*(1000+C$56),0) -> 0
B69: MINIMALNO ŠTEVILO NU/m2 | C69: =IFERROR(LOOKUP(C57,B58:C62),0) -> 0 | D69: NU/m2
B70: MAKSIMALNO ŠTEVILO NU/m2 | C70: {=IFERROR(INDEX(C58:C63,MATCH(C57,B58:B62)+1),0)} -> 0 | D70: NU/m2
B71: MINIMALNO ŠTEVILO NU | C71: =IFERROR(C69*C54,0) -> 0 | D71: NU
B72: MAKSIMALNO ŠTEVILO NU | C72: =IFERROR(C70*C54,0) -> 0 | D72: NU
B74: ='OSNOVNI PODATKI'!A93 -> STAVBA 4 / DEL 4 | C74: ='OSNOVNI PODATKI'!E93 -> 0
B75: TIPOLOGIJA | C75: ='OSNOVNI PODATKI'!E94 -> 17. Šole z nadpovprečnimi načrtovalskimi potrebami - izobraževalni centri, visoke šole, univerze, akademije
B76: BRUTO POVRŠINA DELA | C76: ='OSNOVNI PODATKI'!E95 -> 0
B77: BRUTO POVRŠINA ZA IZRAČUN | C77: =IF($C$5=1,$C$6,C76) -> 0
B78: INDEKS TIPOLOGIJE | C78: ='OSNOVNI PODATKI'!E105 -> 785
B79: IZBRANI CENOVNI RAZRED | C79: ='OSNOVNI PODATKI'!E96 -> Cenovni razred III
B80: Cenovni razred I | C80: =IFERROR(0.005*POWER(IF((C87+C88+C89)<25%*C86,C77*(1000+C78),(C86-37.5%*C86+50%)*C77*(1000+C78)),0.8868)/C77,0) -> 0 | D80: NU/m2
B81: Cenovni razred II | C81: =IFERROR(0.0058*POWER(IF((C87+C88+C89)<25%*C86,C77*(1000+C78),(C86-37.5%*C86+50%)*C77*(1000+C78)),0.8868)/C77,0) -> 0 | D81: NU/m2
B82: Cenovni razred III | C82: =IFERROR(0.0069*POWER(IF((C87+C88+C89)<25%*C86,C77*(1000+C78),(C86-37.5%*C86+50%)*C77*(1000+C78)),0.8868)/C77,0) -> 0 | D82: NU/m2
B83: Cenovni razred IV | C83: =IFERROR(0.0086*POWER(IF((C87+C88+C89)<25%*C86,C77*(1000+C78),(C86-37.5%*C86+50%)*C77*(1000+C78)),0.8868)/C77,0) -> 0 | D83: NU/m2
B84: Cenovni razred V | C84: =IFERROR(0.0097*POWER(IF((C87+C88+C89)<25%*C86,C77*(1000+C78),(C86-37.5%*C86+50%)*C77*(1000+C78)),0.8868)/C77,0) -> 0 | D84: NU/m2
B85: Cenovni razred V+ | C85: =IFERROR(0.0105*POWER(IF((C87+C88+C89)<25%*C86,C77*(1000+C78),(C86-37.5%*C86+50%)*C77*(1000+C78)),0.8868)/C77,0) -> 0 | D85: NU/m2
B86: ='OSNOVNI PODATKI'!B111 -> GRADBENO OBRTNIŠKA DELA (GO) | C86: ='OSNOVNI PODATKI'!D111 -> 0.762 | E86: =IFERROR(C86*C$77*(1000+C$78),0) -> 0
B87: ='OSNOVNI PODATKI'!B112 -> ELEKTRIČNE INŠTALACIJE (EI) | C87: ='OSNOVNI PODATKI'!D112 -> 0.07973 | E87: =IFERROR(C87*C$77*(1000+C$78),0) -> 0
B88: ='OSNOVNI PODATKI'!B113 -> STROJNE INŠTALACIJE (SI) | C88: ='OSNOVNI PODATKI'!D113 -> 0.118762 | E88: =IFERROR(C88*C$77*(1000+C$78),0) -> 0
B89: ='OSNOVNI PODATKI'!B114 -> TEHNOLOGIJA (TH) | C89: ='OSNOVNI PODATKI'!D114 -> 0.039508 | E89: =IFERROR(C89*C$77*(1000+C$78),0) -> 0
B91: MINIMALNO ŠTEVILO NU/m2 | C91: =IFERROR(LOOKUP(C79,B80:C84),0) -> 0 | D91: NU/m2
B92: MAKSIMALNO ŠTEVILO NU/m2 | C92: {=IFERROR(INDEX(C80:C85,MATCH(C79,B80:B84)+1),0)} -> 0 | D92: NU/m2
B93: MINIMALNO ŠTEVILO NU | C93: =IFERROR(C91*C76,0) -> 0 | D93: NU
B94: MAKSIMALNO ŠTEVILO NU | C94: =IFERROR(C92*C76,0) -> 0 | D94: NU
B96: ='OSNOVNI PODATKI'!A119 -> STAVBA 5 / DEL 5 | C96: ='OSNOVNI PODATKI'!E119 -> 0
B97: TIPOLOGIJA | C97: ='OSNOVNI PODATKI'!E120 -> 22. Pisarniške in upravne stavbe, višji standard
B98: BRUTO POVRŠINA DELA | C98: ='OSNOVNI PODATKI'!E121 -> 0
B99: BRUTO POVRŠINA ZA IZRAČUN | C99: =IF($C$5=1,$C$6,C98) -> 0
B100: INDEKS TIPOLOGIJE | C100: ='OSNOVNI PODATKI'!E131 -> 990.8
B101: IZBRANI CENOVNI RAZRED | C101: ='OSNOVNI PODATKI'!E122 -> Cenovni razred III
B102: Cenovni razred I | C102: =IFERROR(0.005*POWER(IF((C109+C110+C111)<25%*C108,C99*(1000+C100),(C108-37.5%*C108+50%)*C99*(1000+C100)),0.8868)/C99,0) -> 0 | D102: NU/m2
B103: Cenovni razred II | C103: =IFERROR(0.0058*POWER(IF((C109+C110+C111)<25%*C108,C99*(1000+C100),(C108-37.5%*C108+50%)*C99*(1000+C100)),0.8868)/C99,0) -> 0 | D103: NU/m2
B104: Cenovni razred III | C104: =IFERROR(0.0069*POWER(IF((C109+C110+C111)<25%*C108,C99*(1000+C100),(C108-37.5%*C108+50%)*C99*(1000+C100)),0.8868)/C99,0) -> 0 | D104: NU/m2
B105: Cenovni razred IV | C105: =IFERROR(0.0086*POWER(IF((C109+C110+C111)<25%*C108,C99*(1000+C100),(C108-37.5%*C108+50%)*C99*(1000+C100)),0.8868)/C99,0) -> 0 | D105: NU/m2
B106: Cenovni razred V | C106: =IFERROR(0.0097*POWER(IF((C109+C110+C111)<25%*C108,C99*(1000+C100),(C108-37.5%*C108+50%)*C99*(1000+C100)),0.8868)/C99,0) -> 0 | D106: NU/m2
B107: Cenovni razred V+ | C107: =IFERROR(0.0105*POWER(IF((C109+C110+C111)<25%*C108,C99*(1000+C100),(C108-37.5%*C108+50%)*C99*(1000+C100)),0.8868)/C99,0) -> 0 | D107: NU/m2
B108: ='OSNOVNI PODATKI'!B137 -> GRADBENO OBRTNIŠKA DELA (GO) | C108: ='OSNOVNI PODATKI'!D137 -> 0.737 | E108: =IFERROR(C108*C$99*(1000+C$100),0) -> 0
B109: ='OSNOVNI PODATKI'!B133 -> INFORMATIVNA OCENA STROŠKOV GRADNJE | C109: ='OSNOVNI PODATKI'!D138 -> 0.112301 | E109: =IFERROR(C109*C$99*(1000+C$100),0) -> 0
B110: ='OSNOVNI PODATKI'!B134 -> INFORMATIVNA VREDNOST STROŠKOV GRADNJE EUR/m2 BTP | C110: ='OSNOVNI PODATKI'!D139 -> 0.124399 | E110: =IFERROR(C110*C$99*(1000+C$100),0) -> 0
B111: ='OSNOVNI PODATKI'!B135 -> IZBRANA VREDNOST STROŠKOV GRADNJE EUR/m2 BEP | C111: ='OSNOVNI PODATKI'!D140 -> 0.0263 | E111: =IFERROR(C111*C$99*(1000+C$100),0) -> 0
...

Sheet NOTRANJA OPREMA
B1: Poraba časa - notranja oprema
A3: IZRAČUN ŠTEVILA NU ZA NAČRTOVANJE NOTRANJE OPREME
B5: VRSTA IZRAČUNA | C5: ='OSNOVNI PODATKI'!H147 -> 1 | D5: =IF(C5=1,'OSNOVNI PODATKI'!B147,'OSNOVNI PODATKI'!B148) -> ENA STAVBA Z RAZLIČNIMI DELI (PRI IZRAČUNU POTREBNIH NU SE UPOŠTEVA SEŠTEVEK POVRŠIN VSEH DELOV)
B6: SKUPNA NETO POVRŠINA | C6: ='OSNOVNI PODATKI'!E319 -> 0
B8: ='OSNOVNI PODATKI'!A151 -> NOTRANJA OPREMA / DEL 1 | C8: ='OSNOVNI PODATKI'!E151 -> 0
B9: TIPOLOGIJA | C9: ='OSNOVNI PODATKI'!E152 -> 11. Stanovanjski prostori z visokimi zahtevami, kuhinje in kopalnice po meri
B10: NETO POVRŠINA DELA | C10: ='OSNOVNI PODATKI'!E153 -> 0
B11: NETO POVRŠINA ZA IZRAČUN | C11: =IF($C$5=1,$C$6,C10) -> 0
B12: INDEKS TIPOLOGIJE | C12: =+'OSNOVNI PODATKI'!E157 -> 120
B13: IZBRANI CENOVNI RAZRED | C13: ='OSNOVNI PODATKI'!E154 -> Cenovni razred I
B14: Cenovni razred I | C14: =IFERROR(0.005*POWER(C11*(1000+C12),0.8868)/C11,0) -> 0 | D14: NU/m2
B15: Cenovni razred II | C15: =IFERROR(0.0058*POWER(C11*(1000+C12),0.8868)/C11,0) -> 0 | D15: NU/m2
B16: Cenovni razred III | C16: =IFERROR(0.0069*POWER(C11*(1000+C12),0.8868)/C11,0) -> 0 | D16: NU/m2
B17: Cenovni razred IV | C17: =IFERROR(0.0086*POWER(C11*(1000+C12),0.8868)/C11,0) -> 0 | D17: NU/m2
B18: Cenovni razred V | C18: =IFERROR(0.0097*POWER(C11*(1000+C12),0.8868)/C11,0) -> 0 | D18: NU/m2
B19: Cenovni razred V+ | C19: =IFERROR(0.0105*POWER(C11*(1000+C12),0.8868)/C11,0) -> 0 | D19: NU/m2
B21: MINIMALNO ŠTEVILO NU/m2 | C21: =IFERROR(LOOKUP(C13,B14:C18),0) -> 0 | D21: NU/m2
B22: MAKSIMALNO ŠTEVILO NU/m2 | C22: {=IFERROR(INDEX(C14:C18,MATCH(C13,B14:B18)+1),0)} -> 0 | D22: NU/m2
B23: MINIMALNO ŠTEVILO NU | C23: =IFERROR(C21*C10,0) -> 0 | D23: NU
B24: MAKSIMALNO ŠTEVILO NU | C24: =IFERROR(C22*C10,0) -> 0 | D24: NU
B26: ='OSNOVNI PODATKI'!A163 -> NOTRANJA OPREMA / DEL 2 | C26: ='OSNOVNI PODATKI'!E163 -> 0
B27: TIPOLOGIJA | C27: ='OSNOVNI PODATKI'!E164 -> 16. učilnice, predavalnice, seminarske sobe, manjše knjižnice, menze
B28: NETO POVRŠINA DELA | C28: ='OSNOVNI PODATKI'!E165 -> 0
B29: NETO POVRŠINA ZA IZRAČUN | C29: =IF($C$5=1,$C$6,C28) -> 0
B30: INDEKS TIPOLOGIJE | C30: =+'OSNOVNI PODATKI'!E169 -> -400
B31: IZBRANI CENOVNI RAZRED | C31: ='OSNOVNI PODATKI'!E166 -> Cenovni razred I
B32: Cenovni razred I | C32: =IFERROR(0.005*POWER(C29*(1000+C30),0.8868)/C29,0) -> 0 | D32: NU/m2
B33: Cenovni razred II | C33: =IFERROR(0.0058*POWER(C29*(1000+C30),0.8868)/C29,0) -> 0 | D33: NU/m2
B34: Cenovni razred III | C34: =IFERROR(0.0069*POWER(C29*(1000+C30),0.8868)/C29,0) -> 0 | D34: NU/m2
B35: Cenovni razred IV | C35: =IFERROR(0.0086*POWER(C29*(1000+C30),0.8868)/C29,0) -> 0 | D35: NU/m2
B36: Cenovni razred V | C36: =IFERROR(0.0097*POWER(C29*(1000+C30),0.8868)/C29,0) -> 0 | D36: NU/m2
B37: Cenovni razred V+ | C37: =IFERROR(0.0105*POWER(C29*(1000+C30),0.8868)/C29,0) -> 0 | D37: NU/m2
B39: MINIMALNO ŠTEVILO NU/m2 | C39: =IFERROR(LOOKUP(C31,B32:C36),0) -> 0 | D39: NU/m2
B40: MAKSIMALNO ŠTEVILO NU/m2 | C40: {=IFERROR(INDEX(C32:C36,MATCH(C31,B32:B36)+1),0)} -> 0 | D40: NU/m2
B41: MINIMALNO ŠTEVILO NU | C41: =IFERROR(C39*C28,0) -> 0 | D41: NU
B42: MAKSIMALNO ŠTEVILO NU | C42: =IFERROR(C40*C28,0) -> 0 | D42: NU
B44: ='OSNOVNI PODATKI'!A175 -> NOTRANJA OPREMA / DEL 3 | C44: ='OSNOVNI PODATKI'!E175 -> 0
B45: TIPOLOGIJA | C45: ='OSNOVNI PODATKI'!E176 -> 3. Notranja oprema s povprečnimi zahtevami glede načrtovanja, pretežno z uporabo serijsko izdelanega pohištva in opreme ali s povprečno tehnično opremo
B46: NETO POVRŠINA DELA | C46: ='OSNOVNI PODATKI'!E177 -> 0
B47: NETO POVRŠINA ZA IZRAČUN | C47: =IF($C$5=1,$C$6,C46) -> 0
B48: INDEKS TIPOLOGIJE | C48: =+'OSNOVNI PODATKI'!E181 -> -400
B49: IZBRANI CENOVNI RAZRED | C49: ='OSNOVNI PODATKI'!E178 -> Cenovni razred I
B50: Cenovni razred I | C50: =IFERROR(0.005*POWER(C47*(1000+C48),0.8868)/C47,0) -> 0 | D50: NU/m2
B51: Cenovni razred II | C51: =IFERROR(0.0058*POWER(C47*(1000+C48),0.8868)/C47,0) -> 0 | D51: NU/m2
B52: Cenovni razred III | C52: =IFERROR(0.0069*POWER(C47*(1000+C48),0.8868)/C47,0) -> 0 | D52: NU/m2
B53: Cenovni razred IV | C53: =IFERROR(0.0086*POWER(C47*(1000+C48),0.8868)/C47,0) -> 0 | D53: NU/m2
B54: Cenovni razred V | C54: =IFERROR(0.0097*POWER(C47*(1000+C48),0.8868)/C47,0) -> 0 | D54: NU/m2
B55: Cenovni razred V+ | C55: =IFERROR(0.0105*POWER(C47*(1000+C48),0.8868)/C47,0) -> 0 | D55: NU/m2
B57: MINIMALNO ŠTEVILO NU/m2 | C57: =IFERROR(LOOKUP(C49,B50:C53),0) -> 0 | D57: NU/m2
B58: MAKSIMALNO ŠTEVILO NU/m2 | C58: {=IFERROR(INDEX(C50:C54,MATCH(C49,B50:B54)+1),0)} -> 0 | D58: NU/m2
B59: MINIMALNO ŠTEVILO NU | C59: =IFERROR(C57*C46,0) -> 0 | D59: NU
B60: MAKSIMALNO ŠTEVILO NU | C60: =IFERROR(C58*C46,0) -> 0 | D60: NU
B62: ='OSNOVNI PODATKI'!A187 -> NOTRANJA OPREMA / DEL 4 | C62: ='OSNOVNI PODATKI'!E187 -> 0
B63: TIPOLOGIJA | C63: ='OSNOVNI PODATKI'!E188 -> 4. Notranja oprema z visokimi zahtevami glede načrtovanja, z uporabo serijsko izdelanega pohištva in pohištva visoke kakovosti ali visokokakovostne tehnične opreme
B64: NETO POVRŠINA DELA | C64: ='OSNOVNI PODATKI'!E189 -> 0
B65: NETO POVRŠINA ZA IZRAČUN | C65: =IF($C$5=1,$C$6,C64) -> 0
B66: INDEKS TIPOLOGIJE | C66: =+'OSNOVNI PODATKI'!E193 -> 120
B67: IZBRANI CENOVNI RAZRED | C67: ='OSNOVNI PODATKI'!E190 -> Cenovni razred I
B68: Cenovni razred I | C68: =IFERROR(0.005*POWER(C65*(1000+C66),0.8868)/C65,0) -> 0 | D68: NU/m2
B69: Cenovni razred II | C69: =IFERROR(0.0058*POWER(C65*(1000+C66),0.8868)/C65,0) -> 0 | D69: NU/m2
B70: Cenovni razred III | C70: =IFERROR(0.0069*POWER(C65*(1000+C66),0.8868)/C65,0) -> 0 | D70: NU/m2
B71: Cenovni razred IV | C71: =IFERROR(0.0086*POWER(C65*(1000+C66),0.8868)/C65,0) -> 0 | D71: NU/m2
B72: Cenovni razred V | C72: =IFERROR(0.0097*POWER(C65*(1000+C66),0.8868)/C65,0) -> 0 | D72: NU/m2
B73: Cenovni razred V+ | C73: =IFERROR(0.0105*POWER(C65*(1000+C66),0.8868)/C65,0) -> 0 | D73: NU/m2
B75: MINIMALNO ŠTEVILO NU/m2 | C75: =IFERROR(LOOKUP(C67,B68:C71),0) -> 0 | D75: NU/m2
B76: MAKSIMALNO ŠTEVILO NU/m2 | C76: {=IFERROR(INDEX(C68:C72,MATCH(C67,B68:B72)+1),0)} -> 0 | D76: NU/m2
B77: MINIMALNO ŠTEVILO NU | C77: =IFERROR(C75*C64,0) -> 0 | D77: NU
B78: MAKSIMALNO ŠTEVILO NU | C78: =IFERROR(C76*C64,0) -> 0 | D78: NU
B80: ='OSNOVNI PODATKI'!A199 -> NOTRANJA OPREMA / DEL 5 | C80: ='OSNOVNI PODATKI'!E199 -> 0
B81: TIPOLOGIJA | C81: ='OSNOVNI PODATKI'!E200 -> 5. Notranjost z zelo visokimi zahtevami glede načrtovanja, z uporabo kompleksnega pohištva in opreme ali obsežne tehnične opreme
B82: NETO POVRŠINA DELA | C82: ='OSNOVNI PODATKI'!E201 -> 0
B83: NETO POVRŠINA ZA IZRAČUN | C83: =IF($C$5=1,$C$6,C82) -> 0
B84: INDEKS TIPOLOGIJE | C84: =+'OSNOVNI PODATKI'!E205 -> 920
B85: IZBRANI CENOVNI RAZRED | C85: ='OSNOVNI PODATKI'!E202 -> Cenovni razred I
B86: Cenovni razred I | C86: =IFERROR(0.005*POWER(C83*(1000+C84),0.8868)/C83,0) -> 0 | D86: NU/m2
B87: Cenovni razred II | C87: =IFERROR(0.0058*POWER(C83*(1000+C84),0.8868)/C83,0) -> 0 | D87: NU/m2
B88: Cenovni razred III | C88: =IFERROR(0.0069*POWER(C83*(1000+C84),0.8868)/C83,0) -> 0 | D88: NU/m2
B89: Cenovni razred IV | C89: =IFERROR(0.0086*POWER(C83*(1000+C84),0.8868)/C83,0) -> 0 | D89: NU/m2
B90: Cenovni razred V | C90: =IFERROR(0.0097*POWER(C83*(1000+C84),0.8868)/C83,0) -> 0 | D90: NU/m2
B91: Cenovni razred V+ | C91: =IFERROR(0.0105*POWER(C83*(1000+C84),0.8868)/C83,0) -> 0 | D91: NU/m2
B93: MINIMALNO ŠTEVILO NU/m2 | C93: =IFERROR(LOOKUP(C85,B86:C89),0) -> 0 | D93: NU/m2
B94: MAKSIMALNO ŠTEVILO NU/m2 | C94: {=IFERROR(INDEX(C86:C90,MATCH(C85,B86:B90)+1),0)} -> 0 | D94: NU/m2
B95: MINIMALNO ŠTEVILO NU | C95: =IFERROR(C93*C82,0) -> 0 | D95: NU
B96: MAKSIMALNO ŠTEVILO NU | C96: =IFERROR(C94*C82,0) -> 0 | D96: NU
A101: PORAZDELITEV NU ZA NAČRTOVANJE NOTRANJE OPREME
B103: IZHODIŠČNO ŠTEVILO NU | F103: ='OSNOVNI PODATKI'!G361 -> 0
B104: VREDNOST NU | F104: ='ARHIGRAM 6'!I16 -> 62
B106: ='OSNOVNI PODATKI'!$B$376 -> PRIBITEK ZA PRENOVO | F106: ='OSNOVNI PODATKI'!$F$376 -> 0 | G106: ='OSNOVNI PODATKI'!G376 -> Upošteva se v fazah od 1 do 4., samo za storitve projektiranja. Če dogovor o povečanju potrebnega števila NU ni bil dosežen, se upošteva 18 % povečanje števila NU glede na vsaj povprečno zahtevnost. Če gre za prenovo notranje opreme lahko znaša povečanje do 50 %.
B107: ='OSNOVNI PODATKI'!$B$377 -> PRIBITEK ZA VKLJUČEVANJE DRUGIH IZVAJALCEV V POGODBO | F107: ='OSNOVNI PODATKI'!$F$377 -> 0 | G107: ='OSNOVNI PODATKI'!G377 -> Upošteva se v vseh fazah, samo za storitve vodenja in koordinacije
B108: VODENJE IN KOORDINACIJA | F108: =IF('OSNOVNI PODATKI'!A358=TRUE,"DA","NE") -> DA
B112: ARHITEKTURA - NOTRANJA OPREMA | K112: VODENJE PROJEKTIRANJA
E113: % projekta | F113: % s pribitki | G113: ŠTEVILO NU | H113: VREDNOST V EUR | I113: % stroškov gradnje notranja oprema | O113: % projekta | P113: % s pribitki | Q113: ŠTEVILO NU | R113: VREDNOST V EUR | S113: % stroškov gradnje notranja oprema | U113: % projekta VP + ARH | V113: % s pribitki VP + ARH | W113: ŠTEVILO NU VP + ARH | X113: VREDNOST V EUR VP + ARH
A114: 0 | B114: POBUDA | K114: 0 | L114: POBUDA
A115: 0.1 | B115: TRŽNA ANALIZA | K115: 0.1 | L115: TRŽNA ANALIZA
A116: 0.2 | B116: OCENA GOSPODARNOSTI | K116: 0.2 | L116: OCENA GOSPODARNOSTI
A117: 1 | B117: ZAGON | E117: =SUM(E118:E120) -> 0.005 | F117: =SUM(F118:F120) -> 0.005 | G117: =SUM(G118:G120) -> 0 | H117: =SUM(H118:H120) -> 0 | I117: =IFERROR(H117/#REF!,0) -> 0 | K117: 1 | L117: ZAGON | O117: =SUM(O118:O120) -> 0.015 | P117: =SUM(P118:P120) -> 0.015 | Q117: =SUM(Q118:Q120) -> 0 | R117: =SUM(R118:R120) -> 0 | S117: =IFERROR(R117/#REF!,0) -> 0 | U117: =SUM(U118:U120) -> 0.02 | V117: =SUM(V118:V120) -> 0.02 | W117: =SUM(W118:W120) -> 0 | X117: =SUM(X118:X120) -> 0
A118: 1.1 | B118: ZAGON PROJEKTA | E118: 0.0025 | F118: =E118*(100%+$F$106) -> 0.0025 | G118: =ROUND(F118*$F$103,1) -> 0 | H118: =+G118*$F$104 -> 0 | K118: 1.1 | L118: ZAGON PROJEKTA | O118: 0.0025 | P118: =O118 -> 0.0025 | Q118: =IF($F$108="DA",ROUND(P118*$F$103,1),0) -> 0 | R118: =+Q118*$F$104 -> 0 | U118: =+E118+O118 -> 0.005 | V118: =+F118+P118 -> 0.005 | W118: =+G118+Q118 -> 0 | X118: =+H118+R118 -> 0
A119: 1.2 | B119: ŠTUDIJA IZVEDLJIVOSTI | E119: 0.0025 | F119: =E119*(100%+$F$106) -> 0.0025 | G119: =ROUND(F119*$F$103,1) -> 0 | H119: =+G119*$F$104 -> 0 | K119: 1.2 | L119: ŠTUDIJA IZVEDLJIVOSTI | O119: 0.0025 | P119: =O119 -> 0.0025 | Q119: =IF($F$108="DA",ROUND(P119*$F$103,1),0) -> 0 | R119: =+Q119*$F$104 -> 0 | U119: =+E119+O119 -> 0.005 | V119: =+F119+P119 -> 0.005 | W119: =+G119+Q119 -> 0 | X119: =+H119+R119 -> 0
A120: 1.3 | B120: OPREDELITEV | K120: 1.3 | L120: OPREDELITEV | O120: 0.01 | P120: =O120 -> 0.01 | Q120: =IF($F$108="DA",ROUND(P120*$F$103,1),0) -> 0 | R120: =+Q120*$F$104 -> 0 | U120: =+E120+O120 -> 0.01 | V120: =+F120+P120 -> 0.01 | W120: =+G120+Q120 -> 0 | X120: =+H120+R120 -> 0
A121: 2 | B121: PROJEKTIRANJE | E121: =SUM(E122:E128) -> 0.56 | F121: =SUM(F122:F128) -> 0.56 | G121: =SUM(G122:G128) -> 0 | H121: =SUM(H122:H128) -> 0 | I121: =IFERROR(H121/#REF!,0) -> 0 | K121: 2 | L121: PROJEKTIRANJE | O121: =SUM(O122:O128) -> 0.05 | P121: =SUM(P122:P128) -> 0.05 | Q121: =SUM(Q122:Q128) -> 0 | R121: =SUM(R122:R128) -> 0 | S121: =IFERROR(R121/#REF!,0) -> 0 | U121: =SUM(U122:U128) -> 0.61 | V121: =SUM(V122:V128) -> 0.61 | W121: =SUM(W122:W128) -> 0 | X121: =SUM(X122:X128) -> 0
...

Sheet ODPRTI PROSTOR
B1: Poraba časa - odprti prostor
A3: IZRAČUN ŠTEVILA NU ZA NAČRTOVANJE ODPRTEGA PROSTORA
B5: VRSTA IZRAČUNA | C5: ='OSNOVNI PODATKI'!H213 -> 1 | D5: =IF(C5=1,'OSNOVNI PODATKI'!B213,'OSNOVNI PODATKI'!B214) -> MED SEBOJ POVEZANE UREDITVE (PRI IZRAČUNU POTREBNIH NU SE UPOŠTEVA SEŠTEVEK POVRŠIN)
B6: CELOTNA BTP | C6: ='OSNOVNI PODATKI'!E326 -> 0
B8: ='OSNOVNI PODATKI'!A216 -> OBJEKT 1 / DEL 1 | C8: ='OSNOVNI PODATKI'!E216 -> 0
B9: TIPOLOGIJA | C9: ='OSNOVNI PODATKI'!E217 -> Pripadajoče površine ob stavbah ter drugih objektih in napravah, vrtovi in ureditve z nizkimi ali povprečnimi zahtevami
B10: BRUTO POVRŠINA DELA | C10: ='OSNOVNI PODATKI'!E218 -> 0
B11: BRUTO POVRŠINA ZA IZRAČUN | C11: =IF($C$5=1,$C$6,C10) -> 0
B12: INDEKS TIPOLOGIJE | C12: ='OSNOVNI PODATKI'!E221 -> -10
B13: IZBRANI CENOVNI RAZRED | C13: ='OSNOVNI PODATKI'!E219 -> Cenovni razred III
B14: Cenovni razred I | C14: =IFERROR(0.0141*POWER(C11*(100+C12),0.8228)/C11,0) -> 0 | D14: NU/m2
B15: Cenovni razred II | C15: =IFERROR(0.0171*POWER(C11*(100+C12),0.8213)/C11,0) -> 0 | D15: NU/m2
B16: Cenovni razred III | C16: =IFERROR(0.0201*POWER(C11*(100+C12),0.8232)/C11,0) -> 0 | D16: NU/m2
B17: Cenovni razred IV | C17: =IFERROR(0.0246*POWER(C11*(100+C12),0.8244)/C11,0) -> 0 | D17: NU/m2
B18: Cenovni razred V | C18: =IFERROR(0.0304*POWER(C11*(100+C12),0.818)/C11,0) -> 0 | D18: NU/m2
B19: Cenovni razred V+ | C19: =IFERROR(0.034*POWER(C11*(100+C12),0.8163)/C11,0) -> 0 | D19: NU/m2
B21: MINIMALNO ŠTEVILO NU/m2 | C21: =IFERROR(LOOKUP(C13,B14:C18),0) -> 0 | D21: NU/m2
B22: MAKSIMALNO ŠTEVILO NU/m2 | C22: {=IFERROR(INDEX(C14:C19,MATCH(C13,B14:B18)+1),0)} -> 0 | D22: NU/m2
B23: MINIMALNO ŠTEVILO NU | C23: =IFERROR(C21*C10,0) -> 0 | D23: NU
B24: MAKSIMALNO ŠTEVILO NU | C24: =IFERROR(C22*C10,0) -> 0 | D24: NU
B26: ='OSNOVNI PODATKI'!A234 -> OBJEKT 2 / DEL 2 | C26: ='OSNOVNI PODATKI'!E234 -> 0
B27: TIPOLOGIJA | C27: ='OSNOVNI PODATKI'!E235 -> Odprti prostori na območjih enostavne pozidave v manjših podeželskih naseljih in ob posameznih objektih
B28: BRUTO POVRŠINA DELA | C28: ='OSNOVNI PODATKI'!E236 -> 0
B29: BRUTO POVRŠINA ZA IZRAČUN | C29: =IF($C$5=1,$C$6,C28) -> 0
B30: INDEKS TIPOLOGIJE | C30: ='OSNOVNI PODATKI'!E239 -> -10
B31: IZBRANI CENOVNI RAZRED | C31: ='OSNOVNI PODATKI'!E237 -> Cenovni razred III
B32: Cenovni razred I | C32: =IFERROR(0.0141*POWER(C29*(100+C30),0.8228)/C29,0) -> 0 | D32: NU/m2
B33: Cenovni razred II | C33: =IFERROR(0.0171*POWER(C29*(100+C30),0.8213)/C29,0) -> 0 | D33: NU/m2
B34: Cenovni razred III | C34: =IFERROR(0.0201*POWER(C29*(100+C30),0.8232)/C29,0) -> 0 | D34: NU/m2
B35: Cenovni razred IV | C35: =IFERROR(0.0246*POWER(C29*(100+C30),0.8244)/C29,0) -> 0 | D35: NU/m2
B36: Cenovni razred V | C36: =IFERROR(0.0304*POWER(C29*(100+C30),0.818)/C29,0) -> 0 | D36: NU/m2
B37: Cenovni razred V+ | C37: =IFERROR(0.034*POWER(C29*(100+C30),0.8163)/C29,0) -> 0 | D37: NU/m2
B39: MINIMALNO ŠTEVILO NU/m2 | C39: =IFERROR(LOOKUP(C31,B32:C36),0) -> 0 | D39: NU/m2
B40: MAKSIMALNO ŠTEVILO NU/m2 | C40: {=IFERROR(INDEX(C32:C37,MATCH(C31,B32:B36)+1),0)} -> 0 | D40: NU/m2
B41: MINIMALNO ŠTEVILO NU | C41: =IFERROR(C39*C28,0) -> 0 | D41: NU
B42: MAKSIMALNO ŠTEVILO NU | C42: =IFERROR(C40*C28,0) -> 0 | D42: NU
B44: ='OSNOVNI PODATKI'!A252 -> OBJEKT 3 / DEL 3 | C44: ='OSNOVNI PODATKI'!E252 -> 0
B45: TIPOLOGIJA | C45: ='OSNOVNI PODATKI'!E253 -> Nepokrita prezentirana arheološka najdišča in ruševine
B46: BRUTO POVRŠINA DELA | C46: ='OSNOVNI PODATKI'!E254 -> 0
B47: BRUTO POVRŠINA ZA IZRAČUN | C47: =IF($C$5=1,$C$6,C46) -> 0
B48: INDEKS TIPOLOGIJE | C48: ='OSNOVNI PODATKI'!E257 -> 85
B49: IZBRANI CENOVNI RAZRED | C49: ='OSNOVNI PODATKI'!E255 -> Cenovni razred III
B50: Cenovni razred I | C50: =IFERROR(0.0141*POWER(C47*(100+C48),0.8228)/C47,0) -> 0 | D50: NU/m2
B51: Cenovni razred II | C51: =IFERROR(0.0171*POWER(C47*(100+C48),0.8213)/C47,0) -> 0 | D51: NU/m2
B52: Cenovni razred III | C52: =IFERROR(0.0201*POWER(C47*(100+C48),0.8232)/C47,0) -> 0 | D52: NU/m2
B53: Cenovni razred IV | C53: =IFERROR(0.0246*POWER(C47*(100+C48),0.8244)/C47,0) -> 0 | D53: NU/m2
B54: Cenovni razred V | C54: =IFERROR(0.0304*POWER(C47*(100+C48),0.818)/C47,0) -> 0 | D54: NU/m2
B55: Cenovni razred V+ | C55: =IFERROR(0.034*POWER(C47*(100+C48),0.8163)/C47,0) -> 0 | D55: NU/m2
B57: MINIMALNO ŠTEVILO NU/m2 | C57: =IFERROR(LOOKUP(C49,B50:C54),0) -> 0 | D57: NU/m2
B58: MAKSIMALNO ŠTEVILO NU/m2 | C58: {=IFERROR(INDEX(C50:C55,MATCH(C49,B50:B54)+1),0)} -> 0 | D58: NU/m2
B59: MINIMALNO ŠTEVILO NU | C59: =IFERROR(C57*C46,0) -> 0 | D59: NU
B60: MAKSIMALNO ŠTEVILO NU | C60: =IFERROR(C58*C46,0) -> 0 | D60: NU
B62: ='OSNOVNI PODATKI'!A270 -> OBJEKT 4 / DEL 4 | C62: ='OSNOVNI PODATKI'!E270 -> 0
B63: TIPOLOGIJA | C63: ='OSNOVNI PODATKI'!E271 -> Športna igrišča in rekreacijska območja
B64: BRUTO POVRŠINA DELA | C64: ='OSNOVNI PODATKI'!E272 -> 0
B65: BRUTO POVRŠINA ZA IZRAČUN | C65: =IF($C$5=1,$C$6,C64) -> 0
B66: INDEKS TIPOLOGIJE | C66: ='OSNOVNI PODATKI'!E275 -> -10
B67: IZBRANI CENOVNI RAZRED | C67: ='OSNOVNI PODATKI'!E273 -> Cenovni razred III
B68: Cenovni razred I | C68: =IFERROR(0.0141*POWER(C65*(100+C66),0.8228)/C65,0) -> 0 | D68: NU/m2
B69: Cenovni razred II | C69: =IFERROR(0.0171*POWER(C65*(100+C66),0.8213)/C65,0) -> 0 | D69: NU/m2
B70: Cenovni razred III | C70: =IFERROR(0.0201*POWER(C65*(100+C66),0.8232)/C65,0) -> 0 | D70: NU/m2
B71: Cenovni razred IV | C71: =IFERROR(0.0246*POWER(C65*(100+C66),0.8244)/C65,0) -> 0 | D71: NU/m2
B72: Cenovni razred V | C72: =IFERROR(0.0304*POWER(C65*(100+C66),0.818)/C65,0) -> 0 | D72: NU/m2
B73: Cenovni razred V+ | C73: =IFERROR(0.034*POWER(C65*(100+C66),0.8163)/C65,0) -> 0 | D73: NU/m2
B75: MINIMALNO ŠTEVILO NU/m2 | C75: =IFERROR(LOOKUP(C67,B68:C72),0) -> 0 | D75: NU/m2
B76: MAKSIMALNO ŠTEVILO NU/m2 | C76: {=IFERROR(INDEX(C68:C73,MATCH(C67,B68:B72)+1),0)} -> 0 | D76: NU/m2
B77: MINIMALNO ŠTEVILO NU | C77: =IFERROR(C75*C64,0) -> 0 | D77: NU
B78: MAKSIMALNO ŠTEVILO NU | C78: =IFERROR(C76*C64,0) -> 0 | D78: NU
B80: ='OSNOVNI PODATKI'!A288 -> OBJEKT 5 / DEL 5 | C80: ='OSNOVNI PODATKI'!E288 -> 0
B81: TIPOLOGIJA | C81: ='OSNOVNI PODATKI'!E289 -> Ureditve ob avtocestah in cestah, zasaditve protivetrnih pasov, zelene ločevalne poteze
B82: BRUTO POVRŠINA DELA | C82: ='OSNOVNI PODATKI'!E290 -> 0
B83: BRUTO POVRŠINA | C83: =IF($C$5=1,$C$6,C82) -> 0
B84: INDEKS TIPOLOGIJE | C84: ='OSNOVNI PODATKI'!E293 -> -40
B85: IZBRANI CENOVNI RAZRED | C85: ='OSNOVNI PODATKI'!E291 -> Cenovni razred III
B86: Cenovni razred I | C86: =IFERROR(0.0141*POWER(C83*(100+C84),0.8228)/C83,0) -> 0 | D86: NU/m2
B87: Cenovni razred II | C87: =IFERROR(0.0171*POWER(C83*(100+C84),0.8213)/C83,0) -> 0 | D87: NU/m2
B88: Cenovni razred III | C88: =IFERROR(0.0201*POWER(C83*(100+C84),0.8232)/C83,0) -> 0 | D88: NU/m2
B89: Cenovni razred IV | C89: =IFERROR(0.0246*POWER(C83*(100+C84),0.8244)/C83,0) -> 0 | D89: NU/m2
B90: Cenovni razred V | C90: =IFERROR(0.0304*POWER(C83*(100+C84),0.818)/C83,0) -> 0 | D90: NU/m2
B91: Cenovni razred V+ | C91: =IFERROR(0.034*POWER(C83*(100+C84),0.8163)/C83,0) -> 0 | D91: NU/m2
B93: MINIMALNO ŠTEVILO NU/m2 | C93: =IFERROR(LOOKUP(C85,B86:C90),0) -> 0 | D93: NU/m2
B94: MAKSIMALNO ŠTEVILO NU/m2 | C94: {=IFERROR(INDEX(C86:C91,MATCH(C85,B86:B90)+1),0)} -> 0 | D94: NU/m2
B95: MINIMALNO ŠTEVILO NU | C95: =IFERROR(C93*C82,0) -> 0 | D95: NU
B96: MAKSIMALNO ŠTEVILO NU | C96: =IFERROR(C94*C82,0) -> 0 | D96: NU
A119: PORAZDELITEV NU ZA NAČRTOVANJE ODPRTEGA PROSTORA
B121: IZHODIŠČNO ŠTEVILO NU | F121: ='OSNOVNI PODATKI'!G362 -> 0
B122: VREDNOST NU | F122: ='ARHIGRAM 6'!I16 -> 62
B124: ='OSNOVNI PODATKI'!$B$376 -> PRIBITEK ZA PRENOVO | F124: ='OSNOVNI PODATKI'!$F$376 -> 0 | G124: ='OSNOVNI PODATKI'!G376 -> Upošteva se v fazah od 1 do 4., samo za storitve projektiranja. Če dogovor o povečanju potrebnega števila NU ni bil dosežen, se upošteva 18 % povečanje števila NU glede na vsaj povprečno zahtevnost. Če gre za prenovo notranje opreme lahko znaša povečanje do 50 %.
B125: ='OSNOVNI PODATKI'!$B$377 -> PRIBITEK ZA VKLJUČEVANJE DRUGIH IZVAJALCEV V POGODBO | F125: ='OSNOVNI PODATKI'!$F$377 -> 0 | G125: ='OSNOVNI PODATKI'!G377 -> Upošteva se v vseh fazah, samo za storitve vodenja in koordinacije
B126: VODENJE IN KOORDINACIJA | F126: =IF('OSNOVNI PODATKI'!A358=TRUE,"DA","NE") -> DA
B130: ARHITEKTURA / KRAJINSKA ARHITEKTURA - ODPRTI PROSTOR | K130: VODENJE IN KOORDINACIJA
E131: % projekta | F131: % z dodatki | G131: ŠTEVILO NU | H131: VREDNOST V EUR | I131: % stroškov gradnje odprtega prostora | O131: % projekta | P131: % s pribitki | Q131: ŠTEVILO NU | R131: VREDNOST V EUR | S131: % stroškov gradnje odprtega prostora | U131: % projekta VK + ARH | V131: % s pribitki VK + ARH | W131: ŠTEVILO NU VK + ARH | X131: VREDNOST V EUR VK + ARH
A132: 0 | B132: POBUDA | K132: 0 | L132: POBUDA
A133: 0.1 | B133: TRŽNA ANALIZA | K133: 0.1 | L133: TRŽNA ANALIZA
A134: 0.2 | B134: OCENA GOSPODARNOSTI | K134: 0.2 | L134: OCENA GOSPODARNOSTI
A135: 1 | B135: ZAGON | E135: =SUM(E136:E138) -> 0.01 | F135: =SUM(F136:F138) -> 0.01 | G135: =SUM(G136:G138) -> 0 | H135: =SUM(H136:H138) -> 0 | I135: =IFERROR(H135/'OSNOVNI PODATKI'!$E$329,0) -> 0 | K135: 1 | L135: ZAGON | O135: =SUM(O136:O138) -> 0.02 | P135: =SUM(P136:P138) -> 0.02 | Q135: =SUM(Q136:Q138) -> 0 | R135: =SUM(R136:R138) -> 0 | S135: =IFERROR(R135/'OSNOVNI PODATKI'!$E$329,0) -> 0 | U135: =SUM(U136:U138) -> 0.03 | V135: =SUM(V136:V138) -> 0.03 | W135: =SUM(W136:W138) -> 0 | X135: =SUM(X136:X138) -> 0
A136: 1.1 | B136: ZAGON PROJEKTA | E136: 0.005 | F136: =E136*(100%+$F$124) -> 0.005 | G136: =ROUND(F136*$F$121,1) -> 0 | H136: =+G136*$F$122 -> 0 | K136: 1.1 | L136: ZAGON PROJEKTA | O136: 0.005 | P136: =O136*(100%+$F$125) -> 0.005 | Q136: =IF($F$126="DA",ROUND(P136*$F$121,1),0) -> 0 | R136: =+Q136*$F$122 -> 0 | U136: =+E136+O136 -> 0.01 | V136: =+F136+P136 -> 0.01 | W136: =+G136+Q136 -> 0 | X136: =+W136*$F$122 -> 0
A137: 1.2 | B137: ŠTUDIJA IZVEDLJIVOSTI | E137: 0.005 | F137: =E137*(100%+$F$124) -> 0.005 | G137: =ROUND(F137*$F$121,1) -> 0 | H137: =+G137*$F$122 -> 0 | K137: 1.2 | L137: ŠTUDIJA IZVEDLJIVOSTI | O137: 0.005 | P137: =O137*(100%+$F$125) -> 0.005 | Q137: =IF($F$126="DA",ROUND(P137*$F$121,1),0) -> 0 | R137: =+Q137*$F$122 -> 0 | U137: =+E137+O137 -> 0.01 | V137: =+F137+P137 -> 0.01 | W137: =+G137+Q137 -> 0 | X137: =+W137*$F$122 -> 0
A138: 1.3 | B138: OPREDELITEV | H138: =+G138*$F$122 -> 0 | K138: 1.3 | L138: OPREDELITEV | O138: 0.01 | P138: =O138*(100%+$F$125) -> 0.01 | Q138: =IF($F$126="DA",ROUND(P138*$F$121,1),0) -> 0 | R138: =+Q138*$F$122 -> 0 | U138: =+E138+O138 -> 0.01 | V138: =+F138+P138 -> 0.01 | W138: =+G138+Q138 -> 0 | X138: =+W138*$F$122 -> 0
A139: 2 | B139: PROJEKTIRANJE | E139: =SUM(E140:E149) -> 0.525 | F139: =SUM(F140:F149) -> 0.525 | G139: =SUM(G140:G149) -> 0 | H139: =SUM(H140:H149) -> 0 | I139: =IFERROR(H139/'OSNOVNI PODATKI'!$E$329,0) -> 0 | K139: 2 | L139: PROJEKTIRANJE | O139: =SUM(O140:O149) -> 0.095 | P139: =SUM(P140:P149) -> 0.095 | Q139: =SUM(Q140:Q149) -> 0 | R139: =SUM(R140:R149) -> 0 | S139: =IFERROR(R139/'OSNOVNI PODATKI'!$E$329,0) -> 0 | U139: =SUM(U140:U149) -> 0.62 | V139: =SUM(V140:V149) -> 0.62 | W139: =SUM(W140:W149) -> 0 | X139: =SUM(X140:X149) -> 0
...

Sheet GRADBENE KONSTRUKCIJE
B1: Poraba časa - gradbene konstrukcije
A3: IZRAČUN ŠTEVILA NU ZA NAČRTOVANJE GRADBENIH KONSTRUKCIJ
B5: VRSTA IZRAČUNA | C5: ='OSNOVNI PODATKI'!H11 -> 2 | D5: =IF(C5=1,'OSNOVNI PODATKI'!B11,'OSNOVNI PODATKI'!B12) -> ENA STAVBA ALI VEČ RAZLIČNIH STAVB (PRI IZRAČUNU POTREBNIH NU SE VSAKA STAVBA IZRAČUNAVA LOČENO)
B6: CELOTNA BTP | C6: ='OSNOVNI PODATKI'!E308 -> 0
B8: ='OSNOVNI PODATKI'!A15 -> STAVBA 1 / DEL 1 | C8: ='OSNOVNI PODATKI'!E15 -> 0
B9: TIPOLOGIJA | C9: ='OSNOVNI PODATKI'!E16 -> 5. Nepodkletene eno in dvostanovanjske stavbe, nižji standard
B10: BRUTO POVRŠINA DELA | C10: ='OSNOVNI PODATKI'!E17 -> 0
B11: BRUTO POVRŠINA ZA IZRAČUN | C11: =IF($C$5=1,$C$6,C10) -> 0
B12: INDEKS TIPOLOGIJE | C12: ='OSNOVNI PODATKI'!E27 -> -105.4
B13: IZBRANI CENOVNI RAZRED | C13: ='OSNOVNI PODATKI'!E19 -> Cenovni razred III
B14: Cenovni razred I | C14: =IFERROR(0.0132*POWER((45%*C20+10%)*C11*(1000+C12),0.7854)/C11,0) -> 0 | D14: NU/m2
B15: Cenovni razred II | C15: =IFERROR(0.0147*POWER((45%*C20+10%)*C11*(1000+C12),0.7854)/C11,0) -> 0 | D15: NU/m2
B16: Cenovni razred III | C16: =IFERROR(0.019*POWER((45%*C20+10%)*C11*(1000+C12),0.7841)/C11,0) -> 0 | D16: NU/m2
B17: Cenovni razred IV | C17: =IFERROR(0.0232*POWER((45%*C20+10%)*C11*(1000+C12),0.7856)/C11,0) -> 0 | D17: NU/m2
B18: Cenovni razred V | C18: =IFERROR(0.0277*POWER((45%*C20+10%)*C11*(1000+C12),0.7843)/C11,0) -> 0 | D18: NU/m2
B19: Cenovni razred V+ | C19: =IFERROR(0.0291*POWER((45%*C20+10%)*C11*(1000+C12),0.7843)/C11,0) -> 0 | D19: NU/m2
B20: ='OSNOVNI PODATKI'!B59 -> GRADBENO OBRTNIŠKA DELA (GO) | C20: ='OSNOVNI PODATKI'!D33 -> 0.817 | E20: =C20*$C$11*(1000+$C$12) -> 0 | I20: =+E20*0.55+(E21+E22+E23)*0.1 -> 0
B21: ='OSNOVNI PODATKI'!B60 -> ELEKTRIČNE INŠTALACIJE (EI) | C21: ='OSNOVNI PODATKI'!D34 -> 0.0345544 | E21: =C21*$C$11*(1000+$C$12) -> 0 | I21: =45%*C20+10% -> 0.46765
B22: ='OSNOVNI PODATKI'!B61 -> STROJNE INŠTALACIJE (SI) | C22: ='OSNOVNI PODATKI'!D35 -> 0.14823 | E22: =C22*$C$11*(1000+$C$12) -> 0
B23: ='OSNOVNI PODATKI'!B62 -> TEHNOLOGIJA (TH) | C23: ='OSNOVNI PODATKI'!D36 -> 0 | E23: =C23*$C$11*(1000+$C$12) -> 0
B25: MINIMALNO ŠTEVILO NU/m2 | C25: =IFERROR(LOOKUP(C13,B14:C18),"/") -> 0 | D25: NU/m2
B26: MAKSIMALNO ŠTEVILO NU/m2 | C26: {=IFERROR(INDEX(C14:C19,MATCH(C13,B14:B18)+1),"/")} -> 0 | D26: NU/m2
B27: MINIMALNO ŠTEVILO NU | C27: =IFERROR(C25*C10,0) -> 0 | D27: NU
B28: MAKSIMALNO ŠTEVILO NU | C28: =IFERROR(C26*C10,0) -> 0 | D28: NU
B30: ='OSNOVNI PODATKI'!A41 -> STAVBA 2 / DEL 2 | C30: ='OSNOVNI PODATKI'!E41 -> 0
B31: TIPOLOGIJA | C31: ='OSNOVNI PODATKI'!E42 -> 6. Nepodkletene eno in dvostanovanjske stavbe, srednji standard
B32: BRUTO POVRŠINA DELA | C32: ='OSNOVNI PODATKI'!E43 -> 0
B33: BRUTO POVRŠINA ZA IZRAČUN | C33: =IF($C$5=1,$C$6,C32) -> 0
B34: INDEKS TIPOLOGIJE | C34: ='OSNOVNI PODATKI'!E53 -> 230.6
B35: IZBRANI CENOVNI RAZRED | C35: ='OSNOVNI PODATKI'!E45 -> Cenovni razred III
B36: Cenovni razred I | C36: =IFERROR(0.0132*POWER((45%*C42+10%)*C33*(1000+C34),0.7854)/C33,0) -> 0 | D36: NU/m2
B37: Cenovni razred II | C37: =IFERROR(0.0147*POWER((45%*C42+10%)*C33*(1000+C34),0.7854)/C33,0) -> 0 | D37: NU/m2
B38: Cenovni razred III | C38: =IFERROR(0.019*POWER((45%*C42+10%)*C33*(1000+C34),0.7841)/C33,0) -> 0 | D38: NU/m2
B39: Cenovni razred IV | C39: =IFERROR(0.0232*POWER((45%*C42+10%)*C33*(1000+C34),0.7856)/C33,0) -> 0 | D39: NU/m2
B40: Cenovni razred V | C40: =IFERROR(0.0277*POWER((45%*C42+10%)*C33*(1000+C34),0.7843)/C33,0) -> 0 | D40: NU/m2
B41: Cenovni razred V+ | C41: =IFERROR(0.0291*POWER((45%*C42+10%)*C33*(1000+C34),0.7843)/C33,0) -> 0 | D41: NU/m2
B42: ='OSNOVNI PODATKI'!B59 -> GRADBENO OBRTNIŠKA DELA (GO) | C42: ='OSNOVNI PODATKI'!D59 -> 0.808 | E42: =C42*$C$11*(1000+$C$12) -> 0 | I42: =+E42*0.55+(E43+E44+E45)*0.1 -> 0
B43: ='OSNOVNI PODATKI'!B60 -> ELEKTRIČNE INŠTALACIJE (EI) | C43: ='OSNOVNI PODATKI'!D60 -> 0.044544 | E43: =C43*$C$11*(1000+$C$12) -> 0 | I43: =45%*C42+10% -> 0.4636
B44: ='OSNOVNI PODATKI'!B61 -> STROJNE INŠTALACIJE (SI) | C44: ='OSNOVNI PODATKI'!D61 -> 0.147648 | E44: =C44*$C$11*(1000+$C$12) -> 0
B45: ='OSNOVNI PODATKI'!B62 -> TEHNOLOGIJA (TH) | C45: ='OSNOVNI PODATKI'!D62 -> 0 | E45: =C45*$C$11*(1000+$C$12) -> 0
B47: MINIMALNO ŠTEVILO NU/m2 | C47: =IFERROR(LOOKUP(C35,B36:C40),"/") -> 0 | D47: NU/m2
B48: MAKSIMALNO ŠTEVILO NU/m2 | C48: {=IFERROR(INDEX(C36:C41,MATCH(C35,B36:B40)+1),"/")} -> 0 | D48: NU/m2
B49: MINIMALNO ŠTEVILO NU | C49: =IFERROR(C47*C32,0) -> 0 | D49: NU
B50: MAKSIMALNO ŠTEVILO NU | C50: =IFERROR(C48*C32,0) -> 0 | D50: NU
B52: ='OSNOVNI PODATKI'!A67 -> STAVBA 3 / DEL 3 | C52: ='OSNOVNI PODATKI'!E67 -> 0
B53: TIPOLOGIJA | C53: ='OSNOVNI PODATKI'!E68 -> 47. Hoteli, moteli
B54: BRUTO POVRŠINA DELA | C54: ='OSNOVNI PODATKI'!E69 -> 0
B55: BRUTO POVRŠINA ZA IZRAČUN | C55: =IF($C$5=1,$C$6,C54) -> 0
B56: INDEKS TIPOLOGIJE | C56: ='OSNOVNI PODATKI'!E79 -> 646.4
B57: IZBRANI CENOVNI RAZRED | C57: ='OSNOVNI PODATKI'!E46 -> Cenovni razred II
B58: Cenovni razred I | C58: =IFERROR(0.0132*POWER((45%*C64+10%)*C55*(1000+C56),0.7854)/C55,0) -> 0 | D58: NU/m2
B59: Cenovni razred II | C59: =IFERROR(0.0147*POWER((45%*C64+10%)*C55*(1000+C56),0.7854)/C55,0) -> 0 | D59: NU/m2
B60: Cenovni razred III | C60: =IFERROR(0.019*POWER((45%*C64+10%)*C55*(1000+C56),0.7841)/C55,0) -> 0 | D60: NU/m2
B61: Cenovni razred IV | C61: =IFERROR(0.0232*POWER((45%*C64+10%)*C55*(1000+C56),0.7856)/C55,0) -> 0 | D61: NU/m2
B62: Cenovni razred V | C62: =IFERROR(0.0277*POWER((45%*C64+10%)*C55*(1000+C56),0.7843)/C55,0) -> 0 | D62: NU/m2
B63: Cenovni razred V+ | C63: =IFERROR(0.0291*POWER((45%*C64+10%)*C55*(1000+C56),0.7843)/C55,0) -> 0 | D63: NU/m2
B64: ='OSNOVNI PODATKI'!B85 -> GRADBENO OBRTNIŠKA DELA (GO) | C64: ='OSNOVNI PODATKI'!D85 -> 0.704 | E64: =C64*$C$11*(1000+$C$12) -> 0
B65: ='OSNOVNI PODATKI'!B86 -> ELEKTRIČNE INŠTALACIJE (EI) | C65: ='OSNOVNI PODATKI'!D86 -> 0.1350672 | E65: =C65*$C$11*(1000+$C$12) -> 0
B66: ='OSNOVNI PODATKI'!B87 -> STROJNE INŠTALACIJE (SI) | C66: ='OSNOVNI PODATKI'!D87 -> 0.118992 | E66: =C66*$C$11*(1000+$C$12) -> 0
B67: ='OSNOVNI PODATKI'!B88 -> TEHNOLOGIJA (TH) | C67: ='OSNOVNI PODATKI'!D88 -> 0.041736 | E67: =C67*$C$11*(1000+$C$12) -> 0
B69: MINIMALNO ŠTEVILO NU/m2 | C69: =IFERROR(LOOKUP(C57,B58:C62),"/") -> 0 | D69: NU/m2
B70: MAKSIMALNO ŠTEVILO NU/m2 | C70: {=IFERROR(INDEX(C58:C63,MATCH(C57,B58:B62)+1),"/")} -> 0 | D70: NU/m2
B71: MINIMALNO ŠTEVILO NU | C71: =IFERROR(C69*C54,0) -> 0 | D71: NU
B72: MAKSIMALNO ŠTEVILO NU | C72: =IFERROR(C70*C54,0) -> 0 | D72: NU
B74: ='OSNOVNI PODATKI'!A93 -> STAVBA 4 / DEL 4 | C74: ='OSNOVNI PODATKI'!E93 -> 0
B75: TIPOLOGIJA | C75: ='OSNOVNI PODATKI'!E94 -> 17. Šole z nadpovprečnimi načrtovalskimi potrebami - izobraževalni centri, visoke šole, univerze, akademije
B76: BRUTO POVRŠINA DELA | C76: ='OSNOVNI PODATKI'!E95 -> 0
B77: BRUTO POVRŠINA ZA IZRAČUN | C77: =IF($C$5=1,$C$6,C76) -> 0
B78: INDEKS TIPOLOGIJE | C78: ='OSNOVNI PODATKI'!E105 -> 785
B79: IZBRANI CENOVNI RAZRED | C79: ='OSNOVNI PODATKI'!E97 -> Cenovni razred III
B80: Cenovni razred I | C80: =IFERROR(0.0132*POWER((45%*C86+10%)*C77*(1000+C78),0.7854)/C77,0) -> 0 | D80: NU/m2
B81: Cenovni razred II | C81: =IFERROR(0.0147*POWER((45%*C86+10%)*C77*(1000+C78),0.7854)/C77,0) -> 0 | D81: NU/m2
B82: Cenovni razred III | C82: =IFERROR(0.019*POWER((45%*C86+10%)*C77*(1000+C78),0.7841)/C77,0) -> 0 | D82: NU/m2
B83: Cenovni razred IV | C83: =IFERROR(0.0232*POWER((45%*C86+10%)*C77*(1000+C78),0.7856)/C77,0) -> 0 | D83: NU/m2
B84: Cenovni razred V | C84: =IFERROR(0.0277*POWER((45%*C86+10%)*C77*(1000+C78),0.7843)/C77,0) -> 0 | D84: NU/m2
B85: Cenovni razred V+ | C85: =IFERROR(0.0291*POWER((45%*C86+10%)*C77*(1000+C78),0.7843)/C77,0) -> 0 | D85: NU/m2
B86: ='OSNOVNI PODATKI'!B111 -> GRADBENO OBRTNIŠKA DELA (GO) | C86: ='OSNOVNI PODATKI'!D111 -> 0.762 | E86: =C86*$C$11*(1000+$C$12) -> 0
B87: ='OSNOVNI PODATKI'!B112 -> ELEKTRIČNE INŠTALACIJE (EI) | C87: ='OSNOVNI PODATKI'!D112 -> 0.07973 | E87: =C87*$C$11*(1000+$C$12) -> 0
B88: ='OSNOVNI PODATKI'!B113 -> STROJNE INŠTALACIJE (SI) | C88: ='OSNOVNI PODATKI'!D113 -> 0.118762 | E88: =C88*$C$11*(1000+$C$12) -> 0
B89: ='OSNOVNI PODATKI'!B114 -> TEHNOLOGIJA (TH) | C89: ='OSNOVNI PODATKI'!D114 -> 0.039508 | E89: =C89*$C$11*(1000+$C$12) -> 0
B91: MINIMALNO ŠTEVILO NU/m2 | C91: =IFERROR(LOOKUP(C79,B80:C84),"/") -> 0 | D91: NU/m2
B92: MAKSIMALNO ŠTEVILO NU/m2 | C92: {=IFERROR(INDEX(C80:C85,MATCH(C79,B80:B84)+1),"/")} -> 0 | D92: NU/m2
B93: MINIMALNO ŠTEVILO NU | C93: =IFERROR(C91*C76,0) -> 0 | D93: NU
B94: MAKSIMALNO ŠTEVILO NU | C94: =IFERROR(C92*C76,0) -> 0 | D94: NU
B96: ='OSNOVNI PODATKI'!A119 -> STAVBA 5 / DEL 5 | C96: ='OSNOVNI PODATKI'!E119 -> 0
B97: TIPOLOGIJA | C97: ='OSNOVNI PODATKI'!E120 -> 22. Pisarniške in upravne stavbe, višji standard
B98: BRUTO POVRŠINA DELA | C98: ='OSNOVNI PODATKI'!E121 -> 0
B99: BRUTO POVRŠINA ZA IZRAČUN | C99: =IF($C$5=1,$C$6,C98) -> 0
B100: INDEKS TIPOLOGIJE | C100: ='OSNOVNI PODATKI'!E131 -> 990.8
B101: IZBRANI CENOVNI RAZRED | C101: ='OSNOVNI PODATKI'!E123 -> Cenovni razred III
B102: Cenovni razred I | C102: =IFERROR(0.0132*POWER((45%*C108+10%)*C99*(1000+C100),0.7854)/C99,0) -> 0 | D102: NU/m2
B103: Cenovni razred II | C103: =IFERROR(0.0147*POWER((45%*C108+10%)*C99*(1000+C100),0.7854)/C99,0) -> 0 | D103: NU/m2
B104: Cenovni razred III | C104: =IFERROR(0.019*POWER((45%*C108+10%)*C99*(1000+C100),0.7841)/C99,0) -> 0 | D104: NU/m2
B105: Cenovni razred IV | C105: =IFERROR(0.0232*POWER((45%*C108+10%)*C99*(1000+C100),0.7856)/C99,0) -> 0 | D105: NU/m2
B106: Cenovni razred V | C106: =IFERROR(0.0277*POWER((45%*C108+10%)*C99*(1000+C100),0.7843)/C99,0) -> 0 | D106: NU/m2
B107: Cenovni razred V+ | C107: =IFERROR(0.0291*POWER((45%*C108+10%)*C99*(1000+C100),0.7843)/C99,0) -> 0 | D107: NU/m2
B108: ='OSNOVNI PODATKI'!B137 -> GRADBENO OBRTNIŠKA DELA (GO) | C108: ='OSNOVNI PODATKI'!D137 -> 0.737 | E108: =C108*$C$11*(1000+$C$12) -> 0
B109: ='OSNOVNI PODATKI'!B133 -> INFORMATIVNA OCENA STROŠKOV GRADNJE | C109: ='OSNOVNI PODATKI'!D138 -> 0.112301 | E109: =C109*$C$11*(1000+$C$12) -> 0
B110: ='OSNOVNI PODATKI'!B134 -> INFORMATIVNA VREDNOST STROŠKOV GRADNJE EUR/m2 BTP | C110: ='OSNOVNI PODATKI'!D139 -> 0.124399 | E110: =C110*$C$11*(1000+$C$12) -> 0
B111: ='OSNOVNI PODATKI'!B135 -> IZBRANA VREDNOST STROŠKOV GRADNJE EUR/m2 BEP | C111: ='OSNOVNI PODATKI'!D140 -> 0.0263 | E111: =C111*$C$11*(1000+$C$12) -> 0
...

Sheet TEHNIČNA OPREMA
B1: Poraba časa - TEHNIČNA OPREMA
A3: IZRAČUN ŠTEVILA NU ZA ELEKTRIČNE INŠTALACIJE | E3: IZRAČUN ŠTEVILA NU ZA STROJNE INŠTALACIJE | I3: IZRAČUN ŠTEVILA NU ZA TEHNOLOGIJO
B5: VRSTA IZRAČUNA | C5: ='OSNOVNI PODATKI'!H11 -> 2 | D5: =IF(C5=1,'OSNOVNI PODATKI'!B11,'OSNOVNI PODATKI'!B12) -> ENA STAVBA ALI VEČ RAZLIČNIH STAVB (PRI IZRAČUNU POTREBNIH NU SE VSAKA STAVBA IZRAČUNAVA LOČENO)
B6: CELOTNA BTP | C6: ='OSNOVNI PODATKI'!E308 -> 0
B8: ='OSNOVNI PODATKI'!A15 -> STAVBA 1 / DEL 1 | C8: ='OSNOVNI PODATKI'!E15 -> 0
B9: TIPOLOGIJA | C9: ='OSNOVNI PODATKI'!E16 -> 5. Nepodkletene eno in dvostanovanjske stavbe, nižji standard
B10: BRUTO POVRŠINA DELA | C10: ='OSNOVNI PODATKI'!E17 -> 0
B11: BRUTO POVRŠINA ZA IZRAČUN | C11: =IF($C$5=1,$C$6,C10) -> 0
B12: INDEKS TIPOLOGIJE | C12: ='OSNOVNI PODATKI'!E27 -> -105.4
B13: IZBRANI CENOVNI RAZRED | C13: ='OSNOVNI PODATKI'!E20 -> Cenovni razred II | F13: IZBRANI CENOVNI RAZRED | G13: ='OSNOVNI PODATKI'!E21 -> Cenovni razred II | J13: IZBRANI CENOVNI RAZRED | K13: ='OSNOVNI PODATKI'!E22 -> Cenovni razred II
B14: Cenovni razred I | C14: =IFERROR((0.0331*POWER(C21*C11*(1000+C12),0.7868))/C11,0) -> 0 | D14: NU/m2 | F14: Cenovni razred I | G14: =IFERROR((0.0331*POWER(C22*C11*(1000+C12),0.7868))/C11,0) -> 0 | H14: NU/m2 | J14: Cenovni razred I | K14: =IFERROR((0.0331*POWER(C23*C11*(1000+C12),0.7868))/C11,0) -> 0 | L14: NU/m2
B15: Cenovni razred II | C15: =IFERROR((0.0392*POWER(C21*C11*(1000+C12),0.7872))/C11,0) -> 0 | D15: NU/m2 | F15: Cenovni razred II | G15: =IFERROR((0.0392*POWER(C22*C11*(1000+C12),0.7872))/C11,0) -> 0 | H15: NU/m2 | J15: Cenovni razred II | K15: =IFERROR((0.0392*POWER(C23*C11*(1000+C12),0.7872))/C11,0) -> 0 | L15: NU/m2
B16: Cenovni razred III | C16: =IFERROR((0.0458*POWER(C21*C11*(1000+C12),0.7877))/C11,0) -> 0 | D16: NU/m2 | F16: Cenovni razred III | G16: =IFERROR((0.0458*POWER(C22*C11*(1000+C12),0.7877))/C11,0) -> 0 | H16: NU/m2 | J16: Cenovni razred III | K16: =IFERROR((0.0458*POWER(C23*C11*(1000+C12),0.7877))/C11,0) -> 0 | L16: NU/m2
B17: Cenovni razred IV | C17: =IFERROR((0.0528*POWER(C21*C11*(1000+C12),0.7867))/C11,0) -> 0 | D17: NU/m2 | F17: Cenovni razred IV | G17: =IFERROR((0.0528*POWER(C22*C11*(1000+C12),0.7867))/C11,0) -> 0 | H17: NU/m2 | J17: Cenovni razred IV | K17: =IFERROR((0.0528*POWER(C23*C11*(1000+C12),0.7867))/C11,0) -> 0 | L17: NU/m2
B20: ='OSNOVNI PODATKI'!B59 -> GRADBENO OBRTNIŠKA DELA (GO) | C20: ='OSNOVNI PODATKI'!D33 -> 0.817
B21: ='OSNOVNI PODATKI'!B60 -> ELEKTRIČNE INŠTALACIJE (EI) | C21: ='OSNOVNI PODATKI'!D34 -> 0.0345544
B22: ='OSNOVNI PODATKI'!B61 -> STROJNE INŠTALACIJE (SI) | C22: ='OSNOVNI PODATKI'!D35 -> 0.14823
B23: ='OSNOVNI PODATKI'!B62 -> TEHNOLOGIJA (TH) | C23: ='OSNOVNI PODATKI'!D36 -> 0
B25: MINIMALNO ŠTEVILO NU/m2 | C25: =IFERROR(LOOKUP(C13,B14:C17),0) -> 0 | D25: NU/m2 | F25: MINIMALNO ŠTEVILO NU/m2 | G25: =IFERROR(LOOKUP(G13,F14:G17),0) -> 0 | H25: NU/m2 | J25: MINIMALNO ŠTEVILO NU/m2 | K25: =IFERROR(LOOKUP(K13,J14:K17),0) -> 0 | L25: NU/m2
B26: MAKSIMALNO ŠTEVILO NU/m2 | C26: {=IFERROR(INDEX(C14:C17,MATCH(C13,B14:B17)+1),0)} -> 0 | D26: NU/m2 | F26: MAKSIMALNO ŠTEVILO NU/m2 | G26: {=IFERROR(INDEX(G14:G17,MATCH(G13,F14:F17)+1),0)} -> 0 | H26: NU/m2 | J26: MAKSIMALNO ŠTEVILO NU/m2 | K26: {=IFERROR(INDEX(K14:K17,MATCH(K13,J14:J17)+1),0)} -> 0 | L26: NU/m2
B27: MINIMALNO ŠTEVILO NU | C27: =IFERROR(C25*$C10,0) -> 0 | D27: NU | F27: MINIMALNO ŠTEVILO NU | G27: =IFERROR(G25*$C10,0) -> 0 | H27: NU | J27: MINIMALNO ŠTEVILO NU | K27: =IFERROR(K25*$C10,0) -> 0 | L27: NU
B28: MAKSIMALNO ŠTEVILO NU | C28: =IFERROR(C26*$C10,0) -> 0 | D28: NU | F28: MAKSIMALNO ŠTEVILO NU | G28: =IFERROR(G26*$C10,0) -> 0 | H28: NU | J28: MAKSIMALNO ŠTEVILO NU | K28: =IFERROR(K26*$C10,0) -> 0 | L28: NU
B30: ='OSNOVNI PODATKI'!A41 -> STAVBA 2 / DEL 2 | C30: ='OSNOVNI PODATKI'!E41 -> 0
B31: TIPOLOGIJA | C31: ='OSNOVNI PODATKI'!E42 -> 6. Nepodkletene eno in dvostanovanjske stavbe, srednji standard
B32: BRUTO POVRŠINA DELA | C32: ='OSNOVNI PODATKI'!E43 -> 0
B33: BRUTO POVRŠINA ZA IZRAČUN | C33: =IF($C$5=1,$C$6,C32) -> 0
B34: INDEKS TIPOLOGIJE | C34: ='OSNOVNI PODATKI'!E53 -> 230.6
B35: IZBRANI CENOVNI RAZRED | C35: ='OSNOVNI PODATKI'!E46 -> Cenovni razred II | F35: IZBRANI CENOVNI RAZRED | G35: ='OSNOVNI PODATKI'!E47 -> Cenovni razred II | J35: IZBRANI CENOVNI RAZRED | K35: ='OSNOVNI PODATKI'!E48 -> Cenovni razred II
B36: Cenovni razred I | C36: =IFERROR((0.0331*POWER(C43*C33*(1000+C34),0.7868))/C33,0) -> 0 | D36: NU/m2 | F36: Cenovni razred I | G36: =IFERROR((0.0331*POWER(C44*C33*(1000+C34),0.7868))/C33,0) -> 0 | H36: NU/m2 | J36: Cenovni razred I | K36: =IFERROR((0.0331*POWER(C45*C33*(1000+C34),0.7868))/C33,0) -> 0 | L36: NU/m2
B37: Cenovni razred II | C37: =IFERROR((0.0392*POWER(C43*C33*(1000+C34),0.7872))/C33,0) -> 0 | D37: NU/m2 | F37: Cenovni razred II | G37: =IFERROR((0.0392*POWER(C44*C33*(1000+C34),0.7872))/C33,0) -> 0 | H37: NU/m2 | J37: Cenovni razred II | K37: =IFERROR((0.0392*POWER(C45*C33*(1000+C34),0.7872))/C33,0) -> 0 | L37: NU/m2
B38: Cenovni razred III | C38: =IFERROR((0.0458*POWER(C43*C33*(1000+C34),0.7877))/C33,0) -> 0 | D38: NU/m2 | F38: Cenovni razred III | G38: =IFERROR((0.0458*POWER(C44*C33*(1000+C34),0.7877))/C33,0) -> 0 | H38: NU/m2 | J38: Cenovni razred III | K38: =IFERROR((0.0458*POWER(C45*C33*(1000+C34),0.7877))/C33,0) -> 0 | L38: NU/m2
B39: Cenovni razred IV | C39: =IFERROR((0.0528*POWER(C43*C33*(1000+C34),0.7867))/C33,0) -> 0 | D39: NU/m2 | F39: Cenovni razred IV | G39: =IFERROR((0.0528*POWER(C44*C33*(1000+C34),0.7867))/C33,0) -> 0 | H39: NU/m2 | J39: Cenovni razred IV | K39: =IFERROR((0.0528*POWER(C45*C33*(1000+C34),0.7867))/C33,0) -> 0 | L39: NU/m2
B42: ='OSNOVNI PODATKI'!B59 -> GRADBENO OBRTNIŠKA DELA (GO) | C42: ='OSNOVNI PODATKI'!D59 -> 0.808
B43: ='OSNOVNI PODATKI'!B60 -> ELEKTRIČNE INŠTALACIJE (EI) | C43: ='OSNOVNI PODATKI'!D60 -> 0.044544
B44: ='OSNOVNI PODATKI'!B61 -> STROJNE INŠTALACIJE (SI) | C44: ='OSNOVNI PODATKI'!D61 -> 0.147648
B45: ='OSNOVNI PODATKI'!B62 -> TEHNOLOGIJA (TH) | C45: ='OSNOVNI PODATKI'!D62 -> 0
B47: MINIMALNO ŠTEVILO NU/m2 | C47: =IFERROR(LOOKUP(C35,B36:C39),0) -> 0 | D47: NU/m2 | F47: MINIMALNO ŠTEVILO NU/m2 | G47: =IFERROR(LOOKUP(G35,F36:G39),0) -> 0 | H47: NU/m2 | J47: MINIMALNO ŠTEVILO NU/m2 | K47: =IFERROR(LOOKUP(K35,J36:K39),0) -> 0 | L47: NU/m2
B48: MAKSIMALNO ŠTEVILO NU/m2 | C48: {=IFERROR(INDEX(C36:C39,MATCH(C35,B36:B39)+1),0)} -> 0 | D48: NU/m2 | F48: MAKSIMALNO ŠTEVILO NU/m2 | G48: {=IFERROR(INDEX(G36:G39,MATCH(G35,F36:F39)+1),0)} -> 0 | H48: NU/m2 | J48: MAKSIMALNO ŠTEVILO NU/m2 | K48: {=IFERROR(INDEX(K36:K39,MATCH(K35,J36:J39)+1),0)} -> 0 | L48: NU/m2
B49: MINIMALNO ŠTEVILO NU | C49: =IFERROR(C47*$C32,0) -> 0 | D49: NU | F49: MINIMALNO ŠTEVILO NU | G49: =IFERROR(G47*$C32,0) -> 0 | H49: NU | J49: MINIMALNO ŠTEVILO NU | K49: =IFERROR(K47*$C32,0) -> 0 | L49: NU
B50: MAKSIMALNO ŠTEVILO NU | C50: =IFERROR(C48*$C32,0) -> 0 | D50: NU | F50: MAKSIMALNO ŠTEVILO NU | G50: =IFERROR(G48*$C32,0) -> 0 | H50: NU | J50: MAKSIMALNO ŠTEVILO NU | K50: =IFERROR(K48*$C32,0) -> 0 | L50: NU
B52: ='OSNOVNI PODATKI'!A67 -> STAVBA 3 / DEL 3 | C52: ='OSNOVNI PODATKI'!E67 -> 0
B53: TIPOLOGIJA | C53: ='OSNOVNI PODATKI'!E68 -> 47. Hoteli, moteli
B54: BRUTO POVRŠINA DELA | C54: ='OSNOVNI PODATKI'!E69 -> 0
B55: BRUTO POVRŠINA ZA IZRAČUN | C55: =IF($C$5=1,$C$6,C54) -> 0
B56: INDEKS TIPOLOGIJE | C56: ='OSNOVNI PODATKI'!E79 -> 646.4
B57: IZBRANI CENOVNI RAZRED | C57: ='OSNOVNI PODATKI'!E72 -> Cenovni razred II | F57: IZBRANI CENOVNI RAZRED | G57: ='OSNOVNI PODATKI'!E73 -> Cenovni razred II | J57: IZBRANI CENOVNI RAZRED | K57: ='OSNOVNI PODATKI'!E74 -> Cenovni razred II
B58: Cenovni razred I | C58: =IFERROR((0.0331*POWER(C65*C55*(1000+C56),0.7868))/C55,0) -> 0 | D58: NU/m2 | F58: Cenovni razred I | G58: =IFERROR((0.0331*POWER(C66*C55*(1000+C56),0.7868))/C55,0) -> 0 | H58: NU/m2 | J58: Cenovni razred I | K58: =IFERROR((0.0331*POWER(C67*C55*(1000+C56),0.7868))/C55,0) -> 0 | L58: NU/m2
B59: Cenovni razred II | C59: =IFERROR((0.0392*POWER(C65*C55*(1000+C56),0.7872))/C55,0) -> 0 | D59: NU/m2 | F59: Cenovni razred II | G59: =IFERROR((0.0392*POWER(C66*C55*(1000+C56),0.7872))/C55,0) -> 0 | H59: NU/m2 | J59: Cenovni razred II | K59: =IFERROR((0.0392*POWER(C67*C55*(1000+C56),0.7872))/C55,0) -> 0 | L59: NU/m2
B60: Cenovni razred III | C60: =IFERROR((0.0458*POWER(C65*C55*(1000+C56),0.7877))/C55,0) -> 0 | D60: NU/m2 | F60: Cenovni razred III | G60: =IFERROR((0.0458*POWER(C66*C55*(1000+C56),0.7877))/C55,0) -> 0 | H60: NU/m2 | J60: Cenovni razred III | K60: =IFERROR((0.0458*POWER(C67*C55*(1000+C56),0.7877))/C55,0) -> 0 | L60: NU/m2
B61: Cenovni razred IV | C61: =IFERROR((0.0528*POWER(C65*C55*(1000+C56),0.7867))/C55,0) -> 0 | D61: NU/m2 | F61: Cenovni razred IV | G61: =IFERROR((0.0528*POWER(C66*C55*(1000+C56),0.7867))/C55,0) -> 0 | H61: NU/m2 | J61: Cenovni razred IV | K61: =IFERROR((0.0528*POWER(C67*C55*(1000+C56),0.7867))/C55,0) -> 0 | L61: NU/m2
B64: ='OSNOVNI PODATKI'!B85 -> GRADBENO OBRTNIŠKA DELA (GO) | C64: ='OSNOVNI PODATKI'!D85 -> 0.704
B65: ='OSNOVNI PODATKI'!B86 -> ELEKTRIČNE INŠTALACIJE (EI) | C65: ='OSNOVNI PODATKI'!D86 -> 0.1350672
B66: ='OSNOVNI PODATKI'!B87 -> STROJNE INŠTALACIJE (SI) | C66: ='OSNOVNI PODATKI'!D87 -> 0.118992
B67: ='OSNOVNI PODATKI'!B88 -> TEHNOLOGIJA (TH) | C67: ='OSNOVNI PODATKI'!D88 -> 0.041736
B69: MINIMALNO ŠTEVILO NU/m2 | C69: =IFERROR(LOOKUP(C57,B58:C61),0) -> 0 | D69: NU/m2 | F69: MINIMALNO ŠTEVILO NU/m2 | G69: =IFERROR(LOOKUP(G57,F58:G61),0) -> 0 | H69: NU/m2 | J69: MINIMALNO ŠTEVILO NU/m2 | K69: =IFERROR(LOOKUP(K57,J58:K61),0) -> 0 | L69: NU/m2
B70: MAKSIMALNO ŠTEVILO NU/m2 | C70: {=IFERROR(INDEX(C58:C61,MATCH(C57,B58:B61)+1),0)} -> 0 | D70: NU/m2 | F70: MAKSIMALNO ŠTEVILO NU/m2 | G70: {=IFERROR(INDEX(G58:G61,MATCH(G57,F58:F61)+1),0)} -> 0 | H70: NU/m2 | J70: MAKSIMALNO ŠTEVILO NU/m2 | K70: {=IFERROR(INDEX(K58:K61,MATCH(K57,J58:J61)+1),0)} -> 0 | L70: NU/m2
B71: MINIMALNO ŠTEVILO NU | C71: =IFERROR(C69*$C54,0) -> 0 | D71: NU | F71: MINIMALNO ŠTEVILO NU | G71: =IFERROR(G69*$C54,0) -> 0 | H71: NU | J71: MINIMALNO ŠTEVILO NU | K71: =IFERROR(K69*$C54,0) -> 0 | L71: NU
B72: MAKSIMALNO ŠTEVILO NU | C72: =IFERROR(C70*$C54,0) -> 0 | D72: NU | F72: MAKSIMALNO ŠTEVILO NU | G72: =IFERROR(G70*$C54,0) -> 0 | H72: NU | J72: MAKSIMALNO ŠTEVILO NU | K72: =IFERROR(K70*$C54,0) -> 0 | L72: NU
B74: ='OSNOVNI PODATKI'!A93 -> STAVBA 4 / DEL 4 | C74: ='OSNOVNI PODATKI'!E93 -> 0
B75: TIPOLOGIJA | C75: ='OSNOVNI PODATKI'!E94 -> 17. Šole z nadpovprečnimi načrtovalskimi potrebami - izobraževalni centri, visoke šole, univerze, akademije
B76: BRUTO POVRŠINA DELA | C76: ='OSNOVNI PODATKI'!E95 -> 0
B77: BRUTO POVRŠINA ZA IZRAČUN | C77: =IF($C$5=1,$C$6,C76) -> 0
B78: INDEKS TIPOLOGIJE | C78: ='OSNOVNI PODATKI'!E105 -> 785
B79: IZBRANI CENOVNI RAZRED | C79: ='OSNOVNI PODATKI'!E98 -> Cenovni razred II | F79: IZBRANI CENOVNI RAZRED | G79: ='OSNOVNI PODATKI'!E99 -> Cenovni razred II | J79: IZBRANI CENOVNI RAZRED | K79: ='OSNOVNI PODATKI'!E100 -> Cenovni razred II
B80: Cenovni razred I | C80: =IFERROR((0.0331*POWER(C87*C77*(1000+C78),0.7868))/C77,0) -> 0 | D80: NU/m2 | F80: Cenovni razred I | G80: =IFERROR((0.0331*POWER(C88*C77*(1000+C78),0.7868))/C77,0) -> 0 | H80: NU/m2 | J80: Cenovni razred I | K80: =IFERROR((0.0331*POWER(C89*C77*(1000+C78),0.7868))/C77,0) -> 0 | L80: NU/m2
B81: Cenovni razred II | C81: =IFERROR((0.0392*POWER(C87*C77*(1000+C78),0.7872))/C77,0) -> 0 | D81: NU/m2 | F81: Cenovni razred II | G81: =IFERROR((0.0392*POWER(C88*C77*(1000+C78),0.7872))/C77,0) -> 0 | H81: NU/m2 | J81: Cenovni razred II | K81: =IFERROR((0.0392*POWER(C89*C77*(1000+C78),0.7872))/C77,0) -> 0 | L81: NU/m2
B82: Cenovni razred III | C82: =IFERROR((0.0458*POWER(C87*C77*(1000+C78),0.7877))/C77,0) -> 0 | D82: NU/m2 | F82: Cenovni razred III | G82: =IFERROR((0.0458*POWER(C88*C77*(1000+C78),0.7877))/C77,0) -> 0 | H82: NU/m2 | J82: Cenovni razred III | K82: =IFERROR((0.0458*POWER(C89*C77*(1000+C78),0.7877))/C77,0) -> 0 | L82: NU/m2
B83: Cenovni razred IV | C83: =IFERROR((0.0528*POWER(C87*C77*(1000+C78),0.7867))/C77,0) -> 0 | D83: NU/m2 | F83: Cenovni razred IV | G83: =IFERROR((0.0528*POWER(C88*C77*(1000+C78),0.7867))/C77,0) -> 0 | H83: NU/m2 | J83: Cenovni razred IV | K83: =IFERROR((0.0528*POWER(C89*C77*(1000+C78),0.7867))/C77,0) -> 0 | L83: NU/m2
B86: ='OSNOVNI PODATKI'!B111 -> GRADBENO OBRTNIŠKA DELA (GO) | C86: ='OSNOVNI PODATKI'!D111 -> 0.762
B87: ='OSNOVNI PODATKI'!B112 -> ELEKTRIČNE INŠTALACIJE (EI) | C87: ='OSNOVNI PODATKI'!D112 -> 0.07973
B88: ='OSNOVNI PODATKI'!B113 -> STROJNE INŠTALACIJE (SI) | C88: ='OSNOVNI PODATKI'!D113 -> 0.118762
B89: ='OSNOVNI PODATKI'!B114 -> TEHNOLOGIJA (TH) | C89: ='OSNOVNI PODATKI'!D114 -> 0.039508
B91: MINIMALNO ŠTEVILO NU/m2 | C91: =IFERROR(LOOKUP(C79,B80:C83),0) -> 0 | D91: NU/m2 | F91: MINIMALNO ŠTEVILO NU/m2 | G91: =IFERROR(LOOKUP(G79,F80:G83),0) -> 0 | H91: NU/m2 | J91: MINIMALNO ŠTEVILO NU/m2 | K91: =IFERROR(LOOKUP(K79,J80:K83),0) -> 0 | L91: NU/m2
B92: MAKSIMALNO ŠTEVILO NU/m2 | C92: {=IFERROR(INDEX(C80:C83,MATCH(C79,B80:B83)+1),0)} -> 0 | D92: NU/m2 | F92: MAKSIMALNO ŠTEVILO NU/m2 | G92: {=IFERROR(INDEX(G80:G83,MATCH(G79,F80:F83)+1),0)} -> 0 | H92: NU/m2 | J92: MAKSIMALNO ŠTEVILO NU/m2 | K92: {=IFERROR(INDEX(K80:K83,MATCH(K79,J80:J83)+1),0)} -> 0 | L92: NU/m2
B93: MINIMALNO ŠTEVILO NU | C93: =IFERROR(C91*$C76,0) -> 0 | D93: NU | F93: MINIMALNO ŠTEVILO NU | G93: =IFERROR(G91*$C76,0) -> 0 | H93: NU | J93: MINIMALNO ŠTEVILO NU | K93: =IFERROR(K91*$C76,0) -> 0 | L93: NU
B94: MAKSIMALNO ŠTEVILO NU | C94: =IFERROR(C92*$C76,0) -> 0 | D94: NU | F94: MAKSIMALNO ŠTEVILO NU | G94: =IFERROR(G92*$C76,0) -> 0 | H94: NU | J94: MAKSIMALNO ŠTEVILO NU | K94: =IFERROR(K92*$C76,0) -> 0 | L94: NU
B96: ='OSNOVNI PODATKI'!A119 -> STAVBA 5 / DEL 5 | C96: ='OSNOVNI PODATKI'!E119 -> 0
B97: TIPOLOGIJA | C97: ='OSNOVNI PODATKI'!E120 -> 22. Pisarniške in upravne stavbe, višji standard
B98: BRUTO POVRŠINA DELA | C98: ='OSNOVNI PODATKI'!E121 -> 0
B99: BRUTO POVRŠINA ZA IZRAČUN | C99: =IF($C$5=1,$C$6,C98) -> 0
B100: INDEKS TIPOLOGIJE | C100: ='OSNOVNI PODATKI'!E131 -> 990.8
B101: IZBRANI CENOVNI RAZRED | C101: ='OSNOVNI PODATKI'!E124 -> Cenovni razred II | F101: IZBRANI CENOVNI RAZRED | G101: ='OSNOVNI PODATKI'!E125 -> Cenovni razred II | J101: IZBRANI CENOVNI RAZRED | K101: ='OSNOVNI PODATKI'!E126 -> Cenovni razred II
B102: Cenovni razred I | C102: =IFERROR((0.0331*POWER(C109*C99*(1000+C100),0.7868))/C99,0) -> 0 | D102: NU/m2 | F102: Cenovni razred I | G102: =IFERROR((0.0331*POWER(C110*C99*(1000+C100),0.7868))/C99,0) -> 0 | H102: NU/m2 | J102: Cenovni razred I | K102: =IFERROR((0.0331*POWER(C111*C99*(1000+C100),0.7868))/C99,0) -> 0 | L102: NU/m2
B103: Cenovni razred II | C103: =IFERROR((0.0392*POWER(C109*C99*(1000+C100),0.7872))/C99,0) -> 0 | D103: NU/m2 | F103: Cenovni razred II | G103: =IFERROR((0.0392*POWER(C110*C99*(1000+C100),0.7872))/C99,0) -> 0 | H103: NU/m2 | J103: Cenovni razred II | K103: =IFERROR((0.0392*POWER(C111*C99*(1000+C100),0.7872))/C99,0) -> 0 | L103: NU/m2
B104: Cenovni razred III | C104: =IFERROR((0.0458*POWER(C109*C99*(1000+C100),0.7877))/C99,0) -> 0 | D104: NU/m2 | F104: Cenovni razred III | G104: =IFERROR((0.0458*POWER(C110*C99*(1000+C100),0.7877))/C99,0) -> 0 | H104: NU/m2 | J104: Cenovni razred III | K104: =IFERROR((0.0458*POWER(C111*C99*(1000+C100),0.7877))/C99,0) -> 0 | L104: NU/m2
B105: Cenovni razred IV | C105: =IFERROR((0.0528*POWER(C109*C99*(1000+C100),0.7867))/C99,0) -> 0 | D105: NU/m2 | F105: Cenovni razred IV | G105: =IFERROR((0.0528*POWER(C110*C99*(1000+C100),0.7867))/C99,0) -> 0 | H105: NU/m2 | J105: Cenovni razred IV | K105: =IFERROR((0.0528*POWER(C111*C99*(1000+C100),0.7867))/C99,0) -> 0 | L105: NU/m2
B108: ='OSNOVNI PODATKI'!B137 -> GRADBENO OBRTNIŠKA DELA (GO) | C108: ='OSNOVNI PODATKI'!D137 -> 0.737
B109: ='OSNOVNI PODATKI'!B133 -> INFORMATIVNA OCENA STROŠKOV GRADNJE | C109: ='OSNOVNI PODATKI'!D138 -> 0.112301
B110: ='OSNOVNI PODATKI'!B134 -> INFORMATIVNA VREDNOST STROŠKOV GRADNJE EUR/m2 BTP | C110: ='OSNOVNI PODATKI'!D139 -> 0.124399
B111: ='OSNOVNI PODATKI'!B135 -> IZBRANA VREDNOST STROŠKOV GRADNJE EUR/m2 BEP | C111: ='OSNOVNI PODATKI'!D140 -> 0.0263
B113: MINIMALNO ŠTEVILO NU/m2 | C113: =IFERROR(LOOKUP(C101,B102:C105),0) -> 0 | D113: NU/m2 | F113: MINIMALNO ŠTEVILO NU/m2 | G113: =IFERROR(LOOKUP(G101,F102:G105),0) -> 0 | H113: NU/m2 | J113: MINIMALNO ŠTEVILO NU/m2 | K113: =IFERROR(LOOKUP(K101,J102:K105),0) -> 0 | L113: NU/m2
B114: MAKSIMALNO ŠTEVILO NU/m2 | C114: {=IFERROR(INDEX(C102:C105,MATCH(C101,B102:B105)+1),0)} -> 0 | D114: NU/m2 | F114: MAKSIMALNO ŠTEVILO NU/m2 | G114: {=IFERROR(INDEX(G102:G105,MATCH(G101,F102:F105)+1),0)} -> 0 | H114: NU/m2 | J114: MAKSIMALNO ŠTEVILO NU/m2 | K114: {=IFERROR(INDEX(K102:K105,MATCH(K101,J102:J105)+1),0)} -> 0 | L114: NU/m2
B115: MINIMALNO ŠTEVILO NU | C115: =IFERROR(C113*$C98,0) -> 0 | D115: NU | F115: MINIMALNO ŠTEVILO NU | G115: =IFERROR(G113*$C98,0) -> 0 | H115: NU | J115: MINIMALNO ŠTEVILO NU | K115: =IFERROR(K113*$C98,0) -> 0 | L115: NU
B116: MAKSIMALNO ŠTEVILO NU | C116: =IFERROR(C114*$C98,0) -> 0 | D116: NU | F116: MAKSIMALNO ŠTEVILO NU | G116: =IFERROR(G114*$C98,0) -> 0 | H116: NU | J116: MAKSIMALNO ŠTEVILO NU | K116: =IFERROR(K114*$C98,0) -> 0 | L116: NU
A119: PORAZDELITEV UR ZA NAČRTE ELEKTROTEHNIKE
B121: IZHODIŠČNO ŠTEVILO NU | F121: ='OSNOVNI PODATKI'!G365 -> 0
B122: VREDNOST NU | F122: ='ARHIGRAM 6'!I16 -> 62
B124: ='OSNOVNI PODATKI'!$B$376 -> PRIBITEK ZA PRENOVO | F124: ='OSNOVNI PODATKI'!$F$376 -> 0 | G124: ='OSNOVNI PODATKI'!G376 -> Upošteva se v fazah od 1 do 4., samo za storitve projektiranja. Če dogovor o povečanju potrebnega števila NU ni bil dosežen, se upošteva 18 % povečanje števila NU glede na vsaj povprečno zahtevnost. Če gre za prenovo notranje opreme lahko znaša povečanje do 50 %.
B125: ='OSNOVNI PODATKI'!B381 -> BREZ NAČRTA UTOROV IN PREBOJEV V NAČRTIH INŠTALACIJ | F125: =IF('OSNOVNI PODATKI'!F381=TRUE,"DA","NE") -> DA | G125: =+'OSNOVNI PODATKI'!G381 -> Če je opcija izbrana, se v fazi 2.4 EI, SI, TH upošteva odbitek 4 %.
B126: ='OSNOVNI PODATKI'!B382 -> BREZ PREVERJANJA MONTAŽNIH IN DELAVNIŠKIH NAČRTOV V TEHNIČNIH NAČRTIH | F126: =IF('OSNOVNI PODATKI'!F382=TRUE,"DA","NE") -> DA | G126: =+'OSNOVNI PODATKI'!G382 -> Če je opcija izbrana, se v fazi 2.4 EI, SI, TH upošteva odbitek 4 %.
...

Sheet POŽARNA VARNOST
B1: Poraba časa - požarna varnost
A3: IZRAČUN ŠTEVILA NU ZA POŽARNO VARNOST
B5: VRSTA IZRAČUNA | C5: ='OSNOVNI PODATKI'!H11 -> 2 | D5: =IF(C5=1,'OSNOVNI PODATKI'!B11,'OSNOVNI PODATKI'!B12) -> ENA STAVBA ALI VEČ RAZLIČNIH STAVB (PRI IZRAČUNU POTREBNIH NU SE VSAKA STAVBA IZRAČUNAVA LOČENO)
B6: CELOTNA BTP | C6: ='OSNOVNI PODATKI'!E308 -> 0
B8: ='OSNOVNI PODATKI'!A15 -> STAVBA 1 / DEL 1 | C8: ='OSNOVNI PODATKI'!E15 -> 0
B9: TIPOLOGIJA | C9: ='OSNOVNI PODATKI'!E16 -> 5. Nepodkletene eno in dvostanovanjske stavbe, nižji standard
B10: BRUTO POVRŠINA DELA | C10: ='OSNOVNI PODATKI'!E17 -> 0
B11: BRUTO POVRŠINA ZA IZRAČUN | C11: =IF($C$5=1,$C$6,C10) -> 0
B12: INDEKS TIPOLOGIJE | C12: ='OSNOVNI PODATKI'!E27 -> -105.4
B13: OBRAČUNSKI STROŠKI | C13: =IFERROR(C11*(1000+C12),0) -> 0
B14: IZBRANI CENOVNI RAZRED | C14: ='OSNOVNI PODATKI'!E23 -> Cenovni razred II
B15: Cenovni razred I | C15: =IFERROR(IF(C13<=5000000, 0.7227*(0.58*LN(C13)^4-27.69*LN(C13)^3+499.16*LN(C13)^2-4018.63*LN(C13)+12193.12), 0.7227*(0.1684*(C13/1000000)^2+7.3421*(C13/1000000)+151.7224))/C11,0) -> 0 | D15: NU/m2
B16: Cenovni razred II | C16: =IFERROR(IF(C13<=5000000, 0.8559*(0.58*LN(C13)^4-27.69*LN(C13)^3+499.16*LN(C13)^2-4018.63*LN(C13)+12193.12), 0.8559*(0.1684*(C13/1000000)^2+7.3421*(C13/1000000)+151.7224))/C11,0) -> 0 | D16: NU/m2
B17: Cenovni razred III | C17: =IFERROR(IF(C13<=5000000, 0.58*LN(C13)^4-27.69*LN(C13)^3+499.16*LN(C13)^2-4018.63*LN(C13)+12193.12, 0.1684*(C13/1000000)^2+7.3421*(C13/1000000)+151.7224)/C11,0) -> 0 | D17: NU/m2
B18: Cenovni razred IV | C18: =IFERROR(IF(C13<=5000000, 1.1528*(0.58*LN(C13)^4-27.69*LN(C13)^3+499.16*LN(C13)^2-4018.63*LN(C13)+12193.12), 1.1528*(0.1684*(C13/1000000)^2+7.3421*(C13/1000000)+151.7224))/C11,0) -> 0 | D18: NU/m2
B19: Cenovni razred V | C19: =IFERROR(IF(C13<=5000000, 1.3561*(0.58*LN(C13)^4-27.69*LN(C13)^3+499.16*LN(C13)^2-4018.63*LN(C13)+12193.12), 1.3561*(0.1684*(C13/1000000)^2+7.3421*(C13/1000000)+151.7224))/C11,0) -> 0 | D19: NU/m3 | E19: REZERVA
B21: ='OSNOVNI PODATKI'!B59 -> GRADBENO OBRTNIŠKA DELA (GO) | C21: ='OSNOVNI PODATKI'!D33 -> 0.817 | E21: =C21*$C$11*(1000+$C$12) -> 0
B22: ='OSNOVNI PODATKI'!B60 -> ELEKTRIČNE INŠTALACIJE (EI) | C22: ='OSNOVNI PODATKI'!D34 -> 0.0345544 | E22: =C22*$C$11*(1000+$C$12) -> 0
B23: ='OSNOVNI PODATKI'!B61 -> STROJNE INŠTALACIJE (SI) | C23: ='OSNOVNI PODATKI'!D35 -> 0.14823 | E23: =C23*$C$11*(1000+$C$12) -> 0
B24: ='OSNOVNI PODATKI'!B62 -> TEHNOLOGIJA (TH) | C24: ='OSNOVNI PODATKI'!D36 -> 0 | E24: =C24*$C$11*(1000+$C$12) -> 0
B26: MINIMALNO ŠTEVILO NU/m2 | C26: =IFERROR(LOOKUP(C14,B15:C18),0) -> 0 | D26: NU/m2
B27: MAKSIMALNO ŠTEVILO NU/m2 | C27: {=IFERROR(INDEX(C15:C18,MATCH(C14,B15:B18)+1),0)} -> 0 | D27: NU/m2
B28: MINIMALNO ŠTEVILO NU | C28: =IFERROR(C26*$C10,0) -> 0 | D28: NU
B29: MAKSIMALNO ŠTEVILO NU | C29: =IFERROR(C27*$C10,0) -> 0 | D29: NU
B31: ='OSNOVNI PODATKI'!A41 -> STAVBA 2 / DEL 2 | C31: ='OSNOVNI PODATKI'!E41 -> 0
B32: TIPOLOGIJA | C32: ='OSNOVNI PODATKI'!E42 -> 6. Nepodkletene eno in dvostanovanjske stavbe, srednji standard
B33: BRUTO POVRŠINA DELA | C33: ='OSNOVNI PODATKI'!E43 -> 0
B34: BRUTO POVRŠINA ZA IZRAČUN | C34: =IF($C$5=1,$C$6,C33) -> 0
B35: INDEKS TIPOLOGIJE | C35: ='OSNOVNI PODATKI'!E53 -> 230.6
B36: OBRAČUNSKI STROŠKI | C36: =IFERROR(C34*(1000+C35),0) -> 0
B37: IZBRANI CENOVNI RAZRED | C37: ='OSNOVNI PODATKI'!E49 -> Cenovni razred II
B38: Cenovni razred I | C38: =IFERROR(IF(C36<=5000000, 0.7227*(0.58*LN(C36)^4-27.69*LN(C36)^3+499.16*LN(C36)^2-4018.63*LN(C36)+12193.12), 0.7227*(0.1684*(C36/1000000)^2+7.3421*(C36/1000000)+151.7224))/C34,0) -> 0 | D38: NU/m2
B39: Cenovni razred II | C39: =IFERROR(IF(C36<=5000000, 0.8559*(0.58*LN(C36)^4-27.69*LN(C36)^3+499.16*LN(C36)^2-4018.63*LN(C36)+12193.12), 0.8559*(0.1684*(C36/1000000)^2+7.3421*(C36/1000000)+151.7224))/C34,0) -> 0 | D39: NU/m2
B40: Cenovni razred III | C40: =IFERROR(IF(C36<=5000000, 0.58*LN(C36)^4-27.69*LN(C36)^3+499.16*LN(C36)^2-4018.63*LN(C36)+12193.12, 0.1684*(C36/1000000)^2+7.3421*(C36/1000000)+151.7224)/C34,0) -> 0 | D40: NU/m2
B41: Cenovni razred IV | C41: =IFERROR(IF(C36<=5000000, 1.1528*(0.58*LN(C36)^4-27.69*LN(C36)^3+499.16*LN(C36)^2-4018.63*LN(C36)+12193.12), 1.1528*(0.1684*(C36/1000000)^2+7.3421*(C36/1000000)+151.7224))/C34,0) -> 0 | D41: NU/m2
B42: Cenovni razred V | C42: =IFERROR(IF(C36<=5000000, 1.3561*(0.58*LN(C36)^4-27.69*LN(C36)^3+499.16*LN(C36)^2-4018.63*LN(C36)+12193.12), 1.3561*(0.1684*(C36/1000000)^2+7.3421*(C36/1000000)+151.7224))/C34,0) -> 0 | D42: NU/m3 | E42: REZERVA
B44: ='OSNOVNI PODATKI'!B59 -> GRADBENO OBRTNIŠKA DELA (GO) | C44: ='OSNOVNI PODATKI'!D59 -> 0.808 | E44: =C44*$C$34*(1000+$C$35) -> 0
B45: ='OSNOVNI PODATKI'!B60 -> ELEKTRIČNE INŠTALACIJE (EI) | C45: ='OSNOVNI PODATKI'!D60 -> 0.044544 | E45: =C45*$C$11*(1000+$C$12) -> 0
B46: ='OSNOVNI PODATKI'!B61 -> STROJNE INŠTALACIJE (SI) | C46: ='OSNOVNI PODATKI'!D61 -> 0.147648 | E46: =C46*$C$11*(1000+$C$12) -> 0
B47: ='OSNOVNI PODATKI'!B62 -> TEHNOLOGIJA (TH) | C47: ='OSNOVNI PODATKI'!D62 -> 0 | E47: =C47*$C$11*(1000+$C$12) -> 0
B49: MINIMALNO ŠTEVILO NU/m2 | C49: =IFERROR(LOOKUP(C37,B38:C41),0) -> 0 | D49: NU/m2
B50: MAKSIMALNO ŠTEVILO NU/m2 | C50: {=IFERROR(INDEX(C38:C41,MATCH(C37,B38:B41)+1),0)} -> 0 | D50: NU/m2
B51: MINIMALNO ŠTEVILO NU | C51: =IFERROR(C49*$C33,0) -> 0 | D51: NU
B52: MAKSIMALNO ŠTEVILO NU | C52: =IFERROR(C50*$C33,0) -> 0 | D52: NU
B54: ='OSNOVNI PODATKI'!A67 -> STAVBA 3 / DEL 3 | C54: ='OSNOVNI PODATKI'!E67 -> 0
B55: TIPOLOGIJA | C55: ='OSNOVNI PODATKI'!E68 -> 47. Hoteli, moteli
B56: BRUTO POVRŠINA DELA | C56: ='OSNOVNI PODATKI'!E69 -> 0
B57: BRUTO POVRŠINA ZA IZRAČUN | C57: =IF($C$5=1,$C$6,C56) -> 0
B58: INDEKS TIPOLOGIJE | C58: ='OSNOVNI PODATKI'!E79 -> 646.4
B59: OBRAČUNSKI STROŠKI | C59: =IFERROR(C57*(1000+C58),0) -> 0
B60: IZBRANI CENOVNI RAZRED | C60: ='OSNOVNI PODATKI'!E75 -> Cenovni razred II
B61: Cenovni razred I | C61: =IFERROR(IF(C59<=5000000, 0.7227*(0.58*LN(C59)^4-27.69*LN(C59)^3+499.16*LN(C59)^2-4018.63*LN(C59)+12193.12), 0.7227*(0.1684*(C59/1000000)^2+7.3421*(C59/1000000)+151.7224))/C57,0) -> 0 | D61: NU/m2
B62: Cenovni razred II | C62: =IFERROR(IF(C59<=5000000, 0.8559*(0.58*LN(C59)^4-27.69*LN(C59)^3+499.16*LN(C59)^2-4018.63*LN(C59)+12193.12), 0.8559*(0.1684*(C59/1000000)^2+7.3421*(C59/1000000)+151.7224))/C57,0) -> 0 | D62: NU/m2
B63: Cenovni razred III | C63: =IFERROR(IF(C59<=5000000, 0.58*LN(C59)^4-27.69*LN(C59)^3+499.16*LN(C59)^2-4018.63*LN(C59)+12193.12, 0.1684*(C59/1000000)^2+7.3421*(C59/1000000)+151.7224)/C57,0) -> 0 | D63: NU/m2
B64: Cenovni razred IV | C64: =IFERROR(IF(C59<=5000000, 1.1528*(0.58*LN(C59)^4-27.69*LN(C59)^3+499.16*LN(C59)^2-4018.63*LN(C59)+12193.12), 1.1528*(0.1684*(C59/1000000)^2+7.3421*(C59/1000000)+151.7224))/C57,0) -> 0 | D64: NU/m2
B65: Cenovni razred V | C65: =IFERROR(IF(C59<=5000000, 1.3561*(0.58*LN(C59)^4-27.69*LN(C59)^3+499.16*LN(C59)^2-4018.63*LN(C59)+12193.12), 1.3561*(0.1684*(C59/1000000)^2+7.3421*(C59/1000000)+151.7224))/C57,0) -> 0 | D65: NU/m3 | E65: REZERVA
B67: ='OSNOVNI PODATKI'!B85 -> GRADBENO OBRTNIŠKA DELA (GO) | C67: ='OSNOVNI PODATKI'!D85 -> 0.704 | E67: =C67*$C$11*(1000+$C$12) -> 0
B68: ='OSNOVNI PODATKI'!B86 -> ELEKTRIČNE INŠTALACIJE (EI) | C68: ='OSNOVNI PODATKI'!D86 -> 0.1350672 | E68: =C68*$C$11*(1000+$C$12) -> 0
B69: ='OSNOVNI PODATKI'!B87 -> STROJNE INŠTALACIJE (SI) | C69: ='OSNOVNI PODATKI'!D87 -> 0.118992 | E69: =C69*$C$11*(1000+$C$12) -> 0
B70: ='OSNOVNI PODATKI'!B88 -> TEHNOLOGIJA (TH) | C70: ='OSNOVNI PODATKI'!D88 -> 0.041736 | E70: =C70*$C$11*(1000+$C$12) -> 0
B72: MINIMALNO ŠTEVILO NU/m2 | C72: =IFERROR(LOOKUP(C60,B61:C64),0) -> 0 | D72: NU/m2
B73: MAKSIMALNO ŠTEVILO NU/m2 | C73: {=IFERROR(INDEX(C61:C64,MATCH(C60,B61:B64)+1),0)} -> 0 | D73: NU/m2
B74: MINIMALNO ŠTEVILO NU | C74: =IFERROR(C72*$C56,0) -> 0 | D74: NU
B75: MAKSIMALNO ŠTEVILO NU | C75: =IFERROR(C73*$C56,0) -> 0 | D75: NU
B77: ='OSNOVNI PODATKI'!A93 -> STAVBA 4 / DEL 4 | C77: ='OSNOVNI PODATKI'!E93 -> 0
B78: TIPOLOGIJA | C78: ='OSNOVNI PODATKI'!E94 -> 17. Šole z nadpovprečnimi načrtovalskimi potrebami - izobraževalni centri, visoke šole, univerze, akademije
B79: BRUTO POVRŠINA DELA | C79: ='OSNOVNI PODATKI'!E95 -> 0
B80: BRUTO POVRŠINA ZA IZRAČUN | C80: =IF($C$5=1,$C$6,C79) -> 0
B81: INDEKS TIPOLOGIJE | C81: ='OSNOVNI PODATKI'!E105 -> 785
B82: OBRAČUNSKI STROŠKI | C82: =IFERROR(C80*(1000+C81),0) -> 0
B83: IZBRANI CENOVNI RAZRED | C83: ='OSNOVNI PODATKI'!E101 -> Cenovni razred II
B84: Cenovni razred I | C84: =IFERROR(IF(C82<=5000000, 0.7227*(0.58*LN(C82)^4-27.69*LN(C82)^3+499.16*LN(C82)^2-4018.63*LN(C82)+12193.12), 0.7227*(0.1684*(C82/1000000)^2+7.3421*(C82/1000000)+151.7224))/C80,0) -> 0 | D84: NU/m2
B85: Cenovni razred II | C85: =IFERROR(IF(C82<=5000000, 0.8559*(0.58*LN(C82)^4-27.69*LN(C82)^3+499.16*LN(C82)^2-4018.63*LN(C82)+12193.12), 0.8559*(0.1684*(C82/1000000)^2+7.3421*(C82/1000000)+151.7224))/C80,0) -> 0 | D85: NU/m2
B86: Cenovni razred III | C86: =IFERROR(IF(C82<=5000000, 0.58*LN(C82)^4-27.69*LN(C82)^3+499.16*LN(C82)^2-4018.63*LN(C82)+12193.12, 0.1684*(C82/1000000)^2+7.3421*(C82/1000000)+151.7224)/C80,0) -> 0 | D86: NU/m2
B87: Cenovni razred IV | C87: =IFERROR(IF(C82<=5000000, 1.1528*(0.58*LN(C82)^4-27.69*LN(C82)^3+499.16*LN(C82)^2-4018.63*LN(C82)+12193.12), 1.1528*(0.1684*(C82/1000000)^2+7.3421*(C82/1000000)+151.7224))/C80,0) -> 0 | D87: NU/m2
B88: Cenovni razred V | C88: =IFERROR(IF(C82<=5000000, 1.3561*(0.58*LN(C82)^4-27.69*LN(C82)^3+499.16*LN(C82)^2-4018.63*LN(C82)+12193.12), 1.3561*(0.1684*(C82/1000000)^2+7.3421*(C82/1000000)+151.7224))/C80,0) -> 0 | D88: NU/m3 | E88: REZERVA
B90: ='OSNOVNI PODATKI'!B111 -> GRADBENO OBRTNIŠKA DELA (GO) | C90: ='OSNOVNI PODATKI'!D111 -> 0.762 | E90: =C90*$C$11*(1000+$C$12) -> 0
B91: ='OSNOVNI PODATKI'!B112 -> ELEKTRIČNE INŠTALACIJE (EI) | C91: ='OSNOVNI PODATKI'!D112 -> 0.07973 | E91: =C91*$C$11*(1000+$C$12) -> 0
B92: ='OSNOVNI PODATKI'!B113 -> STROJNE INŠTALACIJE (SI) | C92: ='OSNOVNI PODATKI'!D113 -> 0.118762 | E92: =C92*$C$11*(1000+$C$12) -> 0
B93: ='OSNOVNI PODATKI'!B114 -> TEHNOLOGIJA (TH) | C93: ='OSNOVNI PODATKI'!D114 -> 0.039508 | E93: =C93*$C$11*(1000+$C$12) -> 0
B95: MINIMALNO ŠTEVILO NU/m2 | C95: =IFERROR(LOOKUP(C83,B84:C87),0) -> 0 | D95: NU/m2
B96: MAKSIMALNO ŠTEVILO NU/m2 | C96: {=IFERROR(INDEX(C84:C87,MATCH(C83,B84:B87)+1),0)} -> 0 | D96: NU/m2
B97: MINIMALNO ŠTEVILO NU | C97: =IFERROR(C95*$C79,0) -> 0 | D97: NU
B98: MAKSIMALNO ŠTEVILO NU | C98: =IFERROR(C96*$C79,0) -> 0 | D98: NU
B100: ='OSNOVNI PODATKI'!A119 -> STAVBA 5 / DEL 5 | C100: ='OSNOVNI PODATKI'!E119 -> 0
B101: TIPOLOGIJA | C101: ='OSNOVNI PODATKI'!E120 -> 22. Pisarniške in upravne stavbe, višji standard
B102: BRUTO POVRŠINA DELA | C102: ='OSNOVNI PODATKI'!E121 -> 0
B103: BRUTO POVRŠINA ZA IZRAČUN | C103: =IF($C$5=1,$C$6,C102) -> 0
B104: INDEKS TIPOLOGIJE | C104: ='OSNOVNI PODATKI'!E131 -> 990.8
B105: OBRAČUNSKI STROŠKI | C105: =IFERROR(C103*(1000+C104),0) -> 0
B106: IZBRANI CENOVNI RAZRED | C106: ='OSNOVNI PODATKI'!E127 -> Cenovni razred II
B107: Cenovni razred I | C107: =IFERROR(IF(C105<=5000000, 0.7227*(0.58*LN(C105)^4-27.69*LN(C105)^3+499.16*LN(C105)^2-4018.63*LN(C105)+12193.12), 0.7227*(0.1684*(C105/1000000)^2+7.3421*(C105/1000000)+151.7224))/C103,0) -> 0 | D107: NU/m2
B108: Cenovni razred II | C108: =IFERROR(IF(C105<=5000000, 0.8559*(0.58*LN(C105)^4-27.69*LN(C105)^3+499.16*LN(C105)^2-4018.63*LN(C105)+12193.12), 0.8559*(0.1684*(C105/1000000)^2+7.3421*(C105/1000000)+151.7224))/C103,0) -> 0 | D108: NU/m2
B109: Cenovni razred III | C109: =IFERROR(IF(C105<=5000000, 0.58*LN(C105)^4-27.69*LN(C105)^3+499.16*LN(C105)^2-4018.63*LN(C105)+12193.12, 0.1684*(C105/1000000)^2+7.3421*(C105/1000000)+151.7224)/C103,0) -> 0 | D109: NU/m2
B110: Cenovni razred IV | C110: =IFERROR(IF(C105<=5000000, 1.1528*(0.58*LN(C105)^4-27.69*LN(C105)^3+499.16*LN(C105)^2-4018.63*LN(C105)+12193.12), 1.1528*(0.1684*(C105/1000000)^2+7.3421*(C105/1000000)+151.7224))/C103,0) -> 0 | D110: NU/m2
B111: Cenovni razred V | C111: =IFERROR(IF(C105<=5000000, 1.3561*(0.58*LN(C105)^4-27.69*LN(C105)^3+499.16*LN(C105)^2-4018.63*LN(C105)+12193.12), 1.3561*(0.1684*(C105/1000000)^2+7.3421*(C105/1000000)+151.7224))/C103,0) -> 0 | D111: NU/m3 | E111: REZERVA
B113: ='OSNOVNI PODATKI'!B137 -> GRADBENO OBRTNIŠKA DELA (GO) | C113: ='OSNOVNI PODATKI'!D137 -> 0.737 | E113: =C113*$C$11*(1000+$C$12) -> 0
B114: ='OSNOVNI PODATKI'!B133 -> INFORMATIVNA OCENA STROŠKOV GRADNJE | C114: ='OSNOVNI PODATKI'!D138 -> 0.112301 | E114: =C114*$C$11*(1000+$C$12) -> 0
B115: ='OSNOVNI PODATKI'!B134 -> INFORMATIVNA VREDNOST STROŠKOV GRADNJE EUR/m2 BTP | C115: ='OSNOVNI PODATKI'!D139 -> 0.124399 | E115: =C115*$C$11*(1000+$C$12) -> 0
B116: ='OSNOVNI PODATKI'!B135 -> IZBRANA VREDNOST STROŠKOV GRADNJE EUR/m2 BEP | C116: ='OSNOVNI PODATKI'!D140 -> 0.0263 | E116: =C116*$C$11*(1000+$C$12) -> 0
...

Sheet GRADBENA FIZIKA
B1: poraba časa - GRADBENA FIZIKA
A3: IZRAČUN ŠTEVILA NU
B5: UČINKOVITA RABA ENERGIJE | F5: ZAŠČITA PRED HRUPOM | J5: PROSTORSKA AKUSTIKA
B6: VRSTA IZRAČUNA | C6: ='OSNOVNI PODATKI'!H11 -> 2 | D6: =IF(C6=1,'OSNOVNI PODATKI'!B11,'OSNOVNI PODATKI'!B12) -> ENA STAVBA ALI VEČ RAZLIČNIH STAVB (PRI IZRAČUNU POTREBNIH NU SE VSAKA STAVBA IZRAČUNAVA LOČENO)
B7: CELOTNA BTP | C7: ='OSNOVNI PODATKI'!E308 -> 0
B8: pri URE enačba odstopa od HOAI ker s polinomsko enačbo ne gre
B9: ='OSNOVNI PODATKI'!A15 -> STAVBA 1 / DEL 1 | C9: ='OSNOVNI PODATKI'!E15 -> 0
B10: TIPOLOGIJA | C10: ='OSNOVNI PODATKI'!E16 -> 5. Nepodkletene eno in dvostanovanjske stavbe, nižji standard
B11: BRUTO POVRŠINA DELA | C11: ='OSNOVNI PODATKI'!E17 -> 0
B12: BRUTO POVRŠINA ZA IZRAČUN | C12: =IF($C$6=1,$C$7,C11) -> 0
B13: INDEKS TIPOLOGIJE | C13: ='OSNOVNI PODATKI'!E27 -> -105.4
B14: IZBRANI CENOVNI RAZRED | C14: ='OSNOVNI PODATKI'!E24 -> Cenovni razred III | F14: IZBRANI CENOVNI RAZRED | G14: ='OSNOVNI PODATKI'!E25 -> Cenovni razred II | J14: IZBRANI CENOVNI RAZRED | K14: ='OSNOVNI PODATKI'!E26 -> Cenovni razred III
B15: Cenovni razred I | C15: =IFERROR(0.0122*POWER(IF((C22+C23+C24)<25%*C21,C12*(1000+C13),(C21-37.5%*C21+50%)*C12*(1000+C13)),0.5823)/C12,0) -> 0 | D15: NU/m2 | F15: Cenovni razred I | G15: =IFERROR(POWER(C21*C12*(1000+C13),0.6571)*0.0061/C12,0) -> 0 | H15: NU/m2 | J15: Cenovni razred I | K15: =IFERROR((-6*POWER(10,-13)*POWER(95%*C12*(1000+C13),2)+4*POWER(10,-5)*95%*C12*(1000+C13)+21.161)/C12,0) -> 0 | L15: NU/m2
B16: Cenovni razred II | C16: =IFERROR(0.0138*POWER(IF((C22+C23+C24)<25%*C21,C12*(1000+C13),(C21-37.5%*C21+50%)*C12*(1000+C13)),0.5835)/C12,0) -> 0 | D16: NU/m2 | F16: Cenovni razred II | G16: =IFERROR(POWER(C21*C12*(1000+C13),0.6566)*0.0071/C12,0) -> 0 | H16: NU/m2 | J16: Cenovni razred II | K16: =IFERROR((-8*POWER(10,-13)*POWER(95%*C12*(1000+C13),2)+5*POWER(10,-5)*95%*C12*(1000+C13)+27.291)/C12,0) -> 0 | L16: NU/m2
B17: Cenovni razred III | C17: =IFERROR(0.0168*POWER(IF((C22+C23+C24)<25%*C21,C12*(1000+C13),(C21-37.5%*C21+50%)*C12*(1000+C13)),0.5814)/C12,0) -> 0 | D17: NU/m2 | F17: Cenovni razred III | G17: =IFERROR(POWER(C21*C12*(1000+C13),0.6558)*0.0082/C12,0) -> 0 | H17: NU/m2 | J17: Cenovni razred III | K17: =IFERROR((-1*POWER(10,-12)*POWER(95%*C12*(1000+C13),2)+6*POWER(10,-5)*95%*C12*(1000+C13)+33.622)/C12,0) -> 0 | L17: NU/m2
B18: Cenovni razred IV | C18: =IFERROR(0.0201*POWER(IF((C22+C23+C24)<25%*C21,C12*(1000+C13),(C21-37.5%*C21+50%)*C12*(1000+C13)),0.5829)/C12,0) -> 0 | D18: NU/m2 | F18: Cenovni razred IV | G18: =IFERROR(POWER(C21*C12*(1000+C13),0.6561)*0.0094/C12,0) -> 0 | H18: NU/m2 | J18: Cenovni razred IV | K18: =IFERROR((-2*POWER(10,-12)*POWER(95%*C12*(1000+C13),2)+7*POWER(10,-5)*95%*C12*(1000+C13)+40.067)/C12,0) -> 0 | L18: NU/m2
B19: Cenovni razred V | C19: =IFERROR(0.0226*POWER(IF((C22+C23+C24)<25%*C21,C12*(1000+C13),(C21-37.5%*C21+50%)*C12*(1000+C13)),0.5831)/C12,0) -> 0 | D19: NU/m2 | J19: Cenovni razred V | K19: =IFERROR((-1*POWER(10,-12)*POWER(95%*C12*(1000+C13),2)+8*POWER(10,-5)*95%*C12*(1000+C13)+46.41)/C12,0) -> 0 | L19: NU/m2
B20: Cenovni razred VI | C20: =IFERROR(0.0245*POWER(IF((C22+C23+C24)<25%*C21,C12*(1000+C13),(C21-37.5%*C21+50%)*C12*(1000+C13)),0.5828)/C12,0) -> 0 | D20: NU/m2 | J20: Cenovni razred VI | K20: =IFERROR((-2*POWER(10,-12)*POWER(95%*C12*(1000+C13),2)+9*POWER(10,-5)*95%*C12*(1000+C13)+52.93)/C12,0) -> 0 | L20: NU/m2
B21: ='OSNOVNI PODATKI'!B59 -> GRADBENO OBRTNIŠKA DELA (GO) | C21: ='OSNOVNI PODATKI'!D33 -> 0.817 | E21: =C21*$C$12*(1000+$C$13) -> 0
B22: ='OSNOVNI PODATKI'!B60 -> ELEKTRIČNE INŠTALACIJE (EI) | C22: ='OSNOVNI PODATKI'!D34 -> 0.0345544 | E22: =C22*$C$12*(1000+$C$13) -> 0
B23: ='OSNOVNI PODATKI'!B61 -> STROJNE INŠTALACIJE (SI) | C23: ='OSNOVNI PODATKI'!D35 -> 0.14823 | E23: =C23*$C$12*(1000+$C$13) -> 0
B24: ='OSNOVNI PODATKI'!B62 -> TEHNOLOGIJA (TH) | C24: ='OSNOVNI PODATKI'!D36 -> 0 | E24: =C24*$C$12*(1000+$C$13) -> 0
B26: MINIMALNO ŠTEVILO NU/m2 | C26: =IFERROR(LOOKUP(C14,B15:C20),0) -> 0 | D26: NU/m2 | F26: MINIMALNO ŠTEVILO NU/m2 | G26: =IFERROR(LOOKUP(G14,F15:G18),0) -> 0 | H26: NU/m2 | J26: MINIMALNO ŠTEVILO NU/m2 | K26: =IFERROR(LOOKUP(K14,J15:K20),0) -> 0 | L26: NU/m2
B27: MAKSIMALNO ŠTEVILO NU/m2 | C27: {=IFERROR(INDEX(C15:C20,MATCH(C14,B15:B20)+1),0)} -> 0 | D27: NU/m2 | F27: MAKSIMALNO ŠTEVILO NU/m2 | G27: {=IFERROR(INDEX(G15:G18,MATCH(G14,F15:F18)+1),0)} -> 0 | H27: NU/m2 | J27: MAKSIMALNO ŠTEVILO NU/m2 | K27: {=IFERROR(INDEX(K15:K20,MATCH(K14,J15:J20)+1),0)} -> 0 | L27: NU/m2
B28: MINIMALNO ŠTEVILO NU | C28: =IFERROR(C26*$C11,0) -> 0 | D28: NU | F28: MINIMALNO ŠTEVILO NU | G28: =IFERROR(G26*$C11,0) -> 0 | H28: NU | J28: MINIMALNO ŠTEVILO NU | K28: =IFERROR(K26*$C11,0) -> 0 | L28: NU
B29: MAKSIMALNO ŠTEVILO NU | C29: =IFERROR(C27*$C11,0) -> 0 | D29: NU | F29: MAKSIMALNO ŠTEVILO NU | G29: =IFERROR(G27*$C11,0) -> 0 | H29: NU | J29: MAKSIMALNO ŠTEVILO NU | K29: =IFERROR(K27*$C11,0) -> 0 | L29: NU
B31: ='OSNOVNI PODATKI'!A41 -> STAVBA 2 / DEL 2 | C31: ='OSNOVNI PODATKI'!E41 -> 0
B32: TIPOLOGIJA | C32: ='OSNOVNI PODATKI'!E42 -> 6. Nepodkletene eno in dvostanovanjske stavbe, srednji standard
B33: BRUTO POVRŠINA DELA | C33: ='OSNOVNI PODATKI'!E43 -> 0
B34: BRUTO POVRŠINA ZA IZRAČUN | C34: =IF($C$6=1,$C$7,C33) -> 0
B35: INDEKS TIPOLOGIJE | C35: ='OSNOVNI PODATKI'!E53 -> 230.6
B36: IZBRANI CENOVNI RAZRED | C36: ='OSNOVNI PODATKI'!E50 -> Cenovni razred III | F36: IZBRANI CENOVNI RAZRED | G36: ='OSNOVNI PODATKI'!E51 -> Cenovni razred II | J36: IZBRANI CENOVNI RAZRED | K36: ='OSNOVNI PODATKI'!E52 -> Cenovni razred III
B37: Cenovni razred I | C37: =IFERROR(0.0122*POWER(IF((C44+C45+C46)<25%*C43,C34*(1000+C35),(C43-37.5%*C43+50%)*C34*(1000+C35)),0.5823)/C34,0) -> 0 | D37: NU/m2 | F37: Cenovni razred I | G37: =IFERROR(POWER(C43*C34*(1000+C35),0.6571)*0.0061/C34,0) -> 0 | H37: NU/m2 | J37: Cenovni razred I | K37: =IFERROR((-6*POWER(10,-13)*POWER(95%*C34*(1000+C35),2)+4*POWER(10,-5)*95%*C34*(1000+C35)+21.161)/C34,0) -> 0 | L37: NU/m2
B38: Cenovni razred II | C38: =IFERROR(0.0138*POWER(IF((C44+C45+C46)<25%*C43,C34*(1000+C35),(C43-37.5%*C43+50%)*C34*(1000+C35)),0.5835)/C34,0) -> 0 | D38: NU/m2 | F38: Cenovni razred II | G38: =IFERROR(POWER(C43*C34*(1000+C35),0.6566)*0.0071/C34,0) -> 0 | H38: NU/m2 | J38: Cenovni razred II | K38: =IFERROR((-8*POWER(10,-13)*POWER(95%*C34*(1000+C35),2)+5*POWER(10,-5)*95%*C34*(1000+C35)+27.291)/C34,0) -> 0 | L38: NU/m2
B39: Cenovni razred III | C39: =IFERROR(0.0168*POWER(IF((C44+C45+C46)<25%*C43,C34*(1000+C35),(C43-37.5%*C43+50%)*C34*(1000+C35)),0.5814)/C34,0) -> 0 | D39: NU/m2 | F39: Cenovni razred III | G39: =IFERROR(POWER(C43*C34*(1000+C35),0.6558)*0.0082/C34,0) -> 0 | H39: NU/m2 | J39: Cenovni razred III | K39: =IFERROR((-1*POWER(10,-12)*POWER(95%*C34*(1000+C35),2)+6*POWER(10,-5)*95%*C34*(1000+C35)+33.622)/C34,0) -> 0 | L39: NU/m2
B40: Cenovni razred IV | C40: =IFERROR(0.0201*POWER(IF((C44+C45+C46)<25%*C43,C34*(1000+C35),(C43-37.5%*C43+50%)*C34*(1000+C35)),0.5829)/C34,0) -> 0 | D40: NU/m2 | F40: Cenovni razred IV | G40: =IFERROR(POWER(C43*C34*(1000+C35),0.6561)*0.0094/C34,0) -> 0 | H40: NU/m2 | J40: Cenovni razred IV | K40: =IFERROR((-2*POWER(10,-12)*POWER(95%*C34*(1000+C35),2)+7*POWER(10,-5)*95%*C34*(1000+C35)+40.067)/C34,0) -> 0 | L40: NU/m2
B41: Cenovni razred V | C41: =IFERROR(0.0226*POWER(IF((C44+C45+C46)<25%*C43,C34*(1000+C35),(C43-37.5%*C43+50%)*C34*(1000+C35)),0.5831)/C34,0) -> 0 | D41: NU/m2 | J41: Cenovni razred V | K41: =IFERROR((-1*POWER(10,-12)*POWER(95%*C34*(1000+C35),2)+8*POWER(10,-5)*95%*C34*(1000+C35)+46.41)/C34,0) -> 0 | L41: NU/m2
B42: Cenovni razred VI | C42: =IFERROR(0.0245*POWER(IF((C44+C45+C46)<25%*C43,C34*(1000+C35),(C43-37.5%*C43+50%)*C34*(1000+C35)),0.5828)/C34,0) -> 0 | D42: NU/m2 | J42: Cenovni razred VI | K42: =IFERROR((-2*POWER(10,-12)*POWER(95%*C34*(1000+C35),2)+9*POWER(10,-5)*95%*C34*(1000+C35)+52.93)/C34,0) -> 0 | L42: NU/m2
B43: ='OSNOVNI PODATKI'!B59 -> GRADBENO OBRTNIŠKA DELA (GO) | C43: ='OSNOVNI PODATKI'!D59 -> 0.808 | E43: =C43*$C$34*(1000+$C$35) -> 0
B44: ='OSNOVNI PODATKI'!B60 -> ELEKTRIČNE INŠTALACIJE (EI) | C44: ='OSNOVNI PODATKI'!D60 -> 0.044544 | E44: =C44*$C$12*(1000+$C$13) -> 0
B45: ='OSNOVNI PODATKI'!B61 -> STROJNE INŠTALACIJE (SI) | C45: ='OSNOVNI PODATKI'!D61 -> 0.147648 | E45: =C45*$C$12*(1000+$C$13) -> 0
B46: ='OSNOVNI PODATKI'!B62 -> TEHNOLOGIJA (TH) | C46: ='OSNOVNI PODATKI'!D62 -> 0 | E46: =C46*$C$12*(1000+$C$13) -> 0
B48: MINIMALNO ŠTEVILO NU/m2 | C48: =IFERROR(LOOKUP(C36,B37:C42),0) -> 0 | D48: NU/m2 | F48: MINIMALNO ŠTEVILO NU/m2 | G48: =IFERROR(LOOKUP(G36,F37:G40),0) -> 0 | H48: NU/m2 | J48: MINIMALNO ŠTEVILO NU/m2 | K48: =IFERROR(LOOKUP(K36,J37:K42),0) -> 0 | L48: NU/m2
B49: MAKSIMALNO ŠTEVILO NU/m2 | C49: {=IFERROR(INDEX(C37:C42,MATCH(C36,B37:B42)+1),0)} -> 0 | D49: NU/m2 | F49: MAKSIMALNO ŠTEVILO NU/m2 | G49: {=IFERROR(INDEX(G37:G40,MATCH(G36,F37:F40)+1),0)} -> 0 | H49: NU/m2 | J49: MAKSIMALNO ŠTEVILO NU/m2 | K49: {=IFERROR(INDEX(K37:K42,MATCH(K36,J37:J42)+1),0)} -> 0 | L49: NU/m2
B50: MINIMALNO ŠTEVILO NU | C50: =IFERROR(C48*$C33,0) -> 0 | D50: NU | F50: MINIMALNO ŠTEVILO NU | G50: =IFERROR(G48*$C33,0) -> 0 | H50: NU | J50: MINIMALNO ŠTEVILO NU | K50: =IFERROR(K48*$C33,0) -> 0 | L50: NU
B51: MAKSIMALNO ŠTEVILO NU | C51: =IFERROR(C49*$C33,0) -> 0 | D51: NU | F51: MAKSIMALNO ŠTEVILO NU | G51: =IFERROR(G49*$C33,0) -> 0 | H51: NU | J51: MAKSIMALNO ŠTEVILO NU | K51: =IFERROR(K49*$C33,0) -> 0 | L51: NU
B53: ='OSNOVNI PODATKI'!A67 -> STAVBA 3 / DEL 3 | C53: ='OSNOVNI PODATKI'!E67 -> 0
B54: TIPOLOGIJA | C54: ='OSNOVNI PODATKI'!E68 -> 47. Hoteli, moteli
B55: BRUTO POVRŠINA DELA | C55: ='OSNOVNI PODATKI'!E69 -> 0
B56: BRUTO POVRŠINA ZA IZRAČUN | C56: =IF($C$6=1,$C$7,C55) -> 0
B57: INDEKS TIPOLOGIJE | C57: ='OSNOVNI PODATKI'!E79 -> 646.4
B58: IZBRANI CENOVNI RAZRED | C58: ='OSNOVNI PODATKI'!E76 -> Cenovni razred III | F58: IZBRANI CENOVNI RAZRED | G58: ='OSNOVNI PODATKI'!E77 -> Cenovni razred II | J58: IZBRANI CENOVNI RAZRED | K58: ='OSNOVNI PODATKI'!E78 -> Cenovni razred III
B59: Cenovni razred I | C59: =IFERROR(0.0122*POWER(IF((C66+C67+C68)<25%*C65,C56*(1000+C57),(C65-37.5%*C65+50%)*C56*(1000+C57)),0.5823)/C56,0) -> 0 | D59: NU/m2 | F59: Cenovni razred I | G59: =IFERROR(POWER(C65*C56*(1000+C57),0.6571)*0.0061/C56,0) -> 0 | H59: NU/m2 | J59: Cenovni razred I | K59: =IFERROR((-6*POWER(10,-13)*POWER(95%*C56*(1000+C57),2)+4*POWER(10,-5)*95%*C56*(1000+C57)+21.161)/C56,0) -> 0 | L59: NU/m2
B60: Cenovni razred II | C60: =IFERROR(0.0138*POWER(IF((C66+C67+C68)<25%*C65,C56*(1000+C57),(C65-37.5%*C65+50%)*C56*(1000+C57)),0.5835)/C56,0) -> 0 | D60: NU/m2 | F60: Cenovni razred II | G60: =IFERROR(POWER(C65*C56*(1000+C57),0.6566)*0.0071/C56,0) -> 0 | H60: NU/m2 | J60: Cenovni razred II | K60: =IFERROR((-8*POWER(10,-13)*POWER(95%*C56*(1000+C57),2)+5*POWER(10,-5)*95%*C56*(1000+C57)+27.291)/C56,0) -> 0 | L60: NU/m2
B61: Cenovni razred III | C61: =IFERROR(0.0168*POWER(IF((C66+C67+C68)<25%*C65,C56*(1000+C57),(C65-37.5%*C65+50%)*C56*(1000+C57)),0.5814)/C56,0) -> 0 | D61: NU/m2 | F61: Cenovni razred III | G61: =IFERROR(POWER(C65*C56*(1000+C57),0.6558)*0.0082/C56,0) -> 0 | H61: NU/m2 | J61: Cenovni razred III | K61: =IFERROR((-1*POWER(10,-12)*POWER(95%*C56*(1000+C57),2)+6*POWER(10,-5)*95%*C56*(1000+C57)+33.622)/C56,0) -> 0 | L61: NU/m2
B62: Cenovni razred IV | C62: =IFERROR(0.0201*POWER(IF((C66+C67+C68)<25%*C65,C56*(1000+C57),(C65-37.5%*C65+50%)*C56*(1000+C57)),0.5829)/C56,0) -> 0 | D62: NU/m2 | F62: Cenovni razred IV | G62: =IFERROR(POWER(C65*C56*(1000+C57),0.6561)*0.0094/C56,0) -> 0 | H62: NU/m2 | J62: Cenovni razred IV | K62: =IFERROR((-2*POWER(10,-12)*POWER(95%*C56*(1000+C57),2)+7*POWER(10,-5)*95%*C56*(1000+C57)+40.067)/C56,0) -> 0 | L62: NU/m2
B63: Cenovni razred V | C63: =IFERROR(0.0226*POWER(IF((C66+C67+C68)<25%*C65,C56*(1000+C57),(C65-37.5%*C65+50%)*C56*(1000+C57)),0.5831)/C56,0) -> 0 | D63: NU/m2 | J63: Cenovni razred V | K63: =IFERROR((-1*POWER(10,-12)*POWER(95%*C56*(1000+C57),2)+8*POWER(10,-5)*95%*C56*(1000+C57)+46.41)/C56,0) -> 0 | L63: NU/m2
B64: Cenovni razred VI | C64: =IFERROR(0.0245*POWER(IF((C66+C67+C68)<25%*C65,C56*(1000+C57),(C65-37.5%*C65+50%)*C56*(1000+C57)),0.5828)/C56,0) -> 0 | D64: NU/m2 | J64: Cenovni razred VI | K64: =IFERROR((-2*POWER(10,-12)*POWER(95%*C56*(1000+C57),2)+9*POWER(10,-5)*95%*C56*(1000+C57)+52.93)/C56,0) -> 0 | L64: NU/m2
B65: ='OSNOVNI PODATKI'!B85 -> GRADBENO OBRTNIŠKA DELA (GO) | C65: ='OSNOVNI PODATKI'!D85 -> 0.704 | E65: =C65*$C$12*(1000+$C$13) -> 0
B66: ='OSNOVNI PODATKI'!B86 -> ELEKTRIČNE INŠTALACIJE (EI) | C66: ='OSNOVNI PODATKI'!D86 -> 0.1350672 | E66: =C66*$C$12*(1000+$C$13) -> 0
B67: ='OSNOVNI PODATKI'!B87 -> STROJNE INŠTALACIJE (SI) | C67: ='OSNOVNI PODATKI'!D87 -> 0.118992 | E67: =C67*$C$12*(1000+$C$13) -> 0
B68: ='OSNOVNI PODATKI'!B88 -> TEHNOLOGIJA (TH) | C68: ='OSNOVNI PODATKI'!D88 -> 0.041736 | E68: =C68*$C$12*(1000+$C$13) -> 0
B70: MINIMALNO ŠTEVILO NU/m2 | C70: =IFERROR(LOOKUP(C58,B59:C64),0) -> 0 | D70: NU/m2 | F70: MINIMALNO ŠTEVILO NU/m2 | G70: =IFERROR(LOOKUP(G58,F59:G62),0) -> 0 | H70: NU/m2 | J70: MINIMALNO ŠTEVILO NU/m2 | K70: =IFERROR(LOOKUP(K58,J59:K64),0) -> 0 | L70: NU/m2
B71: MAKSIMALNO ŠTEVILO NU/m2 | C71: {=IFERROR(INDEX(C59:C64,MATCH(C58,B59:B64)+1),0)} -> 0 | D71: NU/m2 | F71: MAKSIMALNO ŠTEVILO NU/m2 | G71: {=IFERROR(INDEX(G59:G62,MATCH(G58,F59:F62)+1),0)} -> 0 | H71: NU/m2 | J71: MAKSIMALNO ŠTEVILO NU/m2 | K71: {=IFERROR(INDEX(K59:K64,MATCH(K58,J59:J64)+1),0)} -> 0 | L71: NU/m2
B72: MINIMALNO ŠTEVILO NU | C72: =IFERROR(C70*$C55,0) -> 0 | D72: NU | F72: MINIMALNO ŠTEVILO NU | G72: =IFERROR(G70*$C55,0) -> 0 | H72: NU | J72: MINIMALNO ŠTEVILO NU | K72: =IFERROR(K70*$C55,0) -> 0 | L72: NU
B73: MAKSIMALNO ŠTEVILO NU | C73: =IFERROR(C71*$C55,0) -> 0 | D73: NU | F73: MAKSIMALNO ŠTEVILO NU | G73: =IFERROR(G71*$C55,0) -> 0 | H73: NU | J73: MAKSIMALNO ŠTEVILO NU | K73: =IFERROR(K71*$C55,0) -> 0 | L73: NU
B75: ='OSNOVNI PODATKI'!A93 -> STAVBA 4 / DEL 4 | C75: ='OSNOVNI PODATKI'!E93 -> 0
B76: TIPOLOGIJA | C76: ='OSNOVNI PODATKI'!E94 -> 17. Šole z nadpovprečnimi načrtovalskimi potrebami - izobraževalni centri, visoke šole, univerze, akademije
B77: BRUTO POVRŠINA DELA | C77: ='OSNOVNI PODATKI'!E95 -> 0
B78: BRUTO POVRŠINA ZA IZRAČUN | C78: =IF($C$6=1,$C$7,C77) -> 0
B79: INDEKS TIPOLOGIJE | C79: ='OSNOVNI PODATKI'!E105 -> 785
B80: IZBRANI CENOVNI RAZRED | C80: ='OSNOVNI PODATKI'!E102 -> Cenovni razred III | F80: IZBRANI CENOVNI RAZRED | G80: ='OSNOVNI PODATKI'!E103 -> Cenovni razred II | J80: IZBRANI CENOVNI RAZRED | K80: ='OSNOVNI PODATKI'!E104 -> Cenovni razred III
B81: Cenovni razred I | C81: =IFERROR(0.0122*POWER(IF((C88+C89+C90)<25%*C87,C78*(1000+C79),(C87-37.5%*C87+50%)*C78*(1000+C79)),0.5823)/C78,0) -> 0 | D81: NU/m2 | F81: Cenovni razred I | G81: =IFERROR(POWER(C87*C78*(1000+C79),0.6571)*0.0061/C78,0) -> 0 | H81: NU/m2 | J81: Cenovni razred I | K81: =IFERROR((-6*POWER(10,-13)*POWER(95%*C78*(1000+C79),2)+4*POWER(10,-5)*95%*C78*(1000+C79)+21.161)/C78,0) -> 0 | L81: NU/m2
B82: Cenovni razred II | C82: =IFERROR(0.0138*POWER(IF((C88+C89+C90)<25%*C87,C78*(1000+C79),(C87-37.5%*C87+50%)*C78*(1000+C79)),0.5835)/C78,0) -> 0 | D82: NU/m2 | F82: Cenovni razred II | G82: =IFERROR(POWER(C87*C78*(1000+C79),0.6566)*0.0071/C78,0) -> 0 | H82: NU/m2 | J82: Cenovni razred II | K82: =IFERROR((-8*POWER(10,-13)*POWER(95%*C78*(1000+C79),2)+5*POWER(10,-5)*95%*C78*(1000+C79)+27.291)/C78,0) -> 0 | L82: NU/m2
B83: Cenovni razred III | C83: =IFERROR(0.0168*POWER(IF((C88+C89+C90)<25%*C87,C78*(1000+C79),(C87-37.5%*C87+50%)*C78*(1000+C79)),0.5814)/C78,0) -> 0 | D83: NU/m2 | F83: Cenovni razred III | G83: =IFERROR(POWER(C87*C78*(1000+C79),0.6558)*0.0082/C78,0) -> 0 | H83: NU/m2 | J83: Cenovni razred III | K83: =IFERROR((-1*POWER(10,-12)*POWER(95%*C78*(1000+C79),2)+6*POWER(10,-5)*95%*C78*(1000+C79)+33.622)/C78,0) -> 0 | L83: NU/m2
B84: Cenovni razred IV | C84: =IFERROR(0.0201*POWER(IF((C88+C89+C90)<25%*C87,C78*(1000+C79),(C87-37.5%*C87+50%)*C78*(1000+C79)),0.5829)/C78,0) -> 0 | D84: NU/m2 | F84: Cenovni razred IV | G84: =IFERROR(POWER(C87*C78*(1000+C79),0.6561)*0.0094/C78,0) -> 0 | H84: NU/m2 | J84: Cenovni razred IV | K84: =IFERROR((-2*POWER(10,-12)*POWER(95%*C78*(1000+C79),2)+7*POWER(10,-5)*95%*C78*(1000+C79)+40.067)/C78,0) -> 0 | L84: NU/m2
B85: Cenovni razred V | C85: =IFERROR(0.0226*POWER(IF((C88+C89+C90)<25%*C87,C78*(1000+C79),(C87-37.5%*C87+50%)*C78*(1000+C79)),0.5831)/C78,0) -> 0 | D85: NU/m2 | J85: Cenovni razred V | K85: =IFERROR((-1*POWER(10,-12)*POWER(95%*C78*(1000+C79),2)+8*POWER(10,-5)*95%*C78*(1000+C79)+46.41)/C78,0) -> 0 | L85: NU/m2
B86: Cenovni razred VI | C86: =IFERROR(0.0245*POWER(IF((C88+C89+C90)<25%*C87,C78*(1000+C79),(C87-37.5%*C87+50%)*C78*(1000+C79)),0.5828)/C78,0) -> 0 | D86: NU/m2 | J86: Cenovni razred VI | K86: =IFERROR((-2*POWER(10,-12)*POWER(95%*C78*(1000+C79),2)+9*POWER(10,-5)*95%*C78*(1000+C79)+52.93)/C78,0) -> 0 | L86: NU/m2
B87: ='OSNOVNI PODATKI'!B111 -> GRADBENO OBRTNIŠKA DELA (GO) | C87: ='OSNOVNI PODATKI'!D111 -> 0.762 | E87: =C87*$C$12*(1000+$C$13) -> 0
B88: ='OSNOVNI PODATKI'!B112 -> ELEKTRIČNE INŠTALACIJE (EI) | C88: ='OSNOVNI PODATKI'!D112 -> 0.07973 | E88: =C88*$C$12*(1000+$C$13) -> 0
B89: ='OSNOVNI PODATKI'!B113 -> STROJNE INŠTALACIJE (SI) | C89: ='OSNOVNI PODATKI'!D113 -> 0.118762 | E89: =C89*$C$12*(1000+$C$13) -> 0
B90: ='OSNOVNI PODATKI'!B114 -> TEHNOLOGIJA (TH) | C90: ='OSNOVNI PODATKI'!D114 -> 0.039508 | E90: =C90*$C$12*(1000+$C$13) -> 0
B92: MINIMALNO ŠTEVILO NU/m2 | C92: =IFERROR(LOOKUP(C80,B81:C86),0) -> 0 | D92: NU/m2 | F92: MINIMALNO ŠTEVILO NU/m2 | G92: =IFERROR(LOOKUP(G80,F81:G84),0) -> 0 | H92: NU/m2 | J92: MINIMALNO ŠTEVILO NU/m2 | K92: =IFERROR(LOOKUP(K80,J81:K86),0) -> 0 | L92: NU/m2
B93: MAKSIMALNO ŠTEVILO NU/m2 | C93: {=IFERROR(INDEX(C81:C86,MATCH(C80,B81:B86)+1),0)} -> 0 | D93: NU/m2 | F93: MAKSIMALNO ŠTEVILO NU/m2 | G93: {=IFERROR(INDEX(G81:G84,MATCH(G80,F81:F84)+1),0)} -> 0 | H93: NU/m2 | J93: MAKSIMALNO ŠTEVILO NU/m2 | K93: {=IFERROR(INDEX(K81:K86,MATCH(K80,J81:J86)+1),0)} -> 0 | L93: NU/m2
B94: MINIMALNO ŠTEVILO NU | C94: =IFERROR(C92*$C77,0) -> 0 | D94: NU | F94: MINIMALNO ŠTEVILO NU | G94: =IFERROR(G92*$C77,0) -> 0 | H94: NU | J94: MINIMALNO ŠTEVILO NU | K94: =IFERROR(K92*$C77,0) -> 0 | L94: NU
B95: MAKSIMALNO ŠTEVILO NU | C95: =IFERROR(C93*$C77,0) -> 0 | D95: NU | F95: MAKSIMALNO ŠTEVILO NU | G95: =IFERROR(G93*$C77,0) -> 0 | H95: NU | J95: MAKSIMALNO ŠTEVILO NU | K95: =IFERROR(K93*$C77,0) -> 0 | L95: NU
B97: ='OSNOVNI PODATKI'!A119 -> STAVBA 5 / DEL 5 | C97: ='OSNOVNI PODATKI'!E119 -> 0
B98: TIPOLOGIJA | C98: ='OSNOVNI PODATKI'!E120 -> 22. Pisarniške in upravne stavbe, višji standard
B99: BRUTO POVRŠINA DELA | C99: ='OSNOVNI PODATKI'!E121 -> 0
B100: BRUTO POVRŠINA ZA IZRAČUN | C100: =IF($C$6=1,$C$7,C99) -> 0
B101: INDEKS TIPOLOGIJE | C101: ='OSNOVNI PODATKI'!E131 -> 990.8
B102: IZBRANI CENOVNI RAZRED | C102: ='OSNOVNI PODATKI'!E128 -> Cenovni razred III | F102: IZBRANI CENOVNI RAZRED | G102: ='OSNOVNI PODATKI'!E129 -> Cenovni razred II | J102: IZBRANI CENOVNI RAZRED | K102: ='OSNOVNI PODATKI'!E130 -> Cenovni razred III
B103: Cenovni razred I | C103: =IFERROR(0.0122*POWER(IF((C110+C111+C112)<25%*C109,C100*(1000+C101),(C109-37.5%*C109+50%)*C100*(1000+C101)),0.5823)/C100,0) -> 0 | D103: NU/m2 | F103: Cenovni razred I | G103: =IFERROR(POWER(C109*C100*(1000+C101),0.6571)*0.0061/C100,0) -> 0 | H103: NU/m2 | J103: Cenovni razred I | K103: =IFERROR((-6*POWER(10,-13)*POWER(95%*C100*(1000+C101),2)+4*POWER(10,-5)*95%*C100*(1000+C101)+21.161)/C100,0) -> 0 | L103: NU/m2
B104: Cenovni razred II | C104: =IFERROR(0.0138*POWER(IF((C110+C111+C112)<25%*C109,C100*(1000+C101),(C109-37.5%*C109+50%)*C100*(1000+C101)),0.5835)/C100,0) -> 0 | D104: NU/m2 | F104: Cenovni razred II | G104: =IFERROR(POWER(C109*C100*(1000+C101),0.6566)*0.0071/C100,0) -> 0 | H104: NU/m2 | J104: Cenovni razred II | K104: =IFERROR((-8*POWER(10,-13)*POWER(95%*C100*(1000+C101),2)+5*POWER(10,-5)*95%*C100*(1000+C101)+27.291)/C100,0) -> 0 | L104: NU/m2
B105: Cenovni razred III | C105: =IFERROR(0.0168*POWER(IF((C110+C111+C112)<25%*C109,C100*(1000+C101),(C109-37.5%*C109+50%)*C100*(1000+C101)),0.5814)/C100,0) -> 0 | D105: NU/m2 | F105: Cenovni razred III | G105: =IFERROR(POWER(C109*C100*(1000+C101),0.6558)*0.0082/C100,0) -> 0 | H105: NU/m2 | J105: Cenovni razred III | K105: =IFERROR((-1*POWER(10,-12)*POWER(95%*C100*(1000+C101),2)+6*POWER(10,-5)*95%*C100*(1000+C101)+33.622)/C100,0) -> 0 | L105: NU/m2
B106: Cenovni razred IV | C106: =IFERROR(0.0201*POWER(IF((C110+C111+C112)<25%*C109,C100*(1000+C101),(C109-37.5%*C109+50%)*C100*(1000+C101)),0.5829)/C100,0) -> 0 | D106: NU/m2 | F106: Cenovni razred IV | G106: =IFERROR(POWER(C109*C100*(1000+C101),0.6561)*0.0094/C100,0) -> 0 | H106: NU/m2 | J106: Cenovni razred IV | K106: =IFERROR((-2*POWER(10,-12)*POWER(95%*C100*(1000+C101),2)+7*POWER(10,-5)*95%*C100*(1000+C101)+40.067)/C100,0) -> 0 | L106: NU/m2
B107: Cenovni razred V | C107: =IFERROR(0.0226*POWER(IF((C110+C111+C112)<25%*C109,C100*(1000+C101),(C109-37.5%*C109+50%)*C100*(1000+C101)),0.5831)/C100,0) -> 0 | D107: NU/m2 | J107: Cenovni razred V | K107: =IFERROR((-1*POWER(10,-12)*POWER(95%*C100*(1000+C101),2)+8*POWER(10,-5)*95%*C100*(1000+C101)+46.41)/C100,0) -> 0 | L107: NU/m2
B108: Cenovni razred VI | C108: =IFERROR(0.0245*POWER(IF((C110+C111+C112)<25%*C109,C100*(1000+C101),(C109-37.5%*C109+50%)*C100*(1000+C101)),0.5828)/C100,0) -> 0 | D108: NU/m2 | J108: Cenovni razred VI | K108: =IFERROR((-2*POWER(10,-12)*POWER(95%*C100*(1000+C101),2)+9*POWER(10,-5)*95%*C100*(1000+C101)+52.93)/C100,0) -> 0 | L108: NU/m2
B109: ='OSNOVNI PODATKI'!B137 -> GRADBENO OBRTNIŠKA DELA (GO) | C109: ='OSNOVNI PODATKI'!D137 -> 0.737 | E109: =C109*$C$12*(1000+$C$13) -> 0
B110: ='OSNOVNI PODATKI'!B133 -> INFORMATIVNA OCENA STROŠKOV GRADNJE | C110: ='OSNOVNI PODATKI'!D138 -> 0.112301 | E110: =C110*$C$12*(1000+$C$13) -> 0
...
