Workbook
Name ARHINST: #REF!
Name ARHINST: #REF!
Name ARHINST: #REF!
Name ARHINST: #REF!
Name ARHINST: #REF!
Name ARHINST: #REF!
Name Cenovni_razred: #REF!
Name DANE: #REF!
Name DANE: #REF!
Name FAZE: #REF!
Name FAZE: #REF!
Name FAZE: #REF!
Name FAZE: #REF!
Name FAZE: #REF!
Name FAZE: #REF!
Name KONS: #REF!
Name KONS: #REF!
Name KONS: #REF!
Name KONS: #REF!
Name KONS: #REF!
Name KONS: #REF!
Name NOPREMA: #REF!
Name NOPREMA: #REF!
Name OBJEKT: #REF!
Name OBJEKT: #REF!
Name OBJEKT: #REF!
Name OBJEKT: #REF!
Name OBJEKT: #REF!
Name OBJEKT: #REF!
Name OPREMA: #REF!
Name OPREMA: #REF!
Name OPREMA: #REF!
Name OPREMA: #REF!
Name OPREMA: #REF!
Name OPREMA: #REF!
Name PID: #REF!
Name PID: #REF!
Name PID: #REF!
Name PID: #REF!
Name PID: #REF!
Name PID: #REF!
Name POVRŠINE: #REF!
Name POVRŠINE: #REF!
Name RAZREDARH: #REF!
Name RAZREDARH: #REF!
Name RAZREDIARH: #REF!
Name RAZREDIARH: #REF!
Name RAZREDIKONS: #REF!
Name RAZREDIKONS: #REF!
Name RAZREDKONS: #REF!
Name RAZREDKONS: #REF!
Name STAVBA: #REF!
Name STAVBA: #REF!
Name TEH: #REF!
Name TEH: #REF!
Name TEH: #REF!
Name TEH: #REF!
Name TEH: #REF!
Name TEH: #REF!
Name TEH: #REF!

Sheet NAVODILA
B3: ='OSNOVNI PODATKI'!B3 -> ARHIGRAM 6
B4: ='OSNOVNI PODATKI'!B4 -> Vrednotenje storitev na področju arhitekturnega in krajinskoarhitekturnega projektiranja
A5: ='OSNOVNI PODATKI'!$A$5 -> V 6.17 | B5: ='OSNOVNI PODATKI'!$B$5 -> september 2026
A7: NAVODILA
B9: Arhigram 7 je pripravljen na osnovi Standarda storitev Zbornice za arhitekturo in prostor Slovenije (ST ZAPS). Storitve določa ST ZAPS 01, vrednotenje storitev pa ST ZAPS 02. Kadar se ponudba za storitve pripravi v skladu s ST ZAPS, morajo biti storitve opravljene v skladu s tem standardom. Izpolnjujejo se samo okenca, označena z modro barvo. Vrednosti v poševni pisavi so informativne.
B11: Na listu OSNOVNI PODATKI najprej vpišite ime objekta ali dela objekta za vsak posamezen objekt ali del objekta. Nato izberite tipologijo za ta objekt ali del objekta, določite cenovne razrede za vsak posamezen del ter vpišite bruto oziroma neto tlorisno površino (BTP ali NTP).
B13: Če želite pridobiti informativne vrednosti tudi za storitve s področja tehničnega projektiranja oziroma izdelave dopolnilnih gradiv, je potrebno določiti cenovne razrede tudi za ta področja.
B15: Priporočeni cenovni razdredi za posamezna področja za vsak posamezen objekt ali del objekta se razberejo iz ustreznih tabel na listu CENOVNI RAZREDI. Če določanje po seznamu ni mogoče oziroma kadar gre za posebne primere, se razred določi s točkovanjem glede na posamezna merila za ocenjevanje, navedena na listu CENOVNI RAZREDI, ki kot rezultat določijo cenovni razred.
B17: Na podlagi vnešenih podatkov se bo za vsak objekt ali del objekta izračunalo priporočeno minimalno in maksimalno število NU za vse faze. Če želite uporabiti srednjo vrednost, v vrsticah od 358 dalje odkljukajte okence "uporabi srednjo vrednost števila NU", v naspretnem primeru pa vpišite željeno vrednost v okviru minimalne in maksimalne vrednosti NU.
B19: Za vsako področje, ki ga želite vključiti v izračun, je potrebno odkljukati ustrezno okence v poljih od A358 dalje. Število NU za izbrano področje se bo preneslo na list ARHIGRAM 6. Na listu ARHIGRAM 6 na enak način odkljukajte faze, ki jih želite vključiti v izračun.
B21: Na podlagi izbora tipologije in velikosti se bo za vsak del prikazala tudi informativna minimalna in maksimalna vrednost stroškov gradnje v EUR/m2, ki pa ne vpliva na izračun potrebnih NU, temveč služi zgolj kot informacija za primerjavo izračunanih vrednosti storitev s stroški gradnje objekta. Na podlagi podanih informativnih vrednosti določite vrednost, ki bo upoštevana v informativnem izračunu, in jo vpišite v ustrezno polje. Program bo izračunal oceno stroškov ter jo porazdelil med vrednosti del za GO, EI, SI in TH dela. Razmerja med temi deli so odvisna od izbrane tipologije objekta. Vrednosti ne vsebujejo DDV.
A23: NAROČANJE VEČJEGA ŠTEVILA OBJEKTOV
B25: Če naročilo vključuje več različnih objektov, se število NU izračuna za vsak objekt posebej ob upoštevanju določil tega standarda.
B27: Če naročilo vključuje več primerljivih objektov s pretežno podobnimi pogoji projektiranja, ki se jim lahko določi isti cenovni razred in ki bodo projektirani in zgrajeni v enakih ali zelo podobnih časovnih in lokacijskih okoliščinah, se število NU izračuna na podlagi seštevka površin vseh objektov.
B29: Če naročilo vključuje več v bistvenem delu enakih objektov, ki se načrtujejo in gradijo v enakih ali zelo podobnih časovnih in lokacijskih okoliščinah, ali če gre za več objektov v skladu s tipsko ali serijsko gradnjo, je treba za prvo do četrto ponovitev za fazi 1. Zagon in 2. Projektiranje znižati število NU za 50 odstotkov, za peto do sedmo ponovitev za 60 odstotkov in za vsako naslednjo ponovitev za 90 odstotkov.
B31: Če naročilo vključuje osnovne storitve, ki so bile že predmet drugega naročila med pogodbenima strankama za v bistvenem delu enak objekt, se za novo naročilo uporabijo določila prejšnjega odstavka, tudi če osnovne storitve niso bile izvedene v enakih ali zelo podobnih časovnih in lokacijskih okoliščinah.
A33: ENOTNO NAROČILO PROJEKTIRANJA RAZLIČNIH VRST OBJEKTOV
B35: Kadar gre za enotno naročilo osnovnih storitev za projektiranje stavbe in ureditve pripadajočega odprtega prostora in kadar površina ureditve odprtega prostora ne presega 50 m2, je število NU za osnovne storitve pri projektiranju ureditev odprtega prostora za podfazi 2.1. Snovanje in 2.2. Idejno projektiranje že določeno v okviru maksimalnega števila NU za projektiranje stavb.
B37: Kadar gre za enotno naročilo osnovnih storitev za projektiranje stavbe in notranje opreme za isto stavbo in kadar obračunski stroški notranje opreme ne presegajo 10.00 evrov, je število NU za osnovne storitve pri projektiranju notranje opreme za podfazi 2.1. Snovanje in 2.2. Idejno projektiranje že določeno v okviru maksimalnega števila NU za projektiranje stavb.
A39: LOČENO NAROČANJE NEKATERIH PODFAZ
B40: Kadar se podfaze 2.1. Snovanje, 2.2. Idejno projektiranje, 2.3. Priprava dokumentacije za dovoljevanje, 2.4. Projektiranje za izvedbo ali 4.2. Izvajanje gradnje naročajo posamično oziroma se nekatere podfaze izpuščajo, se ustrezen delež NU določi na naslednji način:
B41: Za podfazo 2.1. Snovanje se lahko določi največ seštevek odstotnih deležev podfaz 2.1. Snovanje in 1.1. Zagon projekta.
B42: Za podfazo 2.2. Idejno projektiranje se lahko določi največ seštevek odstotnih deležev podfaz 2.2. Idejno projektiranje in 2.1. Snovanje.
B43: Za podfazo 2.3. Priprava dokumentacije za dovoljevanje se lahko določi največ seštevek odstotnih deležev podfaz 2.3. Priprava dokumentacije za dovoljevanje in 2.2. Idejno projektiranje.
B44: Za podfazo 2.4. Projektiranje za izvedbo se lahko določi največ seštevek odstotnih deležev podfaz 2.3. Projektiranje za izvedbo in 2.2. Idejno projektiranje.
B45: Za podfazo 4.2. Izvajanje gradnje, kadar gre za načrtovanje stavb, se določi največ seštevek odstotnih deležev podfaz 4.2. Izvajanje gradnje, 1.1. Zagon projekta in 2.1. Snovanje.
B46: Vrednosti se ne izračunavajo avtomatično, temveč jih po lastni presoji upošteva ponudnik pri pripravi ponudbe oziroma pogodbe.
B48: Za več informacij glej tudi:
B49: STANDARD ZAPS
B50: PRIPOMOČEK ZA PRIPRAVO PONUDBE
A52: LISTI
A54: OSNOVNI PODATKI
B55: List za vnos vseh podatkov.
A57: CENOVNI RAZREDI
B58: List s podatki o priporočenih cenovnih razredih in drugimi podatki, potrebnimi za izračun.
A60: ARHIGRAM 7
B61: List z izračunom vrednosti po Arhigramu, razporejenimi po fazah in podfazah življenjskega cikla objektov ter dodatno še izvleček po posameznih področjih.
A63: OSNOVNE STORITVE
B64: PRILOGA C: ROKI IN POGOJI ZA IZVEDBO, CENA TER POGOJI ZA PLAČILO - TABELA 1: OSNOVNE STORITVE k Pripomočku za pripravo ponudbe po ST ZAPS. Tabela ni avtomatizirana temveč se izpolni ročno. Priporočljivo je, da kadar posamezna faza ni vključena v ponudbo, vrstic ne brišete, temveč vpišete besedilo "NI VKLJUČENO V PONUDBO". Namig: okvirno potrebno število delovnih dni lahko izračunate tako, da število NU najprej delite s številom predvidenih efektivnih ur na dan (na primer 6), nato pa še s številom delavcev, ki bodo delali na projektu.
A66: POSEBNE STORITVE
...

Sheet OSNOVNI PODATKI
D1: NAROČNIK
B3: ARHIGRAM 6 | D3: PROJEKTANT
B4: Vrednotenje storitev na področju arhitekturnega in krajinskoarhitekturnega projektiranja | D4: GRADNJA
A5: V 6.17 | B5: september 2026 | D5: DATUM | E5: =TODAY() -> 46278
A7: OSNOVNI PODATKI
A9: STAVBA
B11: ENA STAVBA Z RAZLIČNIMI DELI (PRI IZRAČUNU POTREBNIH NU SE UPOŠTEVA SEŠTEVEK POVRŠIN VSEH DELOV) | H11: 2
B12: ENA STAVBA ALI VEČ RAZLIČNIH STAVB (PRI IZRAČUNU POTREBNIH NU SE VSAKA STAVBA IZRAČUNAVA LOČENO)
B13: VEČ ENAKIH STAVB - IZRAČUNA SE ŠTEVILO NU ZA ENO STAVBO, NATO PA SE V PONUDBO NAVEDE USTREZNO VREDNOST V SKLADU Z NAVODILI
A15: STAVBA 1 / DEL 1
B16: TIPOLOGIJA | E16: 5. Nepodkletene eno in dvostanovanjske stavbe, nižji standard
B17: BRUTO POVRŠINA | E17: 0 | F17: m2
B18: CENOVNI RAZRED - ARHITEKTURA | E18: Cenovni razred III
B19: CENOVNI RAZRED - GRADBENE KONSTRUKCIJE | E19: Cenovni razred III
B20: CENOVNI RAZRED - ELEKTRIČNE INSTALACIJE | E20: Cenovni razred II
B21: CENOVNI RAZRED - STROJNE INSTALACIJE | E21: Cenovni razred II
B22: CENOVNI RAZRED - TEHNOLOGIJA | E22: Cenovni razred II
B23: CENOVNI RAZRED - POŽARNA VARNOST | E23: Cenovni razred II
B24: CENOVNI RAZRED - UČINKOVITA RABA ENERGIJE | E24: =E18 -> Cenovni razred III
B25: CENOVNI RAZRED - ZAŠČITA PRED HRUPOM | E25: Cenovni razred II
B26: CENOVNI RAZRED - PROSTORSKA AKUSTIKA | E26: Cenovni razred III
B27: INDEKS TIPOLOGIJA | E27: =_xlfn.IFNA(VLOOKUP(E16,'CENOVNI RAZREDI'!$B$7:$Q$92,16,FALSE),"/") -> -105.4
B29: INFORMATIVNA OCENA STROŠKOV GRADNJE
B30: INFORMATIVNA VREDNOST STROŠKOV GRADNJE EUR/m2 BTP | E30: =_xlfn.IFNA(CONCATENATE(VLOOKUP(E16,'CENOVNI RAZREDI'!$B$7:$J$92,8,FALSE)," - ",VLOOKUP(E16,'CENOVNI RAZREDI'!$B$7:$J$92,9,FALSE)),"") -> 993,72 - 1332,24 | F30: EUR/m2
B31: IZBRANA VREDNOST STROŠKOV GRADNJE EUR/m2 BEP | F31: EUR/m2
B32: OCENA STROŠKOV GRADNJE | E32: =E17*E31 -> 0 | F32: EUR
B33: GRADBENO OBRTNIŠKA DELA (GO) | D33: =_xlfn.IFNA(VLOOKUP(E16,'CENOVNI RAZREDI'!$B$7:$N$92,10,FALSE),0) -> 0.817 | E33: =D33*E32 -> 0 | F33: EUR
B34: ELEKTRIČNE INŠTALACIJE (EI) | D34: =_xlfn.IFNA(VLOOKUP(E16,'CENOVNI RAZREDI'!$B$7:$N$92,12,FALSE),0) -> 0.0345544 | E34: =D34*E32 -> 0 | F34: EUR
B35: STROJNE INŠTALACIJE (SI) | D35: =_xlfn.IFNA(VLOOKUP(E16,'CENOVNI RAZREDI'!$B$7:$N$92,11,FALSE),0) -> 0.14823 | E35: =D35*E32 -> 0 | F35: EUR
B36: TEHNOLOGIJA (TH) | D36: =_xlfn.IFNA(VLOOKUP(E16,'CENOVNI RAZREDI'!$B$7:$N$92,13,FALSE),0) -> 0 | E36: =D36*E32 -> 0 | F36: EUR
B38: MINIMALNO ŠTEVILO NU | E38: =IFERROR(STAVBE!C27,0) -> 0 | F38: NU
B39: MAKSIMALNO ŠTEVILO NU | E39: =IFERROR(STAVBE!C28,0) -> 0 | F39: NU
A41: STAVBA 2 / DEL 2
B42: TIPOLOGIJA | E42: 6. Nepodkletene eno in dvostanovanjske stavbe, srednji standard
B43: BRUTO POVRŠINA | E43: 0 | F43: m2
B44: CENOVNI RAZRED - ARHITEKTURA | E44: Cenovni razred III
B45: CENOVNI RAZRED - GRADBENE KONSTRUKCIJE | E45: Cenovni razred III
B46: CENOVNI RAZRED - ELEKTRIČNE INSTALACIJE | E46: Cenovni razred II
B47: CENOVNI RAZRED - STROJNE INSTALACIJE | E47: Cenovni razred II
B48: CENOVNI RAZRED - TEHNOLOGIJA | E48: Cenovni razred II
...

Sheet CENOVNI RAZREDI
B1: SEZNAMI STANDARDNIH PRIMEROV | S1: =0.84*R2 -> 1.092
C2: I | D2: II | E2: III | F2: IV | G2: V | I2: INFORMATIVNA MINIMALNA VREDNOST | J2: INFORMATIVNA MAKSIMALNA VREDNOST | K2: GO (C.100 - C.900) | L2: SI (D.100-D.300) | M2: EI (D.400-D.500) | N2: TH (D.600-D.900) | Q2: faktor | R2: 1.3
B4: Cenovni razdredi za posamezna področja za vsak posamezen objekt ali del objekta se razberejo iz ustreznih tabel. Če določanje po seznamu ni mogoče oziroma kadar gre za posebne primere, se razred določi s točkovanjem glede na posamezna merila za ocenjevanje, ki kot rezultat določijo cenovni razred.
B6: STAVBE | C6: I | D6: II | E6: III | F6: IV | G6: V | I6: INFORMATIVNA MINIMALNA VREDNOST EUR/m2 BTP | J6: INFORMATIVNA MASKIMALNA VREDNOST EUR/m2 BTP | K6: GO (C.100 - C.900) | L6: SI (D.100-D.300) | M6: EI (D.400-D.500) | N6: TH (D.600-D.900) | Q6: INDEKS
B7: 1. Stanovanjske stavbe | I7: =AVERAGE(I8:I20) -> 1166.088 | J7: =AVERAGE(J8:J20) -> 1647.744 | K7: =AVERAGE(K8:K20) -> 0.80046154 | L7: =AVERAGE(L8:L20) -> 0.137907 | M7: =AVERAGE(M8:M20) -> 0.049840415 | N7: =AVERAGE(N8:N20) -> 0.011825308 | Q7: =AVERAGE(Q8:Q20) -> 82.243077
B8: 1. Enostavne in improvizirane stavbe za začasno uporabo | C8: x | I8: =820*$S$1*0.6 -> 537.264 | J8: =1110*$S$1*0.6 -> 727.272 | K8: 0.81 | L8: =(37.6+32+4.8)/100*19.1/100 -> 0.142104 | M8: =(21.7+3.3)/100*19.1/100 -> 0.04775 | N8: 0 | O8: =SUM(K8:N8) -> 0.999854 | Q8: -513.64
B9: 2. Podkletene eno in dvostanovanjske stavbe, nižji standard | D9: x | I9: =900*$S$1 -> 982.8 | J9: =1060*$S$1 -> 1157.52 | K9: 0.86 | L9: =(36+40.7+0.1)/100*14.1/100 -> 0.108288 | M9: =(19.2+3.6)/100*14.1/100 -> 0.032148 | N9: 0 | O9: =SUM(K9:N9) -> 1.000436 | Q9: -176.8
B10: 3. Podkletene eno in dvostanovanjske stavbe, srednji standard | E10: x | I10: =1120*$S$1 -> 1223.04 | J10: =1540*$S$1 -> 1681.68 | K10: 0.82 | L10: =(29.1+41.5+4.6)/100*18/100 -> 0.13536 | M10: =(20.6+3.5)/100*18/100 -> 0.04338 | N10: =(0.5)/100*18/100 -> 0.0009 | O10: =SUM(K10:N10) -> 0.99964 | Q10: 117.2
B11: 4. Podkletene eno in dvostanovanjske stavbe, višji standard | F11: x | I11: =1360*$S$1 -> 1485.12 | J11: =1940*$S$1 -> 2118.48 | K11: 0.809 | L11: =(24.4+43+5.7)/100*19.1/100 -> 0.139621 | M11: =(19.1+5.1)/100*19.1/100 -> 0.046222 | N11: =(2.7)/100*19.1/100 -> 0.005157 | O11: =SUM(K11:N11) -> 1 | Q11: 386
B12: 5. Nepodkletene eno in dvostanovanjske stavbe, nižji standard | D12: x | I12: =910*$S$1 -> 993.72 | J12: =1220*$S$1 -> 1332.24 | K12: 0.817 | L12: =(32.4+42.6+6)/100*18.3/100 -> 0.14823 | M12: =(15.6+3.2)/100*18.38/100 -> 0.0345544 | N12: 0 | O12: =SUM(K12:N12) -> 0.9997844 | Q12: -105.4
B13: 6. Nepodkletene eno in dvostanovanjske stavbe, srednji standard | E13: x | I13: =1200*$S$1 -> 1310.4 | J13: =1730*$S$1 -> 1889.16 | K13: 0.808 | L13: =(32+40.1+4.8)/100*19.2/100 -> 0.147648 | M13: =(18.6+4.6)/100*19.2/100 -> 0.044544 | N13: 0 | O13: =SUM(K13:N13) -> 1.000192 | Q13: 230.6
B14: 7. Nepodkletene eno in dvostanovanjske stavbe, višji standard | F14: x | I14: =1470*$S$1 -> 1605.24 | J14: =2100*$S$1 -> 2293.2 | K14: 0.809 | L14: =(24.4+43+5.7)/100*19.1/100 -> 0.139621 | M14: =(19.1+5.1)/100*19.1/100 -> 0.046222 | N14: =(2.7)/100*19.1/100 -> 0.005157 | O14: =SUM(K14:N14) -> 1 | Q14: 499.4
B15: 8. Večstanovanjske stavbe ali skupine stanovanjskih stavb v strnjeni pozidavi, nižji standard | D15: x | I15: =820*$S$1 -> 895.44 | J15: =1110*$S$1 -> 1212.12 | K15: 0.81 | L15: =(37.6+32+4.8)/100*19.1/100 -> 0.142104 | M15: =(21.7+3.3)/100*19.1/100 -> 0.04775 | N15: =(0.2)/100*19.1/100 -> 0.000382 | O15: =SUM(K15:N15) -> 1.000236 | Q15: -189.4
B16: 9. Večstanovanjske stavbe ali skupine stanovanjskih stavb v strnjeni pozidavi, srednji standard | E16: x | I16: =960*$S$1 -> 1048.32 | J16: =1390*$S$1 -> 1517.88 | K16: 0.795 | L16: =(32.9+29.2+4.1)/100*20.5/100 -> 0.13571 | M16: =(23.8+3)/100*20.5/100 -> 0.05494 | N16: =(6.9)/100*20.5/100 -> 0.014145 | O16: =SUM(K16:N16) -> 0.999795 | Q16: -13
B17: 10. Večstanovanjske stavbe ali skupine stanovanjskih stavb v strnjeni pozidavi, višji standard | F17: x | I17: =1130*$S$1 -> 1233.96 | J17: =1580*$S$1 -> 1725.36 | K17: 0.797 | L17: =(33+24.5+5)/100*20.3/100 -> 0.126875 | M17: =(15.8+4.5)/100*20.3/100 -> 0.041209 | N17: =(17.2)/100*20.3/100 -> 0.034916 | O17: =SUM(K17:N17) -> 1 | Q17: 138.2
B18: 11. Oskrbovana stanovanja, srednji standard | E18: x | I18: =1030*$S$1 -> 1124.76 | J18: =1510*$S$1 -> 1648.92 | K18: 0.753 | L18: =(30.9+20.6+3.9)/100*24.8/100 -> 0.137392 | M18: =(22.8+6)/100*24.8/100 -> 0.071424 | N18: =(14.9+0.6)/100*24.8/100 -> 0.03844 | O18: =SUM(K18:N18) -> 1.000256 | Q18: 66.8
B19: 12. Oskrbovana stanovanja, višji standard | F19: x | I19: =1100*$S$1 -> 1201.2 | J19: =1770*$S$1 -> 1932.84 | K19: 0.748 | L19: =(27.1+35.3+0.5)/100*25.2/100 -> 0.158508 | M19: =(19.6+4.5)/100*25.2/100 -> 0.060732 | N19: =(12.9+0.2)/100*25.2/100 -> 0.033012 | O19: =SUM(K19:N19) -> 1.000252 | Q19: 205.4
B20: 13. Študentski domovi, skupna nastanitev | E20: x | F20: x | I20: =1390*$S$1 -> 1517.88 | J20: =2000*$S$1 -> 2184 | K20: 0.77 | L20: =(24.4+25.8+6.9)/100*23/100 -> 0.13133 | M20: =(27.3+6.2)/100*23/100 -> 0.07705 | N20: =(4.1+3.3+1.5+0.5)/100*23/100 -> 0.02162 | O20: =SUM(K20:N20) -> 1 | Q20: 423.8
B21: 2. Izobraževalne, znanstvene in raziskovalne stavbe | I21: =AVERAGE(I22:I27) -> 1832.74 | J21: =AVERAGE(J22:J27) -> 2693.6 | K21: =AVERAGE(K22:K27) -> 0.731 | L21: =AVERAGE(L22:L27) -> 0.13594933 | M21: =AVERAGE(M22:M27) -> 0.091583167 | N21: =AVERAGE(N22:N27) -> 0.0415905 | Q21: =AVERAGE(Q22:Q27) -> 740.9
B22: 14. Izobraževanje - večnamenske dvorane | C22: x | I22: =1500*$S$1 -> 1638 | J22: =2050*$S$1 -> 2238.6 | K22: 0.766 | L22: =(26.6+18.5+13.4)/100*23.4/100 -> 0.13689 | M22: =(36.7+3.2)/100*23.4/100 -> 0.093366 | N22: =(0.1+1.6)/100*23.4/100 -> 0.003978 | O22: =SUM(K22:N22) -> 1.000234 | Q22: 491
B23: 15. Šole s povprečnimi načrtovalskimi potrebami - osnovne in srednje šole | E23: x | I23: =1480*$S$1 -> 1616.16 | J23: =2180*$S$1 -> 2380.56 | K23: 0.772 | L23: =(14.8+18.8+11.4)/100*22.8/100 -> 0.1026 | M23: =(34.5+6.8)/100*22.8/100 -> 0.094164 | N23: =(3+5.6+3.5+1.6)/100*22.8/100 -> 0.031236 | O23: =SUM(K23:N23) -> 1 | Q23: 537.2
B24: 16. Šole s povprečnimi načrtovalskimi potrebami - poklicne šole | E24: x | I24: =1400*$S$1 -> 1528.8 | J24: =2290*$S$1 -> 2500.68 | K24: 0.714 | L24: =(13.1+13.6+12.7)/100*28.6/100 -> 0.112684 | M24: =(31.4+8.1)/100*28.6/100 -> 0.11297 | N24: =(3.3+12.2+5.6+0.1)/100*28.6/100 -> 0.060632 | O24: =SUM(K24:N24) -> 1.000286 | Q24: 549.8
B25: 17. Šole z nadpovprečnimi načrtovalskimi potrebami - izobraževalni centri, visoke šole, univerze, akademije | F25: x | I25: =1850*$S$1 -> 2020.2 | J25: =2400*$S$1 -> 2620.8 | K25: 0.762 | L25: =(21.7+16.7+11.5)/100*23.8/100 -> 0.118762 | M25: =(28.7+4.8)/100*23.8/100 -> 0.07973 | N25: =(3.9+7.1+5.6+0)/100*23.8/100 -> 0.039508 | O25: =SUM(K25:N25) -> 1 | Q25: 785
B26: 18. Predavalnice, kongresni centri | F26: x | I26: =1850*$S$1 -> 2020.2 | J26: =2400*$S$1 -> 2620.8 | K26: 0.762 | L26: =(21.7+16.7+11.5)/100*23.8/100 -> 0.118762 | M26: =(28.7+4.8)/100*23.8/100 -> 0.07973 | N26: =(3.9+7.1+5.6+0)/100*23.8/100 -> 0.039508 | O26: =SUM(K26:N26) -> 1 | Q26: 785
B27: 19. Laboratoriji ali inštituti | F27: x | G27: x | I27: =1990*$S$1 -> 2173.08 | J27: =3480*$S$1 -> 3800.16 | K27: 0.61 | L27: =(7.1+11.3+39.4)/100*39.1/100 -> 0.225998 | M27: =(17.4+5.5)/100*39.1/100 -> 0.089539 | N27: =(0.5+13.5+4.6+0.5)/100*39.1/100 -> 0.074681 | O27: =SUM(K27:N27) -> 1.000218 | Q27: 1297.4
B28: 3. Poslovne in upravne stavbe | I28: =AVERAGE(I29:I36) -> 1691.235 | J28: =AVERAGE(J29:J36) -> 2624.895 | K28: =AVERAGE(K29:K36) -> 0.748 | L28: =AVERAGE(L29:L36) -> 0.114477 | M28: =AVERAGE(M29:M36) -> 0.10927265 | N28: =AVERAGE(N29:N36) -> 0.02822475 | Q28: =AVERAGE(Q29:Q36) -> 660.05
B29: 20. Pisarniške in upravne stavbe, nižji standard | D29: x | I29: =1020*$S$1 -> 1113.84 | J29: =1390*$S$1 -> 1517.88 | K29: 0.81 | L29: =(16.1+24.9+7.2)/100*19/100 -> 0.09158 | M29: =(36.8+7.4)/100*19/100 -> 0.08398 | N29: =(5.6+0.4+1.6)/100*19/100 -> 0.01444 | O29: =SUM(K29:N29) -> 1 | Q29: 12.2
B30: 21. Pisarniške in upravne stavbe, srednji standard | E30: x | I30: =1480*$S$1 -> 1616.16 | J30: =2010*$S$1 -> 2194.92 | K30: 0.761 | L30: =(13.7+24+8.5)/100*23.9/100 -> 0.110418 | M30: =(32.9+14)/100*23.9/100 -> 0.112091 | N30: =(2.4+1.9+2.6+0)/100*23.9/100 -> 0.016491 | O30: =SUM(K30:N30) -> 1 | Q30: 465.8
B31: 22. Pisarniške in upravne stavbe, višji standard | F31: x | I31: =1840*$S$1 -> 2009.28 | J31: =2900*$S$1 -> 3166.8 | K31: 0.737 | L31: =(10.2+22.1+15)/100*26.3/100 -> 0.124399 | M31: =(31.5+11.2)/100*26.3/100 -> 0.112301 | N31: =(3.2+0.9+5.8+0.1)/100*26.3/100 -> 0.0263 | O31: =SUM(K31:N31) -> 1 | Q31: 990.8
B32: 23. Parlament, sodna stavba | F32: x | I32: =1840*$S$1 -> 2009.28 | J32: =2900*$S$1 -> 3166.8 | K32: 0.737 | L32: =(10.2+22.1+15)/100*26.3/100 -> 0.124399 | M32: =(31.5+11.2)/100*26.3/100 -> 0.112301 | N32: =(3.2+0.9+5.8+0.1)/100*26.3/100 -> 0.0263 | O32: =SUM(K32:N32) -> 1 | Q32: 990.8
B33: 24. Stavbe kazenskega sistema | F33: x | G33: x | I33: =1130*$S$1 -> 1233.96 | J33: =1580*$S$1 -> 1725.36 | K33: 0.704 | L33: =(14.8+8.4+17)/100*29.6/100 -> 0.118992 | M33: =(33.1+12.5)/100*29.62/100 -> 0.1350672 | N33: =(7.1+2.5+4.2+0.3)/100*29.6/100 -> 0.041736 | O33: =SUM(K33:N33) -> 0.9997952 | Q33: 138.2
B34: 25. Gasilske in policijske postaje | E34: x | F34: x | I34: =1420*$S$1 -> 1550.64 | J34: =1980*$S$1 -> 2162.16 | K34: 0.753 | L34: =(18.4+14.6+11.2)/100*24.7/100 -> 0.109174 | M34: =(26.8+10.2)/100*24.7/100 -> 0.09139 | N34: =(1.3+14+2.9+0.6)/100*24.7/100 -> 0.046436 | O34: =SUM(K34:N34) -> 1 | Q34: 428
B35: 26. Hranilniške in bančne poslovalnice | E35: x | F35: x | I35: =1840*$S$1 -> 2009.28 | J35: =2900*$S$1 -> 3166.8 | K35: 0.737 | L35: =(10.2+22.1+15)/100*26.3/100 -> 0.124399 | M35: =(31.5+11.2)/100*26.3/100 -> 0.112301 | N35: =(3.2+0.9+5.8+0.1)/100*26.3/100 -> 0.0263 | O35: =SUM(K35:N35) -> 1 | Q35: 990.8
B36: 27. Knjigarne, arhivi | E36: x | F36: x | I36: =1820*$S$1 -> 1987.44 | J36: =3570*$S$1 -> 3898.44 | K36: 0.745 | L36: =(13.5+19.7+10.9)/100*25.5/100 -> 0.112455 | M36: =(37.2+7.8)/100*25.5/100 -> 0.11475 | N36: =(1.6+5.2+2.8+1.3)/100*25.5/100 -> 0.027795 | O36: =SUM(K36:N36) -> 1 | Q36: 1263.8
B37: 4. Zdravstvo in varstvo | I37: =AVERAGE(I38:I48) -> 1637.0073 | J37: =AVERAGE(J38:J48) -> 2404.3855 | K37: =AVERAGE(K38:K48) -> 0.7267 | L37: =AVERAGE(L38:L48) -> 0.13261973 | M37: =AVERAGE(M38:M48) -> 0.10934389 | N37: =AVERAGE(N38:N48) -> 0.031343182 | Q37: =AVERAGE(Q38:Q48) -> 554.38182
B38: 28. Zdravstvo - večnamenske dvorane | C38: x | I38: =1500*$S$1 -> 1638 | J38: =2050*$S$1 -> 2238.6 | K38: 0.766 | L38: =(26.6+18.5+13.4)/100*23.4/100 -> 0.13689 | M38: =(36.7+3.2)/100*23.4/100 -> 0.093366 | N38: =(0.1+1.6)/100*23.4/100 -> 0.003978 | O38: =SUM(K38:N38) -> 1.000234 | Q38: 491
B39: 29. Vrtci - nepodkleteni | E39: x | I39: =1520*$S$1 -> 1659.84 | J39: =2300*$S$1 -> 2511.6 | K39: 0.785 | L39: =(24.4+24.4+8)/100*21.6/100 -> 0.122688 | M39: =(31.8+5.7)/100*21.6/100 -> 0.081 | N39: =(1.2+2.6+0.8+0.7)/100*21.6/100 -> 0.011448 | O39: =SUM(K39:N39) -> 1.000136 | Q39: 604.4
B40: 30. Vrtci - podkleteni | E40: x | I40: =1600*$S$1 -> 1747.2 | J40: =2190*$S$1 -> 2391.48 | K40: 0.798 | L40: =(24.6+24.3+10.4)/100*20.2/100 -> 0.119786 | M40: =(32.6+3.8)/100*20.2/100 -> 0.073528 | N40: =(0.3+3.3+0.7)/100*20.2/100 -> 0.008686 | O40: =SUM(K40:N40) -> 1 | Q40: 591.8
B41: 31. Mladinski centri, centri za prosti čas | E41: x | I41: =1480*$S$1 -> 1616.16 | J41: =2010*$S$1 -> 2194.92 | K41: 0.761 | L41: =(13.7+24+8.5)/100*23.9/100 -> 0.110418 | M41: =(32.9+14)/100*23.9/100 -> 0.112091 | N41: =(2.4+1.9+2.6+0)/100*23.9/100 -> 0.016491 | O41: =SUM(K41:N41) -> 1 | Q41: 465.8
B42: 32. Ustanove za varstvo odraslih, dnevni centri | E42: x | I42: =1480*$S$1 -> 1616.16 | J42: =2010*$S$1 -> 2194.92 | K42: 0.761 | L42: =(13.7+24+8.5)/100*23.9/100 -> 0.110418 | M42: =(32.9+14)/100*23.9/100 -> 0.112091 | N42: =(2.4+1.9+2.6+0)/100*23.9/100 -> 0.016491 | O42: =SUM(K42:N42) -> 1 | Q42: 465.8
...

Sheet ARHIGRAM 6
B3: ='OSNOVNI PODATKI'!B3 -> ARHIGRAM 6
B4: ='OSNOVNI PODATKI'!B4 -> Vrednotenje storitev na področju arhitekturnega in krajinskoarhitekturnega projektiranja
A5: ='OSNOVNI PODATKI'!A5 -> V 6.17 | B5: ='OSNOVNI PODATKI'!B5 -> september 2026
A7: NAROČNIK | B7: ='OSNOVNI PODATKI'!E1 -> 0
B8: ='OSNOVNI PODATKI'!E2 -> 0
A9: PONUDNIK | B9: ='OSNOVNI PODATKI'!E3 -> 0
A10: GRADNJA | B10: ='OSNOVNI PODATKI'!E4 -> 0
A11: DATUM | B11: ='OSNOVNI PODATKI'!E5 -> 46278
A13: OSNOVNE STORITVE
A16: BTO VREDNOST NU V EUR | I16: 62
I17: Vpiši vrednost
G19: VKLJUČI V IZRAČUN | H19: ŠTEVILO NU | I19: VREDNOST V EUR
A20: 1 | B20: ZAGON | H20: =+H21+H35+H49 -> 0 | I20: =+I21+I35+I49 -> 0
A21: 1.1 | B21: ZAGON PROJEKTA | G21: FALSE | H21: =SUM(H22:H34) -> 0 | I21: =SUM(I22:I34) -> 0
B22: VODENJE IN KOORDINACIJA | G22: TRUE | H22: =IFERROR(IF(G21=TRUE,STAVBE!Q136+'NOTRANJA OPREMA'!Q118+'ODPRTI PROSTOR'!Q136,0),0) -> 0 | I22: =+H22*$I$16 -> 0
B23: ARHITEKTURA | G23: TRUE | H23: =IFERROR(IF(G21=TRUE,STAVBE!G136,0),0) -> 0 | I23: =+H23*$I$16 -> 0
B24: NOTRANJA OPREMA | G24: TRUE | H24: =IFERROR(IF(G21=TRUE,'NOTRANJA OPREMA'!G118,0),0) -> 0 | I24: =+H24*$I$16 -> 0
B25: ARHITEKTURA - ODPRTI PROSTOR | G25: TRUE | H25: =IFERROR(IF(G21=TRUE,'ODPRTI PROSTOR'!G136*'OSNOVNI PODATKI'!$F$378,0),0) -> 0 | I25: =+H25*$I$16 -> 0
B26: KRAJINSKA ARHITEKTURA | G26: TRUE | H26: =IFERROR(IF(G21=TRUE,'ODPRTI PROSTOR'!G136*(100%-'OSNOVNI PODATKI'!$F$378),0),0) -> 0 | I26: =+H26*$I$16 -> 0
B27: GRADBENE KONSTRUKCIJE | G27: TRUE | H27: =IFERROR(IF(G21=TRUE,'GRADBENE KONSTRUKCIJE'!G136,0),0) -> 0 | I27: =+H27*$I$16 -> 0
B28: ELEKTRIČNE INŠTALACIJE | G28: TRUE | H28: =IFERROR(IF(G21=TRUE,'TEHNIČNA OPREMA'!G137,0),0) -> 0 | I28: =+H28*$I$16 -> 0
B29: STROJNE INŠTALACIJE | G29: TRUE | H29: =IFERROR(IF(G21=TRUE,'TEHNIČNA OPREMA'!G189,0),0) -> 0 | I29: =+H29*$I$16 -> 0
B30: TEHNOLOGIJA | G30: TRUE | H30: =IFERROR(IF(G21=TRUE,'TEHNIČNA OPREMA'!G238,0),0) -> 0 | I30: =+H30*$I$16 -> 0
B31: POŽARNA VARNOST | G31: TRUE | H31: =IFERROR(IF(G21=TRUE,'POŽARNA VARNOST'!G156,0),0) -> 0 | I31: =+H31*$I$16 -> 0
B32: UČINKOVITA RABA ENERGIJE | G32: TRUE | H32: =IFERROR(IF(G21=TRUE,'GRADBENA FIZIKA'!G141,0),0) -> 0 | I32: =+H32*$I$16 -> 0
B33: ZAŠČITA PRED HRUPOM | G33: TRUE | H33: =IFERROR(IF(G21=TRUE,'GRADBENA FIZIKA'!G187,0),0) -> 0 | I33: =+H33*$I$16 -> 0
B34: PROSTORSKA AKUSTIKA | G34: TRUE | H34: =IFERROR(IF(G21=TRUE,'GRADBENA FIZIKA'!G233,0),0) -> 0 | I34: =+H34*$I$16 -> 0
A35: 1.2 | B35: ŠTUDIJA IZVEDLJIVOSTI | G35: FALSE | H35: =SUM(H36:H48) -> 0 | I35: =SUM(I36:I48) -> 0
B36: VODENJE IN KOORDINACIJA | G36: TRUE | H36: =IFERROR(IF(G35=TRUE,STAVBE!Q137+'NOTRANJA OPREMA'!Q119+'ODPRTI PROSTOR'!Q137,0),0) -> 0 | I36: =+H36*$I$16 -> 0
B37: ARHITEKTURA | G37: TRUE | H37: =IFERROR(IF(G35=TRUE,STAVBE!G137,0),0) -> 0 | I37: =+H37*$I$16 -> 0
B38: NOTRANJA OPREMA | G38: TRUE | H38: =IFERROR(IF(G35=TRUE,'NOTRANJA OPREMA'!G119,0),0) -> 0 | I38: =+H38*$I$16 -> 0
B39: ARHITEKTURA - ODPRTI PROSTOR | G39: TRUE | H39: =IFERROR(IF(G35=TRUE,'ODPRTI PROSTOR'!G137*'OSNOVNI PODATKI'!$F$378,0),0) -> 0 | I39: =+H39*$I$16 -> 0
B40: KRAJINSKA ARHITEKTURA | G40: TRUE | H40: =IFERROR(IF(G35=TRUE,'ODPRTI PROSTOR'!G137*(100%-'OSNOVNI PODATKI'!$F$378),0),0) -> 0 | I40: =+H40*$I$16 -> 0
B41: GRADBENE KONSTRUKCIJE | G41: TRUE | H41: =IFERROR(IF(G35=TRUE,'GRADBENE KONSTRUKCIJE'!G137,0),0) -> 0 | I41: =+H41*$I$16 -> 0
B42: ELEKTRIČNE INŠTALACIJE | G42: TRUE | H42: =IFERROR(IF(G35=TRUE,'TEHNIČNA OPREMA'!G138,0),0) -> 0 | I42: =+H42*$I$16 -> 0
B43: STROJNE INŠTALACIJE | G43: TRUE | H43: =IFERROR(IF(G35=TRUE,'TEHNIČNA OPREMA'!G190,0),0) -> 0 | I43: =+H43*$I$16 -> 0
B44: TEHNOLOGIJA | G44: TRUE | H44: =IFERROR(IF(G35=TRUE,'TEHNIČNA OPREMA'!G239,0),0) -> 0 | I44: =+H44*$I$16 -> 0
B45: POŽARNA VARNOST | G45: TRUE | H45: =IFERROR(IF(G35=TRUE,'POŽARNA VARNOST'!G157,0),0) -> 0 | I45: =+H45*$I$16 -> 0
B46: UČINKOVITA RABA ENERGIJE | G46: TRUE | H46: =IFERROR(IF(G35=TRUE,'GRADBENA FIZIKA'!G142,0),0) -> 0 | I46: =+H46*$I$16 -> 0
B47: ZAŠČITA PRED HRUPOM | G47: TRUE | H47: =IFERROR(IF(G35=TRUE,'GRADBENA FIZIKA'!G188,0),0) -> 0 | I47: =+H47*$I$16 -> 0
...

Sheet OSNOVNE STORITVE
C1: ='OSNOVNI PODATKI'!D1 -> NAROČNIK | D1: =IFERROR('OSNOVNI PODATKI'!E1,"") -> 0
D2: =IFERROR('OSNOVNI PODATKI'!E2,"") -> 0
C3: ='OSNOVNI PODATKI'!D3 -> PROJEKTANT | D3: =IFERROR('OSNOVNI PODATKI'!E3,"") -> 0
C4: ='OSNOVNI PODATKI'!D4 -> GRADNJA | D4: =IFERROR('OSNOVNI PODATKI'!E4,"") -> 0
C5: ='OSNOVNI PODATKI'!D5 -> DATUM | D5: ='OSNOVNI PODATKI'!E5 -> 46278
A8: PRILOGA C - ROKI IN POGOJI ZA IZVEDBO, CENA TER POGOJI ZA PLAČILO
A9: TABELA 1: OSNOVNE STORITVE
C11: ROKI IN POGOJI ZA IZVEDBO DEL | E11: STRUKTURA CENE | F11: CENA BREZ DDV | G11: DDV 22% | H11: CENA Z DDV | I11: POGOJ ZA PLAČILO
A12: 0 | B12: POBUDA
A13: 0.1 | B13: TRŽNA ANALIZA | C13: xx | D13: delovnih dni od podpisa pogodbe | E13: =IFERROR(+F13/($F$55+'POSEBNE STORITVE'!$F$91),"%") -> % | F13: 0 | G13: =+F13*0.22 -> 0 | H13: =+F13+G13 -> 0 | I13: Pisno / ustno poročilo naročniku o storitvah te podfaze po ST ZAPS 01 / Plačilo za to fazo se opravi po zaključku faze 0.2.
A14: 0.2 | B14: OCENA GOSPODARNOSTI | C14: xx | D14: delovnih dni od podpisa pogodbe / od plačila / zaključka predhodne faze | E14: =IFERROR(+F14/($F$55+'POSEBNE STORITVE'!$F$91),"%") -> % | F14: 0 | G14: =+F14*0.22 -> 0 | H14: =+F14+G14 -> 0 | I14: Pisno / ustno poročilo naročniku o storitvah te podfaze po ST ZAPS 01
A15: 1 | B15: ZAGON
A16: 1.1 | B16: ZAGON PROJEKTA | C16: xx | D16: delovnih dni od podpisa pogodbe / od plačila / zaključka predhodne faze | E16: =IFERROR(+F16/($F$55+'POSEBNE STORITVE'!$F$91),"%") -> % | F16: 0 | G16: =+F16*0.22 -> 0 | H16: =+F16+G16 -> 0 | I16: Pisno / ustno poročilo naročniku o storitvah te podfaze po ST ZAPS 01 / Plačilo za to fazo se opravi po zaključku faze 1.3.
A17: 1.2 | B17: ŠTUDIJA IZVEDLJIVOSTI | C17: xx | D17: delovnih dni od podpisa pogodbe / od plačila / zaključka predhodne faze | E17: =IFERROR(+F17/($F$55+'POSEBNE STORITVE'!$F$91),"%") -> % | F17: 0 | G17: =+F17*0.22 -> 0 | H17: =+F17+G17 -> 0 | I17: Pisno / ustno poročilo naročniku – zazidalna /prostorska preveritev / in potrditev gradiv s strani naročnika / Plačilo za to fazo se opravi po zaključku faze 1.3.
A18: 1.3 | B18: OPREDELITEV | C18: xx | D18: delovnih dni od podpisa pogodbe / od plačila / zaključka predhodne faze | E18: =IFERROR(+F18/($F$55+'POSEBNE STORITVE'!$F$91),"%") -> % | F18: 0 | G18: =+F18*0.22 -> 0 | H18: =+F18+G18 -> 0 | I18: S strani naročnika potrjena projektna naloga.
A19: 2 | B19: PROJEKTIRANJE
A20: 2.1 | B20: SNOVANJE
B21: PROJEKTNA DOKUMENTACIJA IDZ | C21: xx | D21: delovnih dni od podpisa pogodbe / od plačila / zaključka predhodne faze / od prejema potrjene projektne naloge | E21: =IFERROR(+F21/($F$55+'POSEBNE STORITVE'!$F$91),"%") -> % | F21: 0 | G21: =+F21*0.22 -> 0 | H21: =+F21+G21 -> 0 | I21: Predaja IDZ in potrditev s strani naročnika.
A22: 2.2 | B22: IDEJNO PROJEKTIRANJE
B23: PROJEKTNA DOKUMENTACIJA IDP | C23: xx | D23: delovnih dni po prejemu vseh projektnih in drugih pogojev | E23: =IFERROR(+F23/($F$55+'POSEBNE STORITVE'!$F$91),"%") -> % | F23: 0 | G23: =+F23*0.22 -> 0 | H23: =+F23+G23 -> 0 | I23: Predaja IDP in potrditev s strani naročnika.
A24: 2.3 | B24: PRIPRAVA DOKUMENTACIJE ZA PRIDOBIVANJE DOVOLJENJ
B25: PROJEKTNA DOKUMENTACIJA ZA PROJEKTNE POGOJE (DPP) | C25: xx | D25: delovnih dni po pisni potrditvi predane IDZ s strani naročnika | E25: =IFERROR(+F25/($F$55+'POSEBNE STORITVE'!$F$91),"%") -> % | F25: 0 | G25: =+F25*0.22 -> 0 | H25: =+F25+G25 -> 0 | I25: Predaja DPP in potrditev s strani naročnika.
B26: PROJEKTNA DOKUMENTACIJA ZA PRIDOBIVANJE MNENJ IN GRADBENEGA DOVOLJENJA (DGD) | C26: xx | D26: delovnih dni po pisni potrditvi predane IDZ (opcija: IDP) s strani naročnika, pridobitvi vseh potrebnih projektnih pogojev, dokumentov in dokazil s strani naročnika (npr. vezano na postopke evidentiranosti, lastništva, davke in prispevke ipd.) | E26: =IFERROR(+F26/($F$55+'POSEBNE STORITVE'!$F$91),"%") -> % | F26: 0 | G26: =+F26*0.22 -> 0 | H26: =+F26+G26 -> 0 | I26: Predaja DGD in potrditev s strani naročnika.
A27: 2.4 | B27: PROJEKTIRANJE ZA IZVEDBO
B28: PROJEKTNA DOKUMENTACIJA ZA IZVEDBO (PZI) | C28: xx | D28: delovnih dni po pridobitvi (pravnomočnega) gradbenega dovoljenja | E28: =IFERROR(+F28/($F$55+'POSEBNE STORITVE'!$F$91),"%") -> % | F28: 0 | G28: =+F28*0.22 -> 0 | H28: =+F28+G28 -> 0 | I28: Predaja PZI in potrditev s strani naročnika.
B29: - ločena PZI projektna dokumentacija za odstranitev objekta | C29: xx | D29: delovnih dni … | E29: =IFERROR(+F29/($F$55+'POSEBNE STORITVE'!$F$91),"%") -> % | F29: 0 | G29: =+F29*0.22 -> 0 | H29: =+F29+G29 -> 0 | I29: Predaja gradiv in potrditev s strani naročnika.
B30: - ločena PZI dokumentacija za pripravljalna dela | C30: xx | D30: delovnih dni … | E30: =IFERROR(+F30/($F$55+'POSEBNE STORITVE'!$F$91),"%") -> % | F30: 0 | G30: =+F30*0.22 -> 0 | H30: =+F30+G30 -> 0 | I30: Predaja gradiv in potrditev s strani naročnika.
B31: - ločena PZI dokumentacija za načrt notranje opreme | C31: xx | D31: delovnih dni … | E31: =IFERROR(+F31/($F$55+'POSEBNE STORITVE'!$F$91),"%") -> % | F31: 0 | G31: =+F31*0.22 -> 0 | H31: =+F31+G31 -> 0 | I31: Predaja gradiv in potrditev s strani naročnika.
A32: 2.5 | B32: PRIPRAVA GRADIV ZA NAROČILO GRADNJE
B33: PROJEKTNA DOKUMENTACIJA ZA RAZPIS (PZR) | C33: xx | D33: delovnih dni po pisni potrditvi projekta PZI s strani naročnika | E33: =IFERROR(+F33/($F$55+'POSEBNE STORITVE'!$F$91),"%") -> % | F33: 0 | G33: =+F33*0.22 -> 0 | H33: =+F33+G33 -> 0 | I33: Predaja PZR in potrditev s strani naročnika.
B34: - ločen popis GO del za odstranitev objekta | C34: xx | D34: delovnih dni … | E34: =IFERROR(+F34/($F$55+'POSEBNE STORITVE'!$F$91),"%") -> % | F34: 0 | G34: =+F34*0.22 -> 0 | H34: =+F34+G34 -> 0 | I34: Predaja gradiv in potrditev s strani naročnika.
B35: - ločen popis GO del za pripravljalna dela | C35: xx | D35: delovnih dni … | E35: =IFERROR(+F35/($F$55+'POSEBNE STORITVE'!$F$91),"%") -> % | F35: 0 | G35: =+F35*0.22 -> 0 | H35: =+F35+G35 -> 0 | I35: Predaja gradiv in potrditev s strani naročnika.
B36: - ločen popis del za načrt notranje opreme | C36: xx | D36: delovnih dni … | E36: =IFERROR(+F36/($F$55+'POSEBNE STORITVE'!$F$91),"%") -> % | F36: 0 | G36: =+F36*0.22 -> 0 | H36: =+F36+G36 -> 0 | I36: Predaja gradiv in potrditev s strani naročnika.
A37: 3 | B37: NAROČANJE GRADNJE
A38: 3.1 | B38: NAROČILO TEHNOLOŠKE OPREME | C38: xx | D38: delovnih dni po prejemu vprašanj | E38: =IFERROR(+F38/($F$55+'POSEBNE STORITVE'!$F$91),"%") -> % | F38: 0 | G38: =+F38*0.22 -> 0 | H38: =+F38+G38 -> 0 | I38: Predaja gradiv in potrditev s strani naročnika.
A39: 3.2 | B39: GRADBENA POGODBA | C39: xx | D39: delovnih dni po prejemu vprašanj | E39: =IFERROR(+F39/($F$55+'POSEBNE STORITVE'!$F$91),"%") -> % | F39: 0 | G39: =+F39*0.22 -> 0 | H39: =+F39+G39 -> 0 | I39: Predaja gradiv in potrditev s strani naročnika.
A40: 4 | B40: GRADNJA
A41: 4.1 | B41: PRIPRAVA GRADNJE | D41: Sodelovanje pri uvedbi v delo in zakoličenju se izvaja skladno s terminskim načrtom graditve. | I41: Poročilo o opravljenih aktivnostih.
A42: 4.2 | B42: IZVAJANJE GRADNJE | D42: Projektantski nadzor se v dogovorjenem obsegu izvaja ves čas gradnje, skladno s potekom gradbenih del, do podpisa izvajalca in nadzornika da so dela končana. | E42: =IFERROR(+F42/$F$55,"%") -> % | F42: 0 | G42: =+F42*0.22 -> 0 | H42: =+F42+G42 -> 0 | I42: Mesečno, skupaj s poročilom o opravljenih aktivnostih.
A43: 4.3 | B43: POSKUSNO OBRATOVANJE | D43: Projektantski nadzor v času poskusnega obratovanja se v dogovorjenem obsegu izvaja ves čas poskusnega obratovanja. | E43: =IFERROR(+F43/$F$55,"%") -> % | F43: 0 | G43: =+F43*0.22 -> 0 | H43: =+F43+G43 -> 0 | I43: Mesečno, skupaj s poročilom o opravljenih aktivnostih.
...

Sheet POSEBNE STORITVE
C1: ='OSNOVNI PODATKI'!D1 -> NAROČNIK | D1: =IFERROR('OSNOVNI PODATKI'!E1,"") -> 0
D2: =IFERROR('OSNOVNI PODATKI'!E2,"") -> 0
C3: ='OSNOVNI PODATKI'!D3 -> PROJEKTANT | D3: =IFERROR('OSNOVNI PODATKI'!E3,"") -> 0
C4: ='OSNOVNI PODATKI'!D4 -> GRADNJA | D4: =IFERROR('OSNOVNI PODATKI'!E4,"") -> 0
C5: ='OSNOVNI PODATKI'!D5 -> DATUM | D5: ='OSNOVNI PODATKI'!E5 -> 46278
A8: PRILOGA C - ROKI IN POGOJI ZA IZVEDBO, CENA TER POGOJI ZA PLAČILO
A9: TABELA 2: POSEBNE STORITVE
C11: ROKI IN POGOJI ZA IZVEDBO DEL | E11: STRUKTURA CENE | F11: CENA BREZ DDV | G11: DDV 22% | H11: CENA Z DDV | I11: POGOJ ZA PLAČILO
A12: 0 | B12: POBUDA
A13: 0.1 | B13: TRŽNA ANALIZA
C14: xx | D14: delovnih dni … | E14: =IFERROR(+F14/('OSNOVNE STORITVE'!$F$55+$F$91),"%") -> % | F14: 0 | G14: =+F14*0.22 -> 0 | H14: =+F14+G14 -> 0 | I14: Predaja gradiv in potrditev s strani naročnika. / Kot za osnovne storitve v tej podfazi. / Mesečno na podlagi poročila o opravljenih aktivnostih / izstavljenega računa (na primer za skupni podatkovni strežnik).
C15: xx | D15: delovnih dni … | E15: =IFERROR(+F15/('OSNOVNE STORITVE'!$F$55+$F$91),"%") -> % | F15: 0 | G15: =+F15*0.22 -> 0 | H15: =+F15+G15 -> 0
A16: 0.2 | B16: OCENA GOSPODARNOSTI
C17: xx | D17: delovnih dni … | E17: =IFERROR(+F17/('OSNOVNE STORITVE'!$F$55+$F$91),"%") -> % | F17: 0 | G17: =+F17*0.22 -> 0 | H17: =+F17+G17 -> 0
C18: xx | D18: delovnih dni … | E18: =IFERROR(+F18/('OSNOVNE STORITVE'!$F$55+$F$91),"%") -> % | F18: 0 | G18: =+F18*0.22 -> 0 | H18: =+F18+G18 -> 0
A19: 1 | B19: ZAGON
A20: 1.1 | B20: ZAGON PROJEKTA
C21: xx | D21: delovnih dni … | E21: =IFERROR(+F21/('OSNOVNE STORITVE'!$F$55+$F$91),"%") -> % | F21: 0 | G21: =+F21*0.22 -> 0 | H21: =+F21+G21 -> 0
C22: xx | D22: delovnih dni … | E22: =IFERROR(+F22/('OSNOVNE STORITVE'!$F$55+$F$91),"%") -> % | F22: 0 | G22: =+F22*0.22 -> 0 | H22: =+F22+G22 -> 0
A23: 1.2 | B23: ŠTUDIJA IZVEDLJIVOSTI
C24: xx | D24: delovnih dni … | E24: =IFERROR(+F24/('OSNOVNE STORITVE'!$F$55+$F$91),"%") -> % | F24: 0 | G24: =+F24*0.22 -> 0 | H24: =+F24+G24 -> 0
C25: xx | D25: delovnih dni … | E25: =IFERROR(+F25/('OSNOVNE STORITVE'!$F$55+$F$91),"%") -> % | F25: 0 | G25: =+F25*0.22 -> 0 | H25: =+F25+G25 -> 0
A26: 1.3 | B26: OPREDELITEV
C27: xx | D27: delovnih dni … | E27: =IFERROR(+F27/('OSNOVNE STORITVE'!$F$55+$F$91),"%") -> % | F27: 0 | G27: =+F27*0.22 -> 0 | H27: =+F27+G27 -> 0
C28: xx | D28: delovnih dni … | E28: =IFERROR(+F28/('OSNOVNE STORITVE'!$F$55+$F$91),"%") -> % | F28: 0 | G28: =+F28*0.22 -> 0 | H28: =+F28+G28 -> 0
A29: 2 | B29: PROJEKTIRANJE
A30: 2.1 | B30: SNOVANJE
C31: xx | D31: delovnih dni … | E31: =IFERROR(+F31/('OSNOVNE STORITVE'!$F$55+$F$91),"%") -> % | F31: 0 | G31: =+F31*0.22 -> 0 | H31: =+F31+G31 -> 0
C32: xx | D32: delovnih dni … | E32: =IFERROR(+F32/('OSNOVNE STORITVE'!$F$55+$F$91),"%") -> % | F32: 0 | G32: =+F32*0.22 -> 0 | H32: =+F32+G32 -> 0
A33: 2.2 | B33: IDEJNO PROJEKTIRANJE
C34: xx | D34: delovnih dni … | E34: =IFERROR(+F34/('OSNOVNE STORITVE'!$F$55+$F$91),"%") -> % | F34: 0 | G34: =+F34*0.22 -> 0 | H34: =+F34+G34 -> 0
C35: xx | D35: delovnih dni … | E35: =IFERROR(+F35/('OSNOVNE STORITVE'!$F$55+$F$91),"%") -> % | F35: 0 | G35: =+F35*0.22 -> 0 | H35: =+F35+G35 -> 0
A36: 2.3 | B36: PRIPRAVA DOKUMENTACIJE ZA PRIDOBIVANJE DOVOLJENJ
B37: ZASTOPANJE INVESTITORJA V UPRAVNIH POSTOPKIH: PRIDOBIVANJE PROJEKTNIH POGOJEV | C37: xx | D37: delovnih dni po pisni potrditvi predane IDZ s strani naročnika | E37: =IFERROR(+F37/('OSNOVNE STORITVE'!$F$55+$F$91),"%") -> % | F37: 0 | G37: =+F37*0.22 -> 0 | H37: =+F37+G37 -> 0 | I37: Predaja DPP in potrditev s strani naročnika. / Potrdilo o pošiljanju DPP relevantnim mnenjedajalcem.
B38: ZASTOPANJE INVESTITORJA V UPRAVNIH POSTOPKIH: PRIDOBIVANJE MNENJ | C38: xx | D38: delovnih dni po pridobitvi vseh mnenj in soglasij | E38: =IFERROR(+F38/('OSNOVNE STORITVE'!$F$55+$F$91),"%") -> % | F38: 0 | G38: =+F38*0.22 -> 0 | H38: =+F38+G38 -> 0 | I38: Pridobljena vsa potrebna mnenja.
B39: ZASTOPANJE INVESTITORJA V UPRAVNIH POSTOPKIH: PRIDOBIVANJE GRADBENEGA DOVOLJENJA | C39: xx | D39: delovnih dni po pridobitvi vseh mnenj in soglasij | E39: =IFERROR(+F39/('OSNOVNE STORITVE'!$F$55+$F$91),"%") -> % | F39: 0 | G39: =+F39*0.22 -> 0 | H39: =+F39+G39 -> 0 | I39: 95 % vrednosti - potrdilo o oddani vlogi, 5 % vrednosti - pravnomočno gradbeno dovoljenje.
A40: 2.4 | B40: PROJEKTIRANJE ZA IZVEDBO
C41: xx | D41: delovnih dni … | E41: =IFERROR(+F41/('OSNOVNE STORITVE'!$F$55+$F$91),"%") -> % | F41: 0 | G41: =+F41*0.22 -> 0 | H41: =+F41+G41 -> 0
C42: xx | D42: delovnih dni … | E42: =IFERROR(+F42/('OSNOVNE STORITVE'!$F$55+$F$91),"%") -> % | F42: 0 | G42: =+F42*0.22 -> 0 | H42: =+F42+G42 -> 0
A43: 2.5 | B43: PRIPRAVA GRADIV ZA NAROČILO GRADNJE
...

Sheet VREDNOST NU
A1: Kalkulacija stroškov za določitev vrednosti projektantske obračunske ure (2026)
A2: Vrednosti so informativne in se razlikujejo glede na organizacijo posameznega biroja.
A5: I. | B5: Podatki
B6: število zaposlenih | F6: 1
B7: od tega proizvodnih delavcev | F7: 1
B8: Število delovnih ur / delovni dan | F8: 8
B9: Število obračunskih ur / delovni dan | F9: 6
B10: Tedenski fond obračunskih ur | F10: =+F9*5 -> 30
C11: mesec | D11: leto
B12: povprečni BTO OD v Sloveniji 2026 | C12: 2682.36 | D12: =+C12*12 -> 32188.32
B13: povprečni NTO OD v Sloveniji 2026 | C13: 1680.8 | D13: =+C13*12 -> 20169.6
B14: faktor bruto/neto | C14: =+C12/C13 -> 1.5958829 | D14: =+D12/D13 -> 1.5958829
B16: 2026 | E16: dni | F16: ur
B17: Letni fond delovnih dni | E17: 250
B18: Število dela prostih dni (prazniki) | E18: 11
B19: Letni dopust | E19: 25
B20: Bolniška odsotnost | E20: 5
B21: Izobraževanje | E21: 5
B22: Skupaj efektivnih delovnih dni | E22: =+E17-E19-E20-E21 -> 215
B23: Mesečni fond efektivnih delovnih dni (povprečni) | E23: =+E22/12 -> 17.916667
A26: I. | B26: Stroški
A28: A. | B28: Stroški dela posameznega delavca | C28: mesec | D28: leto | E28: ura
A29: 1. | B29: bto plača | C29: =+C30*C31 -> 2713.001 | D29: =+C29*12 -> 32556.011 | E29: =+C29/$E$23/$F$8 -> 18.927914
B30: neto plača | C30: 1700 | D30: =+C30*12 -> 20400 | E30: =+C30/$E$23/$F$8 -> 11.860465
B31: faktor bruto/neto | C31: =C14 -> 1.5958829 | D31: =D14 -> 1.5958829
A32: 2. | B32: prehrana (ocena) | C32: =20*10 -> 200 | D32: =+C32*12 -> 2400
A33: 3. | B33: prevoz na delo (ocena) | C33: 50 | D33: =+C33*12 -> 600
A34: 4. | B34: regres | D34: 1500
B35: skupaj | C35: =+C34+C33+C32+C29 -> 2963.001 | D35: =+D34+D33+D32+D29 -> 37056.011
F36: delež
B37: skupaj za vse delavce | C37: =+C35*F6 -> 2963.001 | D37: =+D35*F6 -> 37056.011 | F37: =+D37/D67 -> 0.57755618
A39: B. | B39: Drugi stroški | D39: leto
A40: 1. | B40: pisarniški in drobni material | D40: 500
A41: 2. | B41: prostori, 15 m2/delavec (najemnina, tekoči stroški in vzdrževanje, nadomestilo za uporabo stavbnega zemljišča) | D41: =500*12*F6 -> 6000
A42: 3. | B42: pošta, kurirji, DHL, … | D42: 200
A43: 4. | B43: telefon, internet | D43: =40*12 -> 480
A44: 5. | B44: reprezentanca | D44: 200
A45: 6. | B45: amortizacija osnovnih sredsev | D45: 500
A46: 7. | B46: programska oprema | D46: 1500
A47: 8. | B47: potni stroški, dnevnice | D47: 2000
...

Sheet STAVBE
B1: Poraba časa - stavbe
A3: IZRAČUN ŠTEVILA NU ZA NAČRTOVANJE STAVB
B5: VRSTA IZRAČUNA | C5: ='OSNOVNI PODATKI'!H11 -> 2 | D5: =IF(C5=1,'OSNOVNI PODATKI'!B11,'OSNOVNI PODATKI'!B12) -> ENA STAVBA ALI VEČ RAZLIČNIH STAVB (PRI IZRAČUNU POTREBNIH NU SE VSAKA STAVBA IZRAČUNAVA LOČENO)
B6: CELOTNA BTP | C6: ='OSNOVNI PODATKI'!E308 -> 0
B8: ='OSNOVNI PODATKI'!A15 -> STAVBA 1 / DEL 1 | C8: ='OSNOVNI PODATKI'!E15 -> 0
B9: TIPOLOGIJA | C9: ='OSNOVNI PODATKI'!E16 -> 5. Nepodkletene eno in dvostanovanjske stavbe, nižji standard
B10: BRUTO POVRŠINA DELA | C10: ='OSNOVNI PODATKI'!E17 -> 0
B11: BRUTO POVRŠINA ZA IZRAČUN | C11: =IF($C$5=1,$C$6,C10) -> 0
B12: INDEKS TIPOLOGIJE | C12: ='OSNOVNI PODATKI'!E27 -> -105.4
B13: IZBRANI CENOVNI RAZRED | C13: ='OSNOVNI PODATKI'!E18 -> Cenovni razred III
B14: Cenovni razred I | C14: =IFERROR(0.005*POWER(IF((C21+C22+C23)<25%*C20,C11*(1000+C12),(C20-37.5%*C20+50%)*C11*(1000+C12)),0.8868)/C11,0) -> 0 | D14: NU/m2
B15: Cenovni razred II | C15: =IFERROR(0.0058*POWER(IF((C21+C22+C23)<25%*C20,C11*(1000+C12),(C20-37.5%*C20+50%)*C11*(1000+C12)),0.8868)/C11,0) -> 0 | D15: NU/m2
B16: Cenovni razred III | C16: =IFERROR(0.0069*POWER(IF((C21+C22+C23)<25%*C20,C11*(1000+C12),(C20-37.5%*C20+50%)*C11*(1000+C12)),0.8868)/C11,0) -> 0 | D16: NU/m2
B17: Cenovni razred IV | C17: =IFERROR(0.0086*POWER(IF((C21+C22+C23)<25%*C20,C11*(1000+C12),(C20-37.5%*C20+50%)*C11*(1000+C12)),0.8868)/C11,0) -> 0 | D17: NU/m2
B18: Cenovni razred V | C18: =IFERROR(0.0097*POWER(IF((C21+C22+C23)<25%*C20,C11*(1000+C12),(C20-37.5%*C20+50%)*C11*(1000+C12)),0.8868)/C11,0) -> 0 | D18: NU/m2
B19: Cenovni razred V+ | C19: =IFERROR(0.0105*POWER(IF((C21+C22+C23)<25%*C20,C11*(1000+C12),(C20-37.5%*C20+50%)*C11*(1000+C12)),0.8868)/C11,0) -> 0 | D19: NU/m2
B20: ='OSNOVNI PODATKI'!B59 -> GRADBENO OBRTNIŠKA DELA (GO) | C20: ='OSNOVNI PODATKI'!D33 -> 0.817 | E20: =IFERROR(C20*C$11*(1000+C$12),0) -> 0
B21: ='OSNOVNI PODATKI'!B60 -> ELEKTRIČNE INŠTALACIJE (EI) | C21: ='OSNOVNI PODATKI'!D34 -> 0.0345544 | E21: =IFERROR(C21*C$11*(1000+C$12),0) -> 0
B22: ='OSNOVNI PODATKI'!B61 -> STROJNE INŠTALACIJE (SI) | C22: ='OSNOVNI PODATKI'!D35 -> 0.14823 | E22: =IFERROR(C22*C$11*(1000+C$12),0) -> 0
B23: ='OSNOVNI PODATKI'!B62 -> TEHNOLOGIJA (TH) | C23: ='OSNOVNI PODATKI'!D36 -> 0 | E23: =IFERROR(C23*C$11*(1000+C$12),0) -> 0
B25: MINIMALNO ŠTEVILO NU/m2 | C25: =IFERROR(LOOKUP(C13,B14:C18),0) -> 0 | D25: NU/m2
B26: MAKSIMALNO ŠTEVILO NU/m2 | C26: {=IFERROR(INDEX(C14:C19,MATCH(C13,B14:B18)+1),0)} -> 0 | D26: NU/m2
B27: MINIMALNO ŠTEVILO NU | C27: =IFERROR(C25*C10,0) -> 0 | D27: NU
B28: MAKSIMALNO ŠTEVILO NU | C28: =IFERROR(C26*C10,0) -> 0 | D28: NU
B30: ='OSNOVNI PODATKI'!A41 -> STAVBA 2 / DEL 2 | C30: ='OSNOVNI PODATKI'!E41 -> 0
B31: TIPOLOGIJA | C31: ='OSNOVNI PODATKI'!E42 -> 6. Nepodkletene eno in dvostanovanjske stavbe, srednji standard
B32: BRUTO POVRŠINA DELA | C32: ='OSNOVNI PODATKI'!E43 -> 0
B33: BRUTO POVRŠINA ZA IZRAČUN | C33: =IF($C$5=1,$C$6,C32) -> 0
B34: INDEKS TIPOLOGIJE | C34: ='OSNOVNI PODATKI'!E53 -> 230.6
B35: IZBRANI CENOVNI RAZRED | C35: ='OSNOVNI PODATKI'!E44 -> Cenovni razred III
B36: Cenovni razred I | C36: =IFERROR(0.005*POWER(IF((C43+C44+C45)<25%*C42,C33*(1000+C34),(C42-37.5%*C42+50%)*C33*(1000+C34)),0.8868)/C33,0) -> 0 | D36: NU/m2
B37: Cenovni razred II | C37: =IFERROR(0.0058*POWER(IF((C43+C44+C45)<25%*C42,C33*(1000+C34),(C42-37.5%*C42+50%)*C33*(1000+C34)),0.8868)/C33,0) -> 0 | D37: NU/m2
B38: Cenovni razred III | C38: =IFERROR(0.0069*POWER(IF((C43+C44+C45)<25%*C42,C33*(1000+C34),(C42-37.5%*C42+50%)*C33*(1000+C34)),0.8868)/C33,0) -> 0 | D38: NU/m2
B39: Cenovni razred IV | C39: =IFERROR(0.0086*POWER(IF((C43+C44+C45)<25%*C42,C33*(1000+C34),(C42-37.5%*C42+50%)*C33*(1000+C34)),0.8868)/C33,0) -> 0 | D39: NU/m2
B40: Cenovni razred V | C40: =IFERROR(0.0097*POWER(IF((C43+C44+C45)<25%*C42,C33*(1000+C34),(C42-37.5%*C42+50%)*C33*(1000+C34)),0.8868)/C33,0) -> 0 | D40: NU/m2
B41: Cenovni razred V+ | C41: =IFERROR(0.0105*POWER(IF((C43+C44+C45)<25%*C42,C33*(1000+C34),(C42-37.5%*C42+50%)*C33*(1000+C34)),0.8868)/C33,0) -> 0 | D41: NU/m2
B42: ='OSNOVNI PODATKI'!B59 -> GRADBENO OBRTNIŠKA DELA (GO) | C42: ='OSNOVNI PODATKI'!D59 -> 0.808 | E42: =IFERROR(C42*C$33*(1000+C$34),0) -> 0
B43: ='OSNOVNI PODATKI'!B60 -> ELEKTRIČNE INŠTALACIJE (EI) | C43: ='OSNOVNI PODATKI'!D60 -> 0.044544 | E43: =IFERROR(C43*C$33*(1000+C$34),0) -> 0
B44: ='OSNOVNI PODATKI'!B61 -> STROJNE INŠTALACIJE (SI) | C44: ='OSNOVNI PODATKI'!D61 -> 0.147648 | E44: =IFERROR(C44*C$33*(1000+C$34),0) -> 0
B45: ='OSNOVNI PODATKI'!B62 -> TEHNOLOGIJA (TH) | C45: ='OSNOVNI PODATKI'!D62 -> 0 | E45: =IFERROR(C45*C$33*(1000+C$34),0) -> 0
...

Sheet NOTRANJA OPREMA
B1: Poraba časa - notranja oprema
A3: IZRAČUN ŠTEVILA NU ZA NAČRTOVANJE NOTRANJE OPREME
B5: VRSTA IZRAČUNA | C5: ='OSNOVNI PODATKI'!H147 -> 1 | D5: =IF(C5=1,'OSNOVNI PODATKI'!B147,'OSNOVNI PODATKI'!B148) -> ENA STAVBA Z RAZLIČNIMI DELI (PRI IZRAČUNU POTREBNIH NU SE UPOŠTEVA SEŠTEVEK POVRŠIN VSEH DELOV)
B6: SKUPNA NETO POVRŠINA | C6: ='OSNOVNI PODATKI'!E319 -> 0
B8: ='OSNOVNI PODATKI'!A151 -> NOTRANJA OPREMA / DEL 1 | C8: ='OSNOVNI PODATKI'!E151 -> 0
B9: TIPOLOGIJA | C9: ='OSNOVNI PODATKI'!E152 -> 11. Stanovanjski prostori z visokimi zahtevami, kuhinje in kopalnice po meri
B10: NETO POVRŠINA DELA | C10: ='OSNOVNI PODATKI'!E153 -> 0
B11: NETO POVRŠINA ZA IZRAČUN | C11: =IF($C$5=1,$C$6,C10) -> 0
B12: INDEKS TIPOLOGIJE | C12: =+'OSNOVNI PODATKI'!E157 -> 120
B13: IZBRANI CENOVNI RAZRED | C13: ='OSNOVNI PODATKI'!E154 -> Cenovni razred I
B14: Cenovni razred I | C14: =IFERROR(0.005*POWER(C11*(1000+C12),0.8868)/C11,0) -> 0 | D14: NU/m2
B15: Cenovni razred II | C15: =IFERROR(0.0058*POWER(C11*(1000+C12),0.8868)/C11,0) -> 0 | D15: NU/m2
B16: Cenovni razred III | C16: =IFERROR(0.0069*POWER(C11*(1000+C12),0.8868)/C11,0) -> 0 | D16: NU/m2
B17: Cenovni razred IV | C17: =IFERROR(0.0086*POWER(C11*(1000+C12),0.8868)/C11,0) -> 0 | D17: NU/m2
B18: Cenovni razred V | C18: =IFERROR(0.0097*POWER(C11*(1000+C12),0.8868)/C11,0) -> 0 | D18: NU/m2
B19: Cenovni razred V+ | C19: =IFERROR(0.0105*POWER(C11*(1000+C12),0.8868)/C11,0) -> 0 | D19: NU/m2
B21: MINIMALNO ŠTEVILO NU/m2 | C21: =IFERROR(LOOKUP(C13,B14:C18),0) -> 0 | D21: NU/m2
B22: MAKSIMALNO ŠTEVILO NU/m2 | C22: {=IFERROR(INDEX(C14:C18,MATCH(C13,B14:B18)+1),0)} -> 0 | D22: NU/m2
B23: MINIMALNO ŠTEVILO NU | C23: =IFERROR(C21*C10,0) -> 0 | D23: NU
B24: MAKSIMALNO ŠTEVILO NU | C24: =IFERROR(C22*C10,0) -> 0 | D24: NU
B26: ='OSNOVNI PODATKI'!A163 -> NOTRANJA OPREMA / DEL 2 | C26: ='OSNOVNI PODATKI'!E163 -> 0
B27: TIPOLOGIJA | C27: ='OSNOVNI PODATKI'!E164 -> 16. učilnice, predavalnice, seminarske sobe, manjše knjižnice, menze
B28: NETO POVRŠINA DELA | C28: ='OSNOVNI PODATKI'!E165 -> 0
B29: NETO POVRŠINA ZA IZRAČUN | C29: =IF($C$5=1,$C$6,C28) -> 0
B30: INDEKS TIPOLOGIJE | C30: =+'OSNOVNI PODATKI'!E169 -> -400
B31: IZBRANI CENOVNI RAZRED | C31: ='OSNOVNI PODATKI'!E166 -> Cenovni razred I
B32: Cenovni razred I | C32: =IFERROR(0.005*POWER(C29*(1000+C30),0.8868)/C29,0) -> 0 | D32: NU/m2
B33: Cenovni razred II | C33: =IFERROR(0.0058*POWER(C29*(1000+C30),0.8868)/C29,0) -> 0 | D33: NU/m2
B34: Cenovni razred III | C34: =IFERROR(0.0069*POWER(C29*(1000+C30),0.8868)/C29,0) -> 0 | D34: NU/m2
B35: Cenovni razred IV | C35: =IFERROR(0.0086*POWER(C29*(1000+C30),0.8868)/C29,0) -> 0 | D35: NU/m2
B36: Cenovni razred V | C36: =IFERROR(0.0097*POWER(C29*(1000+C30),0.8868)/C29,0) -> 0 | D36: NU/m2
B37: Cenovni razred V+ | C37: =IFERROR(0.0105*POWER(C29*(1000+C30),0.8868)/C29,0) -> 0 | D37: NU/m2
B39: MINIMALNO ŠTEVILO NU/m2 | C39: =IFERROR(LOOKUP(C31,B32:C36),0) -> 0 | D39: NU/m2
B40: MAKSIMALNO ŠTEVILO NU/m2 | C40: {=IFERROR(INDEX(C32:C36,MATCH(C31,B32:B36)+1),0)} -> 0 | D40: NU/m2
B41: MINIMALNO ŠTEVILO NU | C41: =IFERROR(C39*C28,0) -> 0 | D41: NU
B42: MAKSIMALNO ŠTEVILO NU | C42: =IFERROR(C40*C28,0) -> 0 | D42: NU
B44: ='OSNOVNI PODATKI'!A175 -> NOTRANJA OPREMA / DEL 3 | C44: ='OSNOVNI PODATKI'!E175 -> 0
B45: TIPOLOGIJA | C45: ='OSNOVNI PODATKI'!E176 -> 3. Notranja oprema s povprečnimi zahtevami glede načrtovanja, pretežno z uporabo serijsko izdelanega pohištva in opreme ali s povprečno tehnično opremo
B46: NETO POVRŠINA DELA | C46: ='OSNOVNI PODATKI'!E177 -> 0
B47: NETO POVRŠINA ZA IZRAČUN | C47: =IF($C$5=1,$C$6,C46) -> 0
...

Sheet ODPRTI PROSTOR
B1: Poraba časa - odprti prostor
A3: IZRAČUN ŠTEVILA NU ZA NAČRTOVANJE ODPRTEGA PROSTORA
B5: VRSTA IZRAČUNA | C5: ='OSNOVNI PODATKI'!H213 -> 1 | D5: =IF(C5=1,'OSNOVNI PODATKI'!B213,'OSNOVNI PODATKI'!B214) -> MED SEBOJ POVEZANE UREDITVE (PRI IZRAČUNU POTREBNIH NU SE UPOŠTEVA SEŠTEVEK POVRŠIN)
B6: CELOTNA BTP | C6: ='OSNOVNI PODATKI'!E326 -> 0
B8: ='OSNOVNI PODATKI'!A216 -> OBJEKT 1 / DEL 1 | C8: ='OSNOVNI PODATKI'!E216 -> 0
B9: TIPOLOGIJA | C9: ='OSNOVNI PODATKI'!E217 -> Pripadajoče površine ob stavbah ter drugih objektih in napravah, vrtovi in ureditve z nizkimi ali povprečnimi zahtevami
B10: BRUTO POVRŠINA DELA | C10: ='OSNOVNI PODATKI'!E218 -> 0
B11: BRUTO POVRŠINA ZA IZRAČUN | C11: =IF($C$5=1,$C$6,C10) -> 0
B12: INDEKS TIPOLOGIJE | C12: ='OSNOVNI PODATKI'!E221 -> -10
B13: IZBRANI CENOVNI RAZRED | C13: ='OSNOVNI PODATKI'!E219 -> Cenovni razred III
B14: Cenovni razred I | C14: =IFERROR(0.0141*POWER(C11*(100+C12),0.8228)/C11,0) -> 0 | D14: NU/m2
B15: Cenovni razred II | C15: =IFERROR(0.0171*POWER(C11*(100+C12),0.8213)/C11,0) -> 0 | D15: NU/m2
B16: Cenovni razred III | C16: =IFERROR(0.0201*POWER(C11*(100+C12),0.8232)/C11,0) -> 0 | D16: NU/m2
B17: Cenovni razred IV | C17: =IFERROR(0.0246*POWER(C11*(100+C12),0.8244)/C11,0) -> 0 | D17: NU/m2
B18: Cenovni razred V | C18: =IFERROR(0.0304*POWER(C11*(100+C12),0.818)/C11,0) -> 0 | D18: NU/m2
B19: Cenovni razred V+ | C19: =IFERROR(0.034*POWER(C11*(100+C12),0.8163)/C11,0) -> 0 | D19: NU/m2
B21: MINIMALNO ŠTEVILO NU/m2 | C21: =IFERROR(LOOKUP(C13,B14:C18),0) -> 0 | D21: NU/m2
B22: MAKSIMALNO ŠTEVILO NU/m2 | C22: {=IFERROR(INDEX(C14:C19,MATCH(C13,B14:B18)+1),0)} -> 0 | D22: NU/m2
B23: MINIMALNO ŠTEVILO NU | C23: =IFERROR(C21*C10,0) -> 0 | D23: NU
B24: MAKSIMALNO ŠTEVILO NU | C24: =IFERROR(C22*C10,0) -> 0 | D24: NU
B26: ='OSNOVNI PODATKI'!A234 -> OBJEKT 2 / DEL 2 | C26: ='OSNOVNI PODATKI'!E234 -> 0
B27: TIPOLOGIJA | C27: ='OSNOVNI PODATKI'!E235 -> Odprti prostori na območjih enostavne pozidave v manjših podeželskih naseljih in ob posameznih objektih
B28: BRUTO POVRŠINA DELA | C28: ='OSNOVNI PODATKI'!E236 -> 0
B29: BRUTO POVRŠINA ZA IZRAČUN | C29: =IF($C$5=1,$C$6,C28) -> 0
B30: INDEKS TIPOLOGIJE | C30: ='OSNOVNI PODATKI'!E239 -> -10
B31: IZBRANI CENOVNI RAZRED | C31: ='OSNOVNI PODATKI'!E237 -> Cenovni razred III
B32: Cenovni razred I | C32: =IFERROR(0.0141*POWER(C29*(100+C30),0.8228)/C29,0) -> 0 | D32: NU/m2
B33: Cenovni razred II | C33: =IFERROR(0.0171*POWER(C29*(100+C30),0.8213)/C29,0) -> 0 | D33: NU/m2
B34: Cenovni razred III | C34: =IFERROR(0.0201*POWER(C29*(100+C30),0.8232)/C29,0) -> 0 | D34: NU/m2
B35: Cenovni razred IV | C35: =IFERROR(0.0246*POWER(C29*(100+C30),0.8244)/C29,0) -> 0 | D35: NU/m2
B36: Cenovni razred V | C36: =IFERROR(0.0304*POWER(C29*(100+C30),0.818)/C29,0) -> 0 | D36: NU/m2
B37: Cenovni razred V+ | C37: =IFERROR(0.034*POWER(C29*(100+C30),0.8163)/C29,0) -> 0 | D37: NU/m2
B39: MINIMALNO ŠTEVILO NU/m2 | C39: =IFERROR(LOOKUP(C31,B32:C36),0) -> 0 | D39: NU/m2
B40: MAKSIMALNO ŠTEVILO NU/m2 | C40: {=IFERROR(INDEX(C32:C37,MATCH(C31,B32:B36)+1),0)} -> 0 | D40: NU/m2
B41: MINIMALNO ŠTEVILO NU | C41: =IFERROR(C39*C28,0) -> 0 | D41: NU
B42: MAKSIMALNO ŠTEVILO NU | C42: =IFERROR(C40*C28,0) -> 0 | D42: NU
B44: ='OSNOVNI PODATKI'!A252 -> OBJEKT 3 / DEL 3 | C44: ='OSNOVNI PODATKI'!E252 -> 0
B45: TIPOLOGIJA | C45: ='OSNOVNI PODATKI'!E253 -> Nepokrita prezentirana arheološka najdišča in ruševine
B46: BRUTO POVRŠINA DELA | C46: ='OSNOVNI PODATKI'!E254 -> 0
B47: BRUTO POVRŠINA ZA IZRAČUN | C47: =IF($C$5=1,$C$6,C46) -> 0
...

Sheet GRADBENE KONSTRUKCIJE
B1: Poraba časa - gradbene konstrukcije
A3: IZRAČUN ŠTEVILA NU ZA NAČRTOVANJE GRADBENIH KONSTRUKCIJ
B5: VRSTA IZRAČUNA | C5: ='OSNOVNI PODATKI'!H11 -> 2 | D5: =IF(C5=1,'OSNOVNI PODATKI'!B11,'OSNOVNI PODATKI'!B12) -> ENA STAVBA ALI VEČ RAZLIČNIH STAVB (PRI IZRAČUNU POTREBNIH NU SE VSAKA STAVBA IZRAČUNAVA LOČENO)
B6: CELOTNA BTP | C6: ='OSNOVNI PODATKI'!E308 -> 0
B8: ='OSNOVNI PODATKI'!A15 -> STAVBA 1 / DEL 1 | C8: ='OSNOVNI PODATKI'!E15 -> 0
B9: TIPOLOGIJA | C9: ='OSNOVNI PODATKI'!E16 -> 5. Nepodkletene eno in dvostanovanjske stavbe, nižji standard
B10: BRUTO POVRŠINA DELA | C10: ='OSNOVNI PODATKI'!E17 -> 0
B11: BRUTO POVRŠINA ZA IZRAČUN | C11: =IF($C$5=1,$C$6,C10) -> 0
B12: INDEKS TIPOLOGIJE | C12: ='OSNOVNI PODATKI'!E27 -> -105.4
B13: IZBRANI CENOVNI RAZRED | C13: ='OSNOVNI PODATKI'!E19 -> Cenovni razred III
B14: Cenovni razred I | C14: =IFERROR(0.0132*POWER((45%*C20+10%)*C11*(1000+C12),0.7854)/C11,0) -> 0 | D14: NU/m2
B15: Cenovni razred II | C15: =IFERROR(0.0147*POWER((45%*C20+10%)*C11*(1000+C12),0.7854)/C11,0) -> 0 | D15: NU/m2
B16: Cenovni razred III | C16: =IFERROR(0.019*POWER((45%*C20+10%)*C11*(1000+C12),0.7841)/C11,0) -> 0 | D16: NU/m2
B17: Cenovni razred IV | C17: =IFERROR(0.0232*POWER((45%*C20+10%)*C11*(1000+C12),0.7856)/C11,0) -> 0 | D17: NU/m2
B18: Cenovni razred V | C18: =IFERROR(0.0277*POWER((45%*C20+10%)*C11*(1000+C12),0.7843)/C11,0) -> 0 | D18: NU/m2
B19: Cenovni razred V+ | C19: =IFERROR(0.0291*POWER((45%*C20+10%)*C11*(1000+C12),0.7843)/C11,0) -> 0 | D19: NU/m2
B20: ='OSNOVNI PODATKI'!B59 -> GRADBENO OBRTNIŠKA DELA (GO) | C20: ='OSNOVNI PODATKI'!D33 -> 0.817 | E20: =C20*$C$11*(1000+$C$12) -> 0 | I20: =+E20*0.55+(E21+E22+E23)*0.1 -> 0
B21: ='OSNOVNI PODATKI'!B60 -> ELEKTRIČNE INŠTALACIJE (EI) | C21: ='OSNOVNI PODATKI'!D34 -> 0.0345544 | E21: =C21*$C$11*(1000+$C$12) -> 0 | I21: =45%*C20+10% -> 0.46765
B22: ='OSNOVNI PODATKI'!B61 -> STROJNE INŠTALACIJE (SI) | C22: ='OSNOVNI PODATKI'!D35 -> 0.14823 | E22: =C22*$C$11*(1000+$C$12) -> 0
B23: ='OSNOVNI PODATKI'!B62 -> TEHNOLOGIJA (TH) | C23: ='OSNOVNI PODATKI'!D36 -> 0 | E23: =C23*$C$11*(1000+$C$12) -> 0
B25: MINIMALNO ŠTEVILO NU/m2 | C25: =IFERROR(LOOKUP(C13,B14:C18),"/") -> 0 | D25: NU/m2
B26: MAKSIMALNO ŠTEVILO NU/m2 | C26: {=IFERROR(INDEX(C14:C19,MATCH(C13,B14:B18)+1),"/")} -> 0 | D26: NU/m2
B27: MINIMALNO ŠTEVILO NU | C27: =IFERROR(C25*C10,0) -> 0 | D27: NU
B28: MAKSIMALNO ŠTEVILO NU | C28: =IFERROR(C26*C10,0) -> 0 | D28: NU
B30: ='OSNOVNI PODATKI'!A41 -> STAVBA 2 / DEL 2 | C30: ='OSNOVNI PODATKI'!E41 -> 0
B31: TIPOLOGIJA | C31: ='OSNOVNI PODATKI'!E42 -> 6. Nepodkletene eno in dvostanovanjske stavbe, srednji standard
B32: BRUTO POVRŠINA DELA | C32: ='OSNOVNI PODATKI'!E43 -> 0
B33: BRUTO POVRŠINA ZA IZRAČUN | C33: =IF($C$5=1,$C$6,C32) -> 0
B34: INDEKS TIPOLOGIJE | C34: ='OSNOVNI PODATKI'!E53 -> 230.6
B35: IZBRANI CENOVNI RAZRED | C35: ='OSNOVNI PODATKI'!E45 -> Cenovni razred III
B36: Cenovni razred I | C36: =IFERROR(0.0132*POWER((45%*C42+10%)*C33*(1000+C34),0.7854)/C33,0) -> 0 | D36: NU/m2
B37: Cenovni razred II | C37: =IFERROR(0.0147*POWER((45%*C42+10%)*C33*(1000+C34),0.7854)/C33,0) -> 0 | D37: NU/m2
B38: Cenovni razred III | C38: =IFERROR(0.019*POWER((45%*C42+10%)*C33*(1000+C34),0.7841)/C33,0) -> 0 | D38: NU/m2
B39: Cenovni razred IV | C39: =IFERROR(0.0232*POWER((45%*C42+10%)*C33*(1000+C34),0.7856)/C33,0) -> 0 | D39: NU/m2
B40: Cenovni razred V | C40: =IFERROR(0.0277*POWER((45%*C42+10%)*C33*(1000+C34),0.7843)/C33,0) -> 0 | D40: NU/m2
B41: Cenovni razred V+ | C41: =IFERROR(0.0291*POWER((45%*C42+10%)*C33*(1000+C34),0.7843)/C33,0) -> 0 | D41: NU/m2
B42: ='OSNOVNI PODATKI'!B59 -> GRADBENO OBRTNIŠKA DELA (GO) | C42: ='OSNOVNI PODATKI'!D59 -> 0.808 | E42: =C42*$C$11*(1000+$C$12) -> 0 | I42: =+E42*0.55+(E43+E44+E45)*0.1 -> 0
B43: ='OSNOVNI PODATKI'!B60 -> ELEKTRIČNE INŠTALACIJE (EI) | C43: ='OSNOVNI PODATKI'!D60 -> 0.044544 | E43: =C43*$C$11*(1000+$C$12) -> 0 | I43: =45%*C42+10% -> 0.4636
B44: ='OSNOVNI PODATKI'!B61 -> STROJNE INŠTALACIJE (SI) | C44: ='OSNOVNI PODATKI'!D61 -> 0.147648 | E44: =C44*$C$11*(1000+$C$12) -> 0
B45: ='OSNOVNI PODATKI'!B62 -> TEHNOLOGIJA (TH) | C45: ='OSNOVNI PODATKI'!D62 -> 0 | E45: =C45*$C$11*(1000+$C$12) -> 0
...

Sheet TEHNIČNA OPREMA
B1: Poraba časa - TEHNIČNA OPREMA
A3: IZRAČUN ŠTEVILA NU ZA ELEKTRIČNE INŠTALACIJE | E3: IZRAČUN ŠTEVILA NU ZA STROJNE INŠTALACIJE | I3: IZRAČUN ŠTEVILA NU ZA TEHNOLOGIJO
B5: VRSTA IZRAČUNA | C5: ='OSNOVNI PODATKI'!H11 -> 2 | D5: =IF(C5=1,'OSNOVNI PODATKI'!B11,'OSNOVNI PODATKI'!B12) -> ENA STAVBA ALI VEČ RAZLIČNIH STAVB (PRI IZRAČUNU POTREBNIH NU SE VSAKA STAVBA IZRAČUNAVA LOČENO)
B6: CELOTNA BTP | C6: ='OSNOVNI PODATKI'!E308 -> 0
B8: ='OSNOVNI PODATKI'!A15 -> STAVBA 1 / DEL 1 | C8: ='OSNOVNI PODATKI'!E15 -> 0
B9: TIPOLOGIJA | C9: ='OSNOVNI PODATKI'!E16 -> 5. Nepodkletene eno in dvostanovanjske stavbe, nižji standard
B10: BRUTO POVRŠINA DELA | C10: ='OSNOVNI PODATKI'!E17 -> 0
B11: BRUTO POVRŠINA ZA IZRAČUN | C11: =IF($C$5=1,$C$6,C10) -> 0
B12: INDEKS TIPOLOGIJE | C12: ='OSNOVNI PODATKI'!E27 -> -105.4
B13: IZBRANI CENOVNI RAZRED | C13: ='OSNOVNI PODATKI'!E20 -> Cenovni razred II | F13: IZBRANI CENOVNI RAZRED | G13: ='OSNOVNI PODATKI'!E21 -> Cenovni razred II | J13: IZBRANI CENOVNI RAZRED | K13: ='OSNOVNI PODATKI'!E22 -> Cenovni razred II
B14: Cenovni razred I | C14: =IFERROR((0.0331*POWER(C21*C11*(1000+C12),0.7868))/C11,0) -> 0 | D14: NU/m2 | F14: Cenovni razred I | G14: =IFERROR((0.0331*POWER(C22*C11*(1000+C12),0.7868))/C11,0) -> 0 | H14: NU/m2 | J14: Cenovni razred I | K14: =IFERROR((0.0331*POWER(C23*C11*(1000+C12),0.7868))/C11,0) -> 0 | L14: NU/m2
B15: Cenovni razred II | C15: =IFERROR((0.0392*POWER(C21*C11*(1000+C12),0.7872))/C11,0) -> 0 | D15: NU/m2 | F15: Cenovni razred II | G15: =IFERROR((0.0392*POWER(C22*C11*(1000+C12),0.7872))/C11,0) -> 0 | H15: NU/m2 | J15: Cenovni razred II | K15: =IFERROR((0.0392*POWER(C23*C11*(1000+C12),0.7872))/C11,0) -> 0 | L15: NU/m2
